BEGIN:VCALENDAR
VERSION:2.0
PRODID:-//Eagle Point Senior Living - ECPv6.11.2.1//NONSGML v1.0//EN
CALSCALE:GREGORIAN
METHOD:PUBLISH
X-WR-CALNAME:Eagle Point Senior Living
X-ORIGINAL-URL:https://eaglepointseniorliving.com
X-WR-CALDESC:Events for Eagle Point Senior Living
REFRESH-INTERVAL;VALUE=DURATION:PT1H
X-Robots-Tag:noindex
X-PUBLISHED-TTL:PT1H
BEGIN:VTIMEZONE
TZID:America/Chicago
BEGIN:DAYLIGHT
TZOFFSETFROM:-0600
TZOFFSETTO:-0500
TZNAME:CDT
DTSTART:20260308T080000
END:DAYLIGHT
BEGIN:STANDARD
TZOFFSETFROM:-0500
TZOFFSETTO:-0600
TZNAME:CST
DTSTART:20261101T070000
END:STANDARD
END:VTIMEZONE
BEGIN:VEVENT
DTSTART;TZID=America/Chicago:20260327T104500
DTEND;TZID=America/Chicago:20260327T114500
DTSTAMP:20260423T074356
CREATED:20260226T042637Z
LAST-MODIFIED:20260319T052425Z
UID:10004892-1774608300-1774611900@eaglepointseniorliving.com
SUMMARY:Living with Grief
DESCRIPTION:Chaplain Peter leads this support group for those living with grief and bereavement.
URL:https://eaglepointseniorliving.com/event-calendar/living-with-grief-3/
LOCATION:Private Dining Room (1st Floor)
CATEGORIES:Assisted Living
END:VEVENT
BEGIN:VEVENT
DTSTART;TZID=America/Chicago:20260227T104500
DTEND;TZID=America/Chicago:20260227T114500
DTSTAMP:20260423T074356
CREATED:20260129T032432Z
LAST-MODIFIED:20260227T042431Z
UID:10004432-1772189100-1772192700@eaglepointseniorliving.com
SUMMARY:Living with Grief
DESCRIPTION:Chaplain Peter leads this support group for those living with grief and bereavement.
URL:https://eaglepointseniorliving.com/event-calendar/living-with-grief-2/
LOCATION:Private Dining Room (1st Floor)
CATEGORIES:Assisted Living
END:VEVENT
BEGIN:VEVENT
DTSTART;TZID=America/Chicago:20260123T104500
DTEND;TZID=America/Chicago:20260123T114500
DTSTAMP:20260423T074356
CREATED:20260107T015427Z
LAST-MODIFIED:20260123T030937Z
UID:10004059-1769165100-1769168700@eaglepointseniorliving.com
SUMMARY:Living with Grief
DESCRIPTION:Chaplain Peter leads this support group for those living with grief and bereavement.
URL:https://eaglepointseniorliving.com/event-calendar/living-with-grief/
LOCATION:Private Dining Room (1st Floor)
CATEGORIES:Assisted Living
END:VEVENT
END:VCALENDAR