BEGIN:VCALENDAR
VERSION:2.0
PRODID:-//Eagle Point Senior Living - ECPv6.11.2.1//NONSGML v1.0//EN
CALSCALE:GREGORIAN
METHOD:PUBLISH
X-WR-CALNAME:Eagle Point Senior Living
X-ORIGINAL-URL:https://eaglepointseniorliving.com
X-WR-CALDESC:Events for Eagle Point Senior Living
REFRESH-INTERVAL;VALUE=DURATION:PT1H
X-Robots-Tag:noindex
X-PUBLISHED-TTL:PT1H
BEGIN:VTIMEZONE
TZID:America/Chicago
BEGIN:DAYLIGHT
TZOFFSETFROM:-0600
TZOFFSETTO:-0500
TZNAME:CDT
DTSTART:20260308T080000
END:DAYLIGHT
BEGIN:STANDARD
TZOFFSETFROM:-0500
TZOFFSETTO:-0600
TZNAME:CST
DTSTART:20261101T070000
END:STANDARD
END:VTIMEZONE
BEGIN:VEVENT
DTSTART;TZID=America/Chicago:20260310T140000
DTEND;TZID=America/Chicago:20260310T143000
DTSTAMP:20260421T061723
CREATED:20260209T040932Z
LAST-MODIFIED:20260310T043941Z
UID:10004621-1773151200-1773153000@eaglepointseniorliving.com
SUMMARY:Smoothie Tuesdays: Your Favorite Flavors in a Nutritious Drink
DESCRIPTION:Join us each Tuesday as we make fresh protein smoothies each week in the lobby at 2:00pm. Each week will be a different flavor!
URL:https://eaglepointseniorliving.com/event-calendar/smoothie-tuesdays-your-favorite-flavors-in-a-nutritious-drink-11/
LOCATION:Lobby (1st Floor)
CATEGORIES:Assisted Living
END:VEVENT
BEGIN:VEVENT
DTSTART;TZID=America/Chicago:20260309T104500
DTEND;TZID=America/Chicago:20260309T123000
DTSTAMP:20260421T061723
CREATED:20260208T035431Z
LAST-MODIFIED:20260309T043924Z
UID:10004600-1773053100-1773059400@eaglepointseniorliving.com
SUMMARY:Monday Morning Breakfast Outing-Angels (Sign up at Front Desk)
DESCRIPTION:Join us for breakfast at Angels\, just across the college avenue bridge. They offer a wide variety of breakfast items in a casual setting. Sign up at the front desk!
URL:https://eaglepointseniorliving.com/event-calendar/monday-morning-breakfast-outing-applet-valley-pancake-housesign-up-at-front-desk-2/
LOCATION:Lobby (1st Floor)
CATEGORIES:Assisted Living
END:VEVENT
BEGIN:VEVENT
DTSTART;TZID=America/Chicago:20260307T093000
DTEND;TZID=America/Chicago:20260307T103000
DTSTAMP:20260421T061723
CREATED:20260206T033938Z
LAST-MODIFIED:20260307T043925Z
UID:10004584-1772875800-1772879400@eaglepointseniorliving.com
SUMMARY:Saturday Morning Chat\, Coffee\, and Simple Simon Donuts!
DESCRIPTION:Enjoy conversation and fresh donuts from Simple Simon Bakery!
URL:https://eaglepointseniorliving.com/event-calendar/saturday-morning-chat-coffee-and-simple-simon-donuts-19/
LOCATION:Lobby (1st Floor)
CATEGORIES:Assisted Living
END:VEVENT
BEGIN:VEVENT
DTSTART;TZID=America/Chicago:20260306T150000
DTEND;TZID=America/Chicago:20260306T160000
DTSTAMP:20260421T061723
CREATED:20260205T033935Z
LAST-MODIFIED:20260306T042435Z
UID:10004564-1772809200-1772812800@eaglepointseniorliving.com
SUMMARY:Happy Hour with Roy Rogers (guitar and keyboard)
DESCRIPTION:This will be the first time Roy has played for us at Eagle Point. He plays a variety of fun oldies that will get your toes tapping! An opportunity to socialize with other community members.
URL:https://eaglepointseniorliving.com/event-calendar/happy-hour-with-roy-rogers-guitar-and-keyboard/
LOCATION:Lobby (1st Floor)
CATEGORIES:Assisted Living
END:VEVENT
BEGIN:VEVENT
DTSTART;TZID=America/Chicago:20260304T123000
DTEND;TZID=America/Chicago:20260304T133000
DTSTAMP:20260421T061723
CREATED:20260203T032431Z
LAST-MODIFIED:20260304T042423Z
UID:10004527-1772627400-1772631000@eaglepointseniorliving.com
SUMMARY:Lawrence Music Students Perform: Bassoons
DESCRIPTION:The very talented Lawrence University music students (bassoons) will perform for us.
URL:https://eaglepointseniorliving.com/event-calendar/lawrence-music-students-perform-bassoons/
LOCATION:Lobby (1st Floor)
CATEGORIES:Assisted Living
END:VEVENT
BEGIN:VEVENT
DTSTART;TZID=America/Chicago:20260303T140000
DTEND;TZID=America/Chicago:20260303T143000
DTSTAMP:20260421T061723
CREATED:20260202T032431Z
LAST-MODIFIED:20260303T042425Z
UID:10004508-1772546400-1772548200@eaglepointseniorliving.com
SUMMARY:Smoothie Tuesdays: Your Favorite Flavors in a Nutritious Drink
DESCRIPTION:Join us each Tuesday as we make fresh protein smoothies each week in the lobby at 2:00pm. Each week will be a different flavor!
URL:https://eaglepointseniorliving.com/event-calendar/smoothie-tuesdays-your-favorite-flavors-in-a-nutritious-drink-10/
LOCATION:Lobby (1st Floor)
CATEGORIES:Assisted Living
END:VEVENT
BEGIN:VEVENT
DTSTART;TZID=America/Chicago:20260303T124500
DTEND;TZID=America/Chicago:20260303T140000
DTSTAMP:20260421T061723
CREATED:20260202T032431Z
LAST-MODIFIED:20260303T042425Z
UID:10004506-1772541900-1772546400@eaglepointseniorliving.com
SUMMARY:TRYathlon-Walk (Whizzer) Day! All residents invited to participate!
DESCRIPTION:All residents are invited to participate in the Lifespark TRYathlon! The competition is held on Tuesdays and Thursdays at 1:00 PM. We compete against other Lifespark communities in a fun challenge of walking (all abilities welcome)\, arm crank\, and leg crank. Fridays at 1:00 we watch The Really Big Show to find out our standings in the competition.
URL:https://eaglepointseniorliving.com/event-calendar/tryathlon-walk-whizzer-day-all-residents-invited-to-participate-5/
LOCATION:Lobby (1st Floor)
CATEGORIES:Assisted Living
END:VEVENT
BEGIN:VEVENT
DTSTART;TZID=America/Chicago:20260302T130000
DTEND;TZID=America/Chicago:20260302T140000
DTSTAMP:20260421T061723
CREATED:20260201T032429Z
LAST-MODIFIED:20260302T042423Z
UID:10004491-1772456400-1772460000@eaglepointseniorliving.com
SUMMARY:Grocery Outing: Pick N Save
DESCRIPTION:Sign up at the front desk. Please arrive in the lobby by 12:50 PM so we can load and leave by 1:00 PM. We need at least three to sign up to make the trip. Thank you!
URL:https://eaglepointseniorliving.com/event-calendar/grocery-outing-15/
LOCATION:Lobby (1st Floor)
CATEGORIES:Assisted Living
END:VEVENT
BEGIN:VEVENT
DTSTART;TZID=America/Chicago:20260228T093000
DTEND;TZID=America/Chicago:20260228T103000
DTSTAMP:20260421T061723
CREATED:20260130T032500Z
LAST-MODIFIED:20260228T042424Z
UID:10004446-1772271000-1772274600@eaglepointseniorliving.com
SUMMARY:Saturday Morning Chat\, Coffee\, and Simple Simon Donuts!
DESCRIPTION:Enjoy conversation and fresh donuts from Simple Simon Bakery!
URL:https://eaglepointseniorliving.com/event-calendar/saturday-morning-chat-coffee-and-simple-simon-donuts-18/
LOCATION:Lobby (1st Floor)
CATEGORIES:Assisted Living
END:VEVENT
BEGIN:VEVENT
DTSTART;TZID=America/Chicago:20260227T104500
DTEND;TZID=America/Chicago:20260227T113000
DTSTAMP:20260421T061723
CREATED:20260207T035432Z
LAST-MODIFIED:20260227T042431Z
UID:10004593-1772189100-1772191800@eaglepointseniorliving.com
SUMMARY:Appleton Public Library Outing
DESCRIPTION:We will head to the Appleton Public Library. Please sign up at the front desk and gather in the lobby at or before 10:45 AM. We will leave as soon as all are gathered.
URL:https://eaglepointseniorliving.com/event-calendar/appleton-public-library-outing/
LOCATION:Lobby (1st Floor)
CATEGORIES:Assisted Living
END:VEVENT
BEGIN:VEVENT
DTSTART;TZID=America/Chicago:20260225T123000
DTEND;TZID=America/Chicago:20260225T133000
DTSTAMP:20260421T061723
CREATED:20260127T030931Z
LAST-MODIFIED:20260225T042429Z
UID:10004400-1772022600-1772026200@eaglepointseniorliving.com
SUMMARY:Trombone Ensemble from Lawrence University
DESCRIPTION:You don’t want to miss the trombones from Lawrence University! These students are top notch and always play a variety of interesting music.
URL:https://eaglepointseniorliving.com/event-calendar/trombone-ensemble-from-lawrence-university/
LOCATION:Lobby (1st Floor)
CATEGORIES:Assisted Living
END:VEVENT
BEGIN:VEVENT
DTSTART;TZID=America/Chicago:20260224T140000
DTEND;TZID=America/Chicago:20260224T143000
DTSTAMP:20260421T061723
CREATED:20260126T030933Z
LAST-MODIFIED:20260224T042431Z
UID:10004383-1771941600-1771943400@eaglepointseniorliving.com
SUMMARY:Smoothie Tuesdays: Your Favorite Flavors in a Nutritious Drink
DESCRIPTION:Join us each Tuesday as we make fresh protein smoothies each week in the lobby at 2:00pm. Each week will be a different flavor!
URL:https://eaglepointseniorliving.com/event-calendar/smoothie-tuesdays-your-favorite-flavors-in-a-nutritious-drink-9/
LOCATION:Lobby (1st Floor)
CATEGORIES:Assisted Living
END:VEVENT
BEGIN:VEVENT
DTSTART;TZID=America/Chicago:20260224T124500
DTEND;TZID=America/Chicago:20260224T140000
DTSTAMP:20260421T061723
CREATED:20260126T030933Z
LAST-MODIFIED:20260224T042431Z
UID:10004381-1771937100-1771941600@eaglepointseniorliving.com
SUMMARY:TRYathlon-Walk (Whizzer) Day! All residents invited to participate!
DESCRIPTION:All residents are invited to participate in the Lifespark TRYathlon! The competition is held on Tuesdays and Thursdays at 1:00 PM. We compete against other Lifespark communities in a fun challenge of walking (all abilities welcome)\, arm crank\, and leg crank. Fridays at 1:00 we watch The Really Big Show to find out our standings in the competition.
URL:https://eaglepointseniorliving.com/event-calendar/tryathlon-walk-whizzer-day-all-residents-invited-to-participate-4/
LOCATION:Lobby (1st Floor)
CATEGORIES:Assisted Living
END:VEVENT
BEGIN:VEVENT
DTSTART;TZID=America/Chicago:20260223T104500
DTEND;TZID=America/Chicago:20260223T123000
DTSTAMP:20260421T061723
CREATED:20260125T030932Z
LAST-MODIFIED:20260223T042424Z
UID:10004360-1771843500-1771849800@eaglepointseniorliving.com
SUMMARY:Monday Morning Breakfast Outing: Galvans (Sign up at Front Desk)
DESCRIPTION:Join us for breakfast at Galavan’s. They offer a wide variety of breakfast items in a casual setting. Sign up at the front desk! We will load at 10:45 AM and leave as soon as all signed up are loaded.
URL:https://eaglepointseniorliving.com/event-calendar/monday-morning-breakfast-outing-galvans-sign-up-at-front-desk/
LOCATION:Lobby (1st Floor)
CATEGORIES:Assisted Living
END:VEVENT
BEGIN:VEVENT
DTSTART;TZID=America/Chicago:20260221T130000
DTEND;TZID=America/Chicago:20260221T140000
DTSTAMP:20260421T061723
CREATED:20260130T032458Z
LAST-MODIFIED:20260221T042425Z
UID:10004445-1771678800-1771682400@eaglepointseniorliving.com
SUMMARY:Karaoke with Jen Z! Sing along to standards and classic country tunes.
DESCRIPTION:The lyrics will be displayed on the TV and all you have to do is sing along! Jen Z will sing along or go solo depending on how many want to take turns being in the spotlight! Or just come to listen. Everyone welcome to join in the fun!!
URL:https://eaglepointseniorliving.com/event-calendar/karaoke-with-jen-z-sing-along-to-standards-and-classic-country-tunes/
LOCATION:Lobby (1st Floor)
CATEGORIES:Assisted Living
END:VEVENT
BEGIN:VEVENT
DTSTART;TZID=America/Chicago:20260221T093000
DTEND;TZID=America/Chicago:20260221T103000
DTSTAMP:20260421T061723
CREATED:20260126T030932Z
LAST-MODIFIED:20260221T042425Z
UID:10004377-1771666200-1771669800@eaglepointseniorliving.com
SUMMARY:Saturday Morning Chat\, Coffee\, and Simple Simon Donuts!
DESCRIPTION:Enjoy conversation and fresh donuts from Simple Simon Bakery!
URL:https://eaglepointseniorliving.com/event-calendar/saturday-morning-chat-coffee-and-simple-simon-donuts-17/
LOCATION:Lobby (1st Floor)
CATEGORIES:Assisted Living
END:VEVENT
BEGIN:VEVENT
DTSTART;TZID=America/Chicago:20260220T150000
DTEND;TZID=America/Chicago:20260220T160000
DTSTAMP:20260421T061723
CREATED:20260122T025447Z
LAST-MODIFIED:20260220T042424Z
UID:10004324-1771599600-1771603200@eaglepointseniorliving.com
SUMMARY:Happy Hour and music with ELVIS!
DESCRIPTION:Get ready to shake\, rattle\, and roll–  Elvis (AKA John Harginski) is coming to Eagle Point to bring the King’s greatest hits (and hip swivels) to life! He’ll have residents all shook up with laughter\, singing\, and toe-tapping fun as he entertains us with classic Elvis charm.
URL:https://eaglepointseniorliving.com/event-calendar/happy-hour-and-music-with-elvis/
LOCATION:Lobby (1st Floor)
CATEGORIES:Assisted Living
END:VEVENT
BEGIN:VEVENT
DTSTART;TZID=America/Chicago:20260219T164500
DTEND;TZID=America/Chicago:20260219T183000
DTSTAMP:20260421T061723
CREATED:20260206T033933Z
LAST-MODIFIED:20260219T042425Z
UID:10004581-1771519500-1771525800@eaglepointseniorliving.com
SUMMARY:Dinner Outing to Victoria's
DESCRIPTION:Sign up required at the front desk. Max 11. Dawn will load the bus promptly at 4:45 PM and depart by 5:00 PM or earlier if everyone is ready.
URL:https://eaglepointseniorliving.com/event-calendar/dinner-outing-to-victorias/
LOCATION:Lobby (1st Floor)
CATEGORIES:Assisted Living
END:VEVENT
BEGIN:VEVENT
DTSTART;TZID=America/Chicago:20260217T140000
DTEND;TZID=America/Chicago:20260217T143000
DTSTAMP:20260421T061723
CREATED:20260119T024100Z
LAST-MODIFIED:20260217T042436Z
UID:10004261-1771336800-1771338600@eaglepointseniorliving.com
SUMMARY:Smoothie Tuesdays: Your Favorite Flavors in a Nutritious Drink
DESCRIPTION:Join us each Tuesday as we make fresh protein smoothies each week in the lobby at 2:00pm. Each week will be a different flavor!
URL:https://eaglepointseniorliving.com/event-calendar/smoothie-tuesdays-your-favorite-flavors-in-a-nutritious-drink-8/
LOCATION:Lobby (1st Floor)
CATEGORIES:Assisted Living
END:VEVENT
BEGIN:VEVENT
DTSTART;TZID=America/Chicago:20260217T124500
DTEND;TZID=America/Chicago:20260217T140000
DTSTAMP:20260421T061723
CREATED:20260119T024059Z
LAST-MODIFIED:20260217T042436Z
UID:10004259-1771332300-1771336800@eaglepointseniorliving.com
SUMMARY:TRYathlon-Walk (Whizzer) Day! All residents invited to participate!
DESCRIPTION:All residents are invited to participate in the Lifespark TRYathlon! The competition is held on Tuesdays and Thursdays at 1:00 PM. We compete against other Lifespark communities in a fun challenge of walking (all abilities welcome)\, arm crank\, and leg crank. Fridays at 1:00 we watch The Really Big Show to find out our standings in the competition.
URL:https://eaglepointseniorliving.com/event-calendar/tryathlon-walk-whizzer-day-all-residents-invited-to-participate-3/
LOCATION:Lobby (1st Floor)
CATEGORIES:Assisted Living
END:VEVENT
BEGIN:VEVENT
DTSTART;TZID=America/Chicago:20260216T130000
DTEND;TZID=America/Chicago:20260216T140000
DTSTAMP:20260421T061723
CREATED:20260118T022448Z
LAST-MODIFIED:20260216T042425Z
UID:10004244-1771246800-1771250400@eaglepointseniorliving.com
SUMMARY:Grocery Outing: Meijer
DESCRIPTION:Sign up at the front desk. We need at least three to sign up to make the trip. Thank you!
URL:https://eaglepointseniorliving.com/event-calendar/grocery-outing-meijer-3/
LOCATION:Lobby (1st Floor)
CATEGORIES:Assisted Living
END:VEVENT
BEGIN:VEVENT
DTSTART;TZID=America/Chicago:20260215T140000
DTEND;TZID=America/Chicago:20260215T150000
DTSTAMP:20260421T061723
CREATED:20260117T022436Z
LAST-MODIFIED:20260215T042430Z
UID:10004235-1771164000-1771167600@eaglepointseniorliving.com
SUMMARY:Maris de Oliveira on the violin playing romantic melodies for Valentine's Day
DESCRIPTION:Marisa de Oliveira will charm you with her beautiful violin performance. Enjoy her soothing music in the Lobby!
URL:https://eaglepointseniorliving.com/event-calendar/maris-de-oliveira-on-the-violin-playing-romantic-melodies-for-valentines-day/
LOCATION:Lobby (1st Floor)
CATEGORIES:Assisted Living
END:VEVENT
BEGIN:VEVENT
DTSTART;TZID=America/Chicago:20260214T150000
DTEND;TZID=America/Chicago:20260214T160000
DTSTAMP:20260421T061723
CREATED:20260116T022438Z
LAST-MODIFIED:20260214T042423Z
UID:10004227-1771081200-1771084800@eaglepointseniorliving.com
SUMMARY:Sunshine Singers: VALENTINE EDITION of Lovesongs
DESCRIPTION:Enjoy the beautiful music of our own resident Jennifer Z\, and her band of merry music makers\, the Sunshine Singers! They will have special songs of love!
URL:https://eaglepointseniorliving.com/event-calendar/sunshine-singers-valentines-edition/
LOCATION:Lobby (1st Floor)
CATEGORIES:Assisted Living
END:VEVENT
BEGIN:VEVENT
DTSTART;TZID=America/Chicago:20260214T093000
DTEND;TZID=America/Chicago:20260214T103000
DTSTAMP:20260421T061723
CREATED:20260126T030930Z
LAST-MODIFIED:20260214T042423Z
UID:10004376-1771061400-1771065000@eaglepointseniorliving.com
SUMMARY:Saturday Morning Chat\, Coffee\, and Simple Simon Donuts!
DESCRIPTION:Enjoy conversation and fresh donuts from Simple Simon Bakery!
URL:https://eaglepointseniorliving.com/event-calendar/saturday-morning-chat-coffee-and-simple-simon-donuts-16/
LOCATION:Lobby (1st Floor)
CATEGORIES:Assisted Living
END:VEVENT
BEGIN:VEVENT
DTSTART;TZID=America/Chicago:20260210T140000
DTEND;TZID=America/Chicago:20260210T143000
DTSTAMP:20260421T061723
CREATED:20260112T015435Z
LAST-MODIFIED:20260210T042424Z
UID:10004149-1770732000-1770733800@eaglepointseniorliving.com
SUMMARY:Smoothie Tuesdays: Your Favorite Flavors in a Nutritious Drink
DESCRIPTION:Join us each Tuesday as we make fresh protein smoothies each week in the lobby at 2:00pm. Each week will be a different flavor!
URL:https://eaglepointseniorliving.com/event-calendar/smoothie-tuesdays-your-favorite-flavors-in-a-nutritious-drink-7/
LOCATION:Lobby (1st Floor)
CATEGORIES:Assisted Living
END:VEVENT
BEGIN:VEVENT
DTSTART;TZID=America/Chicago:20260210T124500
DTEND;TZID=America/Chicago:20260210T140000
DTSTAMP:20260421T061723
CREATED:20260112T015435Z
LAST-MODIFIED:20260210T042424Z
UID:10004147-1770727500-1770732000@eaglepointseniorliving.com
SUMMARY:TRYathlon-Walk (Whizzer) Day! All residents invited to participate!
DESCRIPTION:All residents are invited to participate in the Lifespark TRYathlon! The competition is held on Tuesdays and Thursdays at 1:00 PM. We compete against other Lifespark communities in a fun challenge of walking (all abilities welcome)\, arm crank\, and leg crank. Fridays at 1:00 we watch The Really Big Show to find out our standings in the competition.
URL:https://eaglepointseniorliving.com/event-calendar/tryathlon-walk-whizzer-day-all-residents-invited-to-participate-2/
LOCATION:Lobby (1st Floor)
CATEGORIES:Assisted Living
END:VEVENT
BEGIN:VEVENT
DTSTART;TZID=America/Chicago:20260209T104500
DTEND;TZID=America/Chicago:20260209T123000
DTSTAMP:20260421T061723
CREATED:20260113T020929Z
LAST-MODIFIED:20260209T040923Z
UID:10004164-1770633900-1770640200@eaglepointseniorliving.com
SUMMARY:Monday Morning Breakfast: Angels Restaurant (Sign up at Front Desk)
DESCRIPTION:Join us for breakfast at Angels\, just across the college avenue bridge. They offer a wide variety of breakfast items in a casual setting. Sign up at the front desk!
URL:https://eaglepointseniorliving.com/event-calendar/monday-morning-breakfast-outing-applet-valley-pancake-housesign-up-at-front-desk/
LOCATION:Lobby (1st Floor)
CATEGORIES:Assisted Living
END:VEVENT
BEGIN:VEVENT
DTSTART;TZID=America/Chicago:20260208T143000
DTEND;TZID=America/Chicago:20260208T153000
DTSTAMP:20260421T061723
CREATED:20260203T032422Z
LAST-MODIFIED:20260208T035424Z
UID:10004522-1770561000-1770564600@eaglepointseniorliving.com
SUMMARY:Annika Schmidt performance on cello
DESCRIPTION:Annika Schmidt will be performing on her cello with a few songs accompanied by piano. She will have an intermission between songs.
URL:https://eaglepointseniorliving.com/event-calendar/annika-schmidt-performance-on-cello/
LOCATION:Lobby (1st Floor)
CATEGORIES:Assisted Living
END:VEVENT
BEGIN:VEVENT
DTSTART;TZID=America/Chicago:20260207T093000
DTEND;TZID=America/Chicago:20260207T103000
DTSTAMP:20260421T061723
CREATED:20260126T030928Z
LAST-MODIFIED:20260207T035427Z
UID:10004375-1770456600-1770460200@eaglepointseniorliving.com
SUMMARY:Saturday Morning Chat\, Coffee\, and Simple Simon Donuts!
DESCRIPTION:Enjoy conversation and fresh donuts from Simple Simon Bakery!
URL:https://eaglepointseniorliving.com/event-calendar/saturday-morning-chat-coffee-and-simple-simon-donuts-15/
LOCATION:Lobby (1st Floor)
CATEGORIES:Assisted Living
END:VEVENT
BEGIN:VEVENT
DTSTART;TZID=America/Chicago:20260206T150000
DTEND;TZID=America/Chicago:20260206T160000
DTSTAMP:20260421T061723
CREATED:20260108T015510Z
LAST-MODIFIED:20260206T033930Z
UID:10004085-1770390000-1770393600@eaglepointseniorliving.com
SUMMARY:Happy Hour with Sarah and Arthur: Harp and Cello
DESCRIPTION:Sarah\, on harp\, and Arthur\, on cello\, offer a gentle\, engaging mix of familiar melodies\, light classical\, folk\, and sing-along–friendly pieces\, with a warm and relaxed presence that listeners tend to really enjoy.
URL:https://eaglepointseniorliving.com/event-calendar/happy-hour-with-sarah-and-arthur/
LOCATION:Lobby (1st Floor)
CATEGORIES:Assisted Living
END:VEVENT
END:VCALENDAR