BEGIN:VCALENDAR
VERSION:2.0
PRODID:-//Eagle Point Senior Living - ECPv6.11.2.1//NONSGML v1.0//EN
CALSCALE:GREGORIAN
METHOD:PUBLISH
X-ORIGINAL-URL:https://eaglepointseniorliving.com
X-WR-CALDESC:Events for Eagle Point Senior Living
REFRESH-INTERVAL;VALUE=DURATION:PT1H
X-Robots-Tag:noindex
X-PUBLISHED-TTL:PT1H
BEGIN:VTIMEZONE
TZID:America/Chicago
BEGIN:DAYLIGHT
TZOFFSETFROM:-0600
TZOFFSETTO:-0500
TZNAME:CDT
DTSTART:20260308T080000
END:DAYLIGHT
BEGIN:STANDARD
TZOFFSETFROM:-0500
TZOFFSETTO:-0600
TZNAME:CST
DTSTART:20261101T070000
END:STANDARD
END:VTIMEZONE
BEGIN:VEVENT
DTSTART;TZID=America/Chicago:20260417T150000
DTEND;TZID=America/Chicago:20260417T160000
DTSTAMP:20260421T015211
CREATED:20260319T052433Z
LAST-MODIFIED:20260319T052433Z
UID:10005235-1776438000-1776441600@eaglepointseniorliving.com
SUMMARY:Happy Hour with Stelly & Morgy
DESCRIPTION:Enjoy soft rock\, folk\, and other standard music from the 50s\, 60s and 70s. Stelly and Morgy will delight us with a large selection of music. Share a beverage\, snack\, and an opportunity for socialization with other community members.
URL:https://eaglepointseniorliving.com/event-calendar/happy-hour-with-stelly-morgy/
LOCATION:Lobby (1st Floor)
CATEGORIES:Assisted Living
END:VEVENT
BEGIN:VEVENT
DTSTART;TZID=America/Chicago:20260416T170000
DTEND;TZID=America/Chicago:20260416T190000
DTSTAMP:20260421T015211
CREATED:20260318T052436Z
LAST-MODIFIED:20260319T052433Z
UID:10005215-1776358800-1776366000@eaglepointseniorliving.com
SUMMARY:Outing to Dinner at Fratellos with Dawn
DESCRIPTION:Sign up required at the front desk. Max 11. Dawn will load the bus promptly at 4:45 PM and depart by 5:00 PM or earlier if everyone is ready.
URL:https://eaglepointseniorliving.com/event-calendar/outing-to-dinner-at-fratellos-with-dawn/
LOCATION:Lobby (1st Floor)
CATEGORIES:Assisted Living
END:VEVENT
BEGIN:VEVENT
DTSTART;TZID=America/Chicago:20260415T104500
DTEND;TZID=America/Chicago:20260415T114500
DTSTAMP:20260421T015211
CREATED:20260317T052435Z
LAST-MODIFIED:20260319T052432Z
UID:10005184-1776249900-1776253500@eaglepointseniorliving.com
SUMMARY:Wednesday Wanderings-The Bulk=Priced Food Shoppe\, Greenville
DESCRIPTION:Bulk pricing on 4\,000+ food items!  Gifts\, snacks\, specialty foods and items
URL:https://eaglepointseniorliving.com/event-calendar/wednesday-wanderings-the-bulkpriced-food-shoppe-greenville/
LOCATION:Lobby (1st Floor)
CATEGORIES:Assisted Living
END:VEVENT
BEGIN:VEVENT
DTSTART;TZID=America/Chicago:20260414T140000
DTEND;TZID=America/Chicago:20260414T143000
DTSTAMP:20260421T015211
CREATED:20260316T052436Z
LAST-MODIFIED:20260319T052432Z
UID:10005163-1776175200-1776177000@eaglepointseniorliving.com
SUMMARY:Smoothie Tuesdays: Your Favorite Flavors in a Nutritious Drink
DESCRIPTION:Join us each Tuesday as we make fresh protein smoothies each week in the lobby at 2:00pm. Each week will be a different flavor!
URL:https://eaglepointseniorliving.com/event-calendar/smoothie-tuesdays-your-favorite-flavors-in-a-nutritious-drink-16/
LOCATION:Lobby (1st Floor)
CATEGORIES:Assisted Living
END:VEVENT
BEGIN:VEVENT
DTSTART;TZID=America/Chicago:20260413T104500
DTEND;TZID=America/Chicago:20260413T123000
DTSTAMP:20260421T015212
CREATED:20260315T051051Z
LAST-MODIFIED:20260319T052431Z
UID:10005143-1776077100-1776083400@eaglepointseniorliving.com
SUMMARY:Monday Morning Breakfast Outing-Angels (Sign up at Front Desk)
DESCRIPTION:Join us for breakfast at Angels\, just across the college avenue bridge. They offer a wide variety of breakfast items in a casual setting. Sign up at the front desk!
URL:https://eaglepointseniorliving.com/event-calendar/monday-morning-breakfast-outing-angels-sign-up-at-front-desk/
LOCATION:Lobby (1st Floor)
CATEGORIES:Assisted Living
END:VEVENT
BEGIN:VEVENT
DTSTART;TZID=America/Chicago:20260412T140000
DTEND;TZID=America/Chicago:20260412T150000
DTSTAMP:20260421T015212
CREATED:20260314T050938Z
LAST-MODIFIED:20260319T052431Z
UID:10005138-1776002400-1776006000@eaglepointseniorliving.com
SUMMARY:Sunday music session with Colin
DESCRIPTION:Enjoy the tunes by Colin.
URL:https://eaglepointseniorliving.com/event-calendar/sunday-music-session-with-colin/
LOCATION:Lobby (1st Floor)
CATEGORIES:Assisted Living
END:VEVENT
BEGIN:VEVENT
DTSTART;TZID=America/Chicago:20260411T093000
DTEND;TZID=America/Chicago:20260411T103000
DTSTAMP:20260421T015212
CREATED:20260313T050025Z
LAST-MODIFIED:20260319T052430Z
UID:10005121-1775899800-1775903400@eaglepointseniorliving.com
SUMMARY:Saturday Morning Chat\, Coffee\, and Simple Simon Donuts!
DESCRIPTION:Enjoy conversation and fresh donuts from Simple Simon Bakery!
URL:https://eaglepointseniorliving.com/event-calendar/saturday-morning-chat-coffee-and-simple-simon-donuts-24/
LOCATION:Lobby (1st Floor)
CATEGORIES:Assisted Living
END:VEVENT
BEGIN:VEVENT
DTSTART;TZID=America/Chicago:20260410T150000
DTEND;TZID=America/Chicago:20260410T160000
DTSTAMP:20260421T015212
CREATED:20260312T044709Z
LAST-MODIFIED:20260319T052430Z
UID:10005099-1775833200-1775836800@eaglepointseniorliving.com
SUMMARY:Happy Hour with Rob Molskness on guitar
DESCRIPTION:Rob always plays a variety of classics on his guitar! Enjoy a beverage and socialize with your neighbors. Rob always sticks around to chat after–he loves to catchup with all of you!
URL:https://eaglepointseniorliving.com/event-calendar/happy-hour-with-rob-molskness-on-guitar/
LOCATION:Lobby (1st Floor)
CATEGORIES:Assisted Living
END:VEVENT
BEGIN:VEVENT
DTSTART;TZID=America/Chicago:20260409T140000
DTEND;TZID=America/Chicago:20260409T150000
DTSTAMP:20260421T015212
CREATED:20260317T052433Z
LAST-MODIFIED:20260319T052430Z
UID:10005180-1775743200-1775746800@eaglepointseniorliving.com
SUMMARY:Outing to Simple Simon Bakery
DESCRIPTION:Dawn Ebert\, owner of Simple Simon Bakery\, visited us\, and we are all excited to check out the freshly baked goods. We will board the bus at 10:30 AM and take a short trip to check out the homemade goodies for purchase. SIGN UP at the front desk!
URL:https://eaglepointseniorliving.com/event-calendar/outing-to-simple-simon-bakery-3/
LOCATION:Lobby (1st Floor)
CATEGORIES:Assisted Living
END:VEVENT
BEGIN:VEVENT
DTSTART;TZID=America/Chicago:20260407T140000
DTEND;TZID=America/Chicago:20260407T143000
DTSTAMP:20260421T015212
CREATED:20260309T043941Z
LAST-MODIFIED:20260319T052429Z
UID:10005046-1775570400-1775572200@eaglepointseniorliving.com
SUMMARY:Smoothie Tuesdays: Your Favorite Flavors in a Nutritious Drink
DESCRIPTION:Join us each Tuesday as we make fresh protein smoothies each week in the lobby at 2:00pm. Each week will be a different flavor!
URL:https://eaglepointseniorliving.com/event-calendar/smoothie-tuesdays-your-favorite-flavors-in-a-nutritious-drink-15/
LOCATION:Lobby (1st Floor)
CATEGORIES:Assisted Living
END:VEVENT
BEGIN:VEVENT
DTSTART;TZID=America/Chicago:20260406T130000
DTEND;TZID=America/Chicago:20260406T140000
DTSTAMP:20260421T015212
CREATED:20260308T043945Z
LAST-MODIFIED:20260319T052428Z
UID:10005032-1775480400-1775484000@eaglepointseniorliving.com
SUMMARY:NOTE: Grocery Outing: Festival--MOVED TO TUESDAY
DESCRIPTION:MOVED TO TUESDAY 4/7 at 1:00 PM. Sign up at the front desk. Please arrive in the lobby by 12:50 PM so we can load and leave by 1:00 PM. We need at least three to sign up to make the trip. Thank you!
URL:https://eaglepointseniorliving.com/event-calendar/grocery-outing-festival-4/
LOCATION:Lobby (1st Floor)
CATEGORIES:Assisted Living
END:VEVENT
BEGIN:VEVENT
DTSTART;TZID=America/Chicago:20260404T093000
DTEND;TZID=America/Chicago:20260404T103000
DTSTAMP:20260421T015212
CREATED:20260306T042444Z
LAST-MODIFIED:20260319T052428Z
UID:10005012-1775295000-1775298600@eaglepointseniorliving.com
SUMMARY:Saturday Morning Chat\, Coffee\, and Simple Simon Donuts!
DESCRIPTION:Enjoy conversation and fresh donuts from Simple Simon Bakery!
URL:https://eaglepointseniorliving.com/event-calendar/saturday-morning-chat-coffee-and-simple-simon-donuts-23/
LOCATION:Lobby (1st Floor)
CATEGORIES:Assisted Living
END:VEVENT
BEGIN:VEVENT
DTSTART;TZID=America/Chicago:20260331T140000
DTEND;TZID=America/Chicago:20260331T143000
DTSTAMP:20260421T015212
CREATED:20260302T042433Z
LAST-MODIFIED:20260319T052426Z
UID:10004938-1774965600-1774967400@eaglepointseniorliving.com
SUMMARY:Smoothie Tuesdays: Your Favorite Flavors in a Nutritious Drink
DESCRIPTION:Join us each Tuesday as we make fresh protein smoothies each week in the lobby at 2:00pm. Each week will be a different flavor!
URL:https://eaglepointseniorliving.com/event-calendar/smoothie-tuesdays-your-favorite-flavors-in-a-nutritious-drink-14/
LOCATION:Lobby (1st Floor)
CATEGORIES:Assisted Living
END:VEVENT
BEGIN:VEVENT
DTSTART;TZID=America/Chicago:20260328T093000
DTEND;TZID=America/Chicago:20260328T103000
DTSTAMP:20260421T015212
CREATED:20260227T042440Z
LAST-MODIFIED:20260319T052425Z
UID:10004909-1774690200-1774693800@eaglepointseniorliving.com
SUMMARY:Saturday Morning Chat\, Coffee\, and Simple Simon Donuts!
DESCRIPTION:Enjoy conversation and fresh donuts from Simple Simon Bakery!
URL:https://eaglepointseniorliving.com/event-calendar/saturday-morning-chat-coffee-and-simple-simon-donuts-22/
LOCATION:Lobby (1st Floor)
CATEGORIES:Assisted Living
END:VEVENT
BEGIN:VEVENT
DTSTART;TZID=America/Chicago:20260327T104500
DTEND;TZID=America/Chicago:20260327T113000
DTSTAMP:20260421T015212
CREATED:20260226T042637Z
LAST-MODIFIED:20260319T052425Z
UID:10004891-1774608300-1774611000@eaglepointseniorliving.com
SUMMARY:Appleton Public Library
DESCRIPTION:
URL:https://eaglepointseniorliving.com/event-calendar/appleton-public-library-7/
LOCATION:Lobby (1st Floor)
CATEGORIES:Assisted Living
END:VEVENT
BEGIN:VEVENT
DTSTART;TZID=America/Chicago:20260326T150000
DTEND;TZID=America/Chicago:20260326T160000
DTSTAMP:20260421T015212
CREATED:20260225T042438Z
LAST-MODIFIED:20260319T052424Z
UID:10004862-1774537200-1774540800@eaglepointseniorliving.com
SUMMARY:Music with Still Crusin'\, Donn & Patty Krug
DESCRIPTION:Donn & Patty Krug have been playing at Eagle Point every year! They were here to kick off our 2025 Summer Concert series. Still Cruisin’ plays a variety of your favorite songs!
URL:https://eaglepointseniorliving.com/event-calendar/music-with-still-crusin-donn-patty-krug/
LOCATION:Lobby (1st Floor)
CATEGORIES:Assisted Living
END:VEVENT
BEGIN:VEVENT
DTSTART;TZID=America/Chicago:20260324T140000
DTEND;TZID=America/Chicago:20260324T143000
DTSTAMP:20260421T015212
CREATED:20260223T042432Z
LAST-MODIFIED:20260319T052423Z
UID:10004826-1774360800-1774362600@eaglepointseniorliving.com
SUMMARY:Smoothie Tuesdays: Your Favorite Flavors in a Nutritious Drink
DESCRIPTION:Join us each Tuesday as we make fresh protein smoothies each week in the lobby at 2:00pm. Each week will be a different flavor!
URL:https://eaglepointseniorliving.com/event-calendar/smoothie-tuesdays-your-favorite-flavors-in-a-nutritious-drink-13/
LOCATION:Lobby (1st Floor)
CATEGORIES:Assisted Living
END:VEVENT
BEGIN:VEVENT
DTSTART;TZID=America/Chicago:20260324T130000
DTEND;TZID=America/Chicago:20260324T140000
DTSTAMP:20260421T015212
CREATED:20260304T042430Z
LAST-MODIFIED:20260319T052423Z
UID:10004972-1774357200-1774360800@eaglepointseniorliving.com
SUMMARY:TRYathlon: World Championships
DESCRIPTION:World Championship!
URL:https://eaglepointseniorliving.com/event-calendar/tryathlon-world-championships-2/
LOCATION:Lobby (1st Floor)
CATEGORIES:Assisted Living
END:VEVENT
BEGIN:VEVENT
DTSTART;TZID=America/Chicago:20260323T104500
DTEND;TZID=America/Chicago:20260323T123000
DTSTAMP:20260421T015212
CREATED:20260222T042437Z
LAST-MODIFIED:20260319T052422Z
UID:10004808-1774262700-1774269000@eaglepointseniorliving.com
SUMMARY:Monday Morning Breakfast Outing-Black Bear(Sign up at Front Desk)
DESCRIPTION:
URL:https://eaglepointseniorliving.com/event-calendar/monday-morning-breakfast-outing-black-bearsign-up-at-front-desk/
LOCATION:Lobby (1st Floor)
CATEGORIES:Assisted Living
END:VEVENT
BEGIN:VEVENT
DTSTART;TZID=America/Chicago:20260321T093000
DTEND;TZID=America/Chicago:20260321T103000
DTSTAMP:20260421T015212
CREATED:20260220T042433Z
LAST-MODIFIED:20260319T052422Z
UID:10004788-1774085400-1774089000@eaglepointseniorliving.com
SUMMARY:Saturday Morning Chat\, Coffee\, and Simple Simon Donuts!
DESCRIPTION:Enjoy conversation and fresh donuts from Simple Simon Bakery!
URL:https://eaglepointseniorliving.com/event-calendar/saturday-morning-chat-coffee-and-simple-simon-donuts-21/
LOCATION:Lobby (1st Floor)
CATEGORIES:Assisted Living
END:VEVENT
BEGIN:VEVENT
DTSTART;TZID=America/Chicago:20260320T150000
DTEND;TZID=America/Chicago:20260320T160000
DTSTAMP:20260421T015212
CREATED:20260219T042435Z
LAST-MODIFIED:20260319T052422Z
UID:10004774-1774018800-1774022400@eaglepointseniorliving.com
SUMMARY:Happy Hour with Jim & Nancy
DESCRIPTION:Jim ‘n’ Nancy performed over 1000 gigs in their 15 years together. Audiences of all ages love them for their personable\, energetic and fun performances. They’ll get you moving with an extensive song list covering all genres and eras.
URL:https://eaglepointseniorliving.com/event-calendar/happy-hour-with-jim-nancy/
LOCATION:Lobby (1st Floor)
CATEGORIES:Assisted Living
END:VEVENT
BEGIN:VEVENT
DTSTART;TZID=America/Chicago:20260319T170000
DTEND;TZID=America/Chicago:20260319T190000
DTSTAMP:20260421T015212
CREATED:20260218T042441Z
LAST-MODIFIED:20260319T052423Z
UID:10004757-1773939600-1773946800@eaglepointseniorliving.com
SUMMARY:CANCELED: Outing to Dinner with Dawn
DESCRIPTION:This month’s outing will not take place but check out the April dinner outing!
URL:https://eaglepointseniorliving.com/event-calendar/canceled-outing-to-dinner-join-dawn-for-the-monthly-outing-in-april/
LOCATION:Lobby (1st Floor)
CATEGORIES:Assisted Living
END:VEVENT
BEGIN:VEVENT
DTSTART;TZID=America/Chicago:20260318T160000
DTEND;TZID=America/Chicago:20260318T163000
DTSTAMP:20260421T015212
CREATED:20260314T050926Z
LAST-MODIFIED:20260318T052424Z
UID:10005132-1773849600-1773851400@eaglepointseniorliving.com
SUMMARY:Julia Hixon on Piano
DESCRIPTION:Julia Hixon is a high school student with years of musical experience. She enjoys sharing her talent through informal performances—come relax and enjoy her beautiful music!
URL:https://eaglepointseniorliving.com/event-calendar/julia-hixon-on-piano/
LOCATION:Lobby (1st Floor)
CATEGORIES:Assisted Living
END:VEVENT
BEGIN:VEVENT
DTSTART;TZID=America/Chicago:20260318T104500
DTEND;TZID=America/Chicago:20260318T114500
DTSTAMP:20260421T015212
CREATED:20260305T042429Z
LAST-MODIFIED:20260318T052424Z
UID:10004992-1773830700-1773834300@eaglepointseniorliving.com
SUMMARY:RESCHEDULED: Outing to Simple Simon Bakery!
DESCRIPTION:Rescheduled from March 18th to April 9th. Please sign up at the front desk for this fun outing to the bakery!
URL:https://eaglepointseniorliving.com/event-calendar/outing-to-simple-simon-bakery-2/
LOCATION:Lobby (1st Floor)
CATEGORIES:Assisted Living
END:VEVENT
BEGIN:VEVENT
DTSTART;TZID=America/Chicago:20260317T153000
DTEND;TZID=America/Chicago:20260317T163000
DTSTAMP:20260421T015212
CREATED:20260216T042434Z
LAST-MODIFIED:20260317T052425Z
UID:10004726-1773761400-1773765000@eaglepointseniorliving.com
SUMMARY:Happy St. Patrick's Day with Mark Tully playing Irish and Celtic Tunes
DESCRIPTION:Mark Tully has been playing music for 45 years. He specialized in historical music and has pulled out his songbook of Irish and Celtic tunes. He will tell us the history and lore surrounding some of these lovely tunes! Enjoy a special St. Patty’s Day treat and beverages.
URL:https://eaglepointseniorliving.com/event-calendar/happy-st-patricks-day-with-mark-tully-playing-irish-and-celtic-tunes/
LOCATION:Lobby (1st Floor)
CATEGORIES:Assisted Living
END:VEVENT
BEGIN:VEVENT
DTSTART;TZID=America/Chicago:20260317T140000
DTEND;TZID=America/Chicago:20260317T143000
DTSTAMP:20260421T015212
CREATED:20260216T042434Z
LAST-MODIFIED:20260317T052425Z
UID:10004724-1773756000-1773757800@eaglepointseniorliving.com
SUMMARY:Smoothie Tuesdays: Your Favorite Flavors in a Nutritious Drink
DESCRIPTION:Join us each Tuesday as we make fresh protein smoothies each week in the lobby at 2:00pm. Each week will be a different flavor!
URL:https://eaglepointseniorliving.com/event-calendar/smoothie-tuesdays-your-favorite-flavors-in-a-nutritious-drink-12/
LOCATION:Lobby (1st Floor)
CATEGORIES:Assisted Living
END:VEVENT
BEGIN:VEVENT
DTSTART;TZID=America/Chicago:20260317T124500
DTEND;TZID=America/Chicago:20260317T134500
DTSTAMP:20260421T015212
CREATED:20260304T042427Z
LAST-MODIFIED:20260317T052424Z
UID:10004969-1773751500-1773755100@eaglepointseniorliving.com
SUMMARY:TRYathlon: Final Four
DESCRIPTION:All residents are invited to participate in the Lifespark TRYathlon! The competition is held on Tuesdays and Thursdays at 1:00 PM. We compete against other Lifespark communities in a fun challenge of walking (all abilities welcome)\, arm crank\, and leg crank. Fridays at 1:00 we watch The Really Big Show to find out our standings in the competition.
URL:https://eaglepointseniorliving.com/event-calendar/tryathlon-final-four-2/
LOCATION:Lobby (1st Floor)
CATEGORIES:Assisted Living
END:VEVENT
BEGIN:VEVENT
DTSTART;TZID=America/Chicago:20260316T130000
DTEND;TZID=America/Chicago:20260316T140000
DTSTAMP:20260421T015212
CREATED:20260215T042438Z
LAST-MODIFIED:20260316T052424Z
UID:10004707-1773666000-1773669600@eaglepointseniorliving.com
SUMMARY:CANCELED: Grocery Outing: Aldi
DESCRIPTION:Due to severe weather this trip is canceled. Sign up at the front desk. Remember to BRING YOUR OWN BAGS!! We need at least three to sign up to make the trip. Will load the bus about 12:50 AM and depart promptly at 1:00 PM. Thank you!
URL:https://eaglepointseniorliving.com/event-calendar/grocery-outing-festival-3/
LOCATION:Lobby (1st Floor)
CATEGORIES:Assisted Living
END:VEVENT
BEGIN:VEVENT
DTSTART;TZID=America/Chicago:20260314T100000
DTEND;TZID=America/Chicago:20260314T110000
DTSTAMP:20260421T015212
CREATED:20260314T050922Z
LAST-MODIFIED:20260314T050924Z
UID:10005131-1773482400-1773486000@eaglepointseniorliving.com
SUMMARY:Last Minute Addition: Julia Hixon on Piano
DESCRIPTION:Julia Hixon is a high school student with years of musical experience. She enjoys sharing her talent through informal performances—come relax and enjoy her beautiful music!
URL:https://eaglepointseniorliving.com/event-calendar/last-minute-addition-julia-hixon-on-piano/
LOCATION:Lobby (1st Floor)
CATEGORIES:Assisted Living
END:VEVENT
BEGIN:VEVENT
DTSTART;TZID=America/Chicago:20260314T093000
DTEND;TZID=America/Chicago:20260314T103000
DTSTAMP:20260421T015212
CREATED:20260213T042431Z
LAST-MODIFIED:20260314T050924Z
UID:10004686-1773480600-1773484200@eaglepointseniorliving.com
SUMMARY:Saturday Morning Chat\, Coffee\, and Simple Simon Donuts!
DESCRIPTION:Enjoy conversation and fresh donuts from Simple Simon Bakery!
URL:https://eaglepointseniorliving.com/event-calendar/saturday-morning-chat-coffee-and-simple-simon-donuts-20/
LOCATION:Lobby (1st Floor)
CATEGORIES:Assisted Living
END:VEVENT
END:VCALENDAR