BEGIN:VCALENDAR
VERSION:2.0
PRODID:-//Eagle Point Senior Living - ECPv6.11.2.1//NONSGML v1.0//EN
CALSCALE:GREGORIAN
METHOD:PUBLISH
X-ORIGINAL-URL:https://eaglepointseniorliving.com
X-WR-CALDESC:Events for Eagle Point Senior Living
REFRESH-INTERVAL;VALUE=DURATION:PT1H
X-Robots-Tag:noindex
X-PUBLISHED-TTL:PT1H
BEGIN:VTIMEZONE
TZID:America/Chicago
BEGIN:DAYLIGHT
TZOFFSETFROM:-0600
TZOFFSETTO:-0500
TZNAME:CDT
DTSTART:20250309T080000
END:DAYLIGHT
BEGIN:STANDARD
TZOFFSETFROM:-0500
TZOFFSETTO:-0600
TZNAME:CST
DTSTART:20251102T070000
END:STANDARD
BEGIN:DAYLIGHT
TZOFFSETFROM:-0600
TZOFFSETTO:-0500
TZNAME:CDT
DTSTART:20260308T080000
END:DAYLIGHT
BEGIN:STANDARD
TZOFFSETFROM:-0500
TZOFFSETTO:-0600
TZNAME:CST
DTSTART:20261101T070000
END:STANDARD
END:VTIMEZONE
BEGIN:VEVENT
DTSTART;TZID=America/Chicago:20260119T091500
DTEND;TZID=America/Chicago:20260119T094500
DTSTAMP:20260419T155537
CREATED:20251221T005434Z
LAST-MODIFIED:20260119T024053Z
UID:10003713-1768814100-1768815900@eaglepointseniorliving.com
SUMMARY:Daily Devotions
DESCRIPTION:Chaplain Peter will lead us in morning daily devotions\, Monday-Friday
URL:https://eaglepointseniorliving.com/event-calendar/daily-devotions-173/
LOCATION:Library (1st Floor)
CATEGORIES:Assisted Living
END:VEVENT
BEGIN:VEVENT
DTSTART;TZID=America/Chicago:20260116T091500
DTEND;TZID=America/Chicago:20260116T094500
DTSTAMP:20260419T155537
CREATED:20251218T005430Z
LAST-MODIFIED:20260116T022431Z
UID:10003676-1768554900-1768556700@eaglepointseniorliving.com
SUMMARY:Daily Devotions
DESCRIPTION:Chaplain Peter will lead us in morning daily devotions\, Monday-Friday
URL:https://eaglepointseniorliving.com/event-calendar/daily-devotions-172/
LOCATION:Library (1st Floor)
CATEGORIES:Assisted Living
END:VEVENT
BEGIN:VEVENT
DTSTART;TZID=America/Chicago:20260115T091500
DTEND;TZID=America/Chicago:20260115T094500
DTSTAMP:20260419T155537
CREATED:20251217T005437Z
LAST-MODIFIED:20260115T020936Z
UID:10003661-1768468500-1768470300@eaglepointseniorliving.com
SUMMARY:Daily Devotions
DESCRIPTION:Chaplain Peter will lead us in morning daily devotions\, Monday-Friday
URL:https://eaglepointseniorliving.com/event-calendar/daily-devotions-171/
LOCATION:Library (1st Floor)
CATEGORIES:Assisted Living
END:VEVENT
BEGIN:VEVENT
DTSTART;TZID=America/Chicago:20260114T091500
DTEND;TZID=America/Chicago:20260114T094500
DTSTAMP:20260419T155537
CREATED:20251216T003948Z
LAST-MODIFIED:20260114T020924Z
UID:10003648-1768382100-1768383900@eaglepointseniorliving.com
SUMMARY:Daily Devotions
DESCRIPTION:Chaplain Peter will lead us in morning daily devotions\, Monday-Friday
URL:https://eaglepointseniorliving.com/event-calendar/daily-devotions-170/
LOCATION:Library (1st Floor)
CATEGORIES:Assisted Living
END:VEVENT
BEGIN:VEVENT
DTSTART;TZID=America/Chicago:20260113T091500
DTEND;TZID=America/Chicago:20260113T094500
DTSTAMP:20260419T155537
CREATED:20251215T003935Z
LAST-MODIFIED:20260113T020924Z
UID:10003635-1768295700-1768297500@eaglepointseniorliving.com
SUMMARY:Daily Devotions
DESCRIPTION:Chaplain Peter will lead us in morning daily devotions\, Monday-Friday
URL:https://eaglepointseniorliving.com/event-calendar/daily-devotions-169/
LOCATION:Library (1st Floor)
CATEGORIES:Assisted Living
END:VEVENT
BEGIN:VEVENT
DTSTART;TZID=America/Chicago:20260112T091500
DTEND;TZID=America/Chicago:20260112T094500
DTSTAMP:20260419T155537
CREATED:20251214T004006Z
LAST-MODIFIED:20260112T015427Z
UID:10003626-1768209300-1768211100@eaglepointseniorliving.com
SUMMARY:Daily Devotions
DESCRIPTION:Chaplain Peter will lead us in morning daily devotions\, Monday-Friday
URL:https://eaglepointseniorliving.com/event-calendar/daily-devotions-168/
LOCATION:Library (1st Floor)
CATEGORIES:Assisted Living
END:VEVENT
BEGIN:VEVENT
DTSTART;TZID=America/Chicago:20260109T091500
DTEND;TZID=America/Chicago:20260109T094500
DTSTAMP:20260419T155537
CREATED:20251211T002435Z
LAST-MODIFIED:20260109T015438Z
UID:10003579-1767950100-1767951900@eaglepointseniorliving.com
SUMMARY:Daily Devotions
DESCRIPTION:Chaplain Peter will lead us in morning daily devotions\, Monday-Friday
URL:https://eaglepointseniorliving.com/event-calendar/daily-devotions-167/
LOCATION:Library (1st Floor)
CATEGORIES:Assisted Living
END:VEVENT
BEGIN:VEVENT
DTSTART;TZID=America/Chicago:20260108T091500
DTEND;TZID=America/Chicago:20260108T094500
DTSTAMP:20260419T155537
CREATED:20251210T002436Z
LAST-MODIFIED:20260108T015503Z
UID:10003565-1767863700-1767865500@eaglepointseniorliving.com
SUMMARY:Daily Devotions
DESCRIPTION:Chaplain Peter will lead us in morning daily devotions\, Monday-Friday
URL:https://eaglepointseniorliving.com/event-calendar/daily-devotions-166/
LOCATION:Library (1st Floor)
CATEGORIES:Assisted Living
END:VEVENT
BEGIN:VEVENT
DTSTART;TZID=America/Chicago:20260107T091500
DTEND;TZID=America/Chicago:20260107T094500
DTSTAMP:20260419T155537
CREATED:20251209T002440Z
LAST-MODIFIED:20260107T015425Z
UID:10003553-1767777300-1767779100@eaglepointseniorliving.com
SUMMARY:Daily Devotions
DESCRIPTION:Chaplain Peter will lead us in morning daily devotions\, Monday-Friday
URL:https://eaglepointseniorliving.com/event-calendar/daily-devotions-165/
LOCATION:Library (1st Floor)
CATEGORIES:Assisted Living
END:VEVENT
BEGIN:VEVENT
DTSTART;TZID=America/Chicago:20260106T091500
DTEND;TZID=America/Chicago:20260106T094500
DTSTAMP:20260419T155537
CREATED:20251208T002430Z
LAST-MODIFIED:20260106T015508Z
UID:10003542-1767690900-1767692700@eaglepointseniorliving.com
SUMMARY:Daily Devotions
DESCRIPTION:Chaplain Peter will lead us in morning daily devotions\, Monday-Friday
URL:https://eaglepointseniorliving.com/event-calendar/daily-devotions-164/
LOCATION:Library (1st Floor)
CATEGORIES:Assisted Living
END:VEVENT
BEGIN:VEVENT
DTSTART;TZID=America/Chicago:20260105T091500
DTEND;TZID=America/Chicago:20260105T094500
DTSTAMP:20260419T155537
CREATED:20251207T002430Z
LAST-MODIFIED:20260105T013929Z
UID:10003533-1767604500-1767606300@eaglepointseniorliving.com
SUMMARY:Daily Devotions
DESCRIPTION:Chaplain Peter will lead us in morning daily devotions\, Monday-Friday
URL:https://eaglepointseniorliving.com/event-calendar/daily-devotions-163/
LOCATION:Library (1st Floor)
CATEGORIES:Assisted Living
END:VEVENT
BEGIN:VEVENT
DTSTART;TZID=America/Chicago:20251231T091500
DTEND;TZID=America/Chicago:20251231T094500
DTSTAMP:20260419T155537
CREATED:20251202T002429Z
LAST-MODIFIED:20251231T010930Z
UID:10003476-1767172500-1767174300@eaglepointseniorliving.com
SUMMARY:Daily Devotions
DESCRIPTION:Chaplain Peter will lead us in morning daily devotions\, Monday-Friday
URL:https://eaglepointseniorliving.com/event-calendar/daily-devotions-162/
LOCATION:Library (1st Floor)
CATEGORIES:Assisted Living
END:VEVENT
BEGIN:VEVENT
DTSTART;TZID=America/Chicago:20251230T091500
DTEND;TZID=America/Chicago:20251230T094500
DTSTAMP:20260419T155537
CREATED:20251201T002435Z
LAST-MODIFIED:20251230T010927Z
UID:10003460-1767086100-1767087900@eaglepointseniorliving.com
SUMMARY:Daily Devotions
DESCRIPTION:Chaplain Peter will lead us in morning daily devotions\, Monday-Friday
URL:https://eaglepointseniorliving.com/event-calendar/daily-devotions-161/
LOCATION:Library (1st Floor)
CATEGORIES:Assisted Living
END:VEVENT
BEGIN:VEVENT
DTSTART;TZID=America/Chicago:20251229T091500
DTEND;TZID=America/Chicago:20251229T094500
DTSTAMP:20260419T155537
CREATED:20251130T000931Z
LAST-MODIFIED:20251229T010923Z
UID:10003446-1766999700-1767001500@eaglepointseniorliving.com
SUMMARY:Daily Devotions
DESCRIPTION:Chaplain Peter will lead us in morning daily devotions\, Monday-Friday
URL:https://eaglepointseniorliving.com/event-calendar/daily-devotions-160/
LOCATION:Library (1st Floor)
CATEGORIES:Assisted Living
END:VEVENT
BEGIN:VEVENT
DTSTART;TZID=America/Chicago:20251224T091500
DTEND;TZID=America/Chicago:20251224T094500
DTSTAMP:20260419T155537
CREATED:20251125T105431Z
LAST-MODIFIED:20251224T010924Z
UID:10003391-1766567700-1766569500@eaglepointseniorliving.com
SUMMARY:Daily Devotions
DESCRIPTION:Chaplain Peter will lead us in morning daily devotions\, Monday-Friday
URL:https://eaglepointseniorliving.com/event-calendar/daily-devotions-159/
LOCATION:Library (1st Floor)
CATEGORIES:Assisted Living
END:VEVENT
BEGIN:VEVENT
DTSTART;TZID=America/Chicago:20251223T091500
DTEND;TZID=America/Chicago:20251223T094500
DTSTAMP:20260419T155537
CREATED:20251125T105430Z
LAST-MODIFIED:20251223T010946Z
UID:10003390-1766481300-1766483100@eaglepointseniorliving.com
SUMMARY:Daily Devotions
DESCRIPTION:Chaplain Peter will lead us in morning daily devotions\, Monday-Friday
URL:https://eaglepointseniorliving.com/event-calendar/daily-devotions-158/
LOCATION:Library (1st Floor)
CATEGORIES:Assisted Living
END:VEVENT
BEGIN:VEVENT
DTSTART;TZID=America/Chicago:20251222T091500
DTEND;TZID=America/Chicago:20251222T094500
DTSTAMP:20260419T155537
CREATED:20251125T105430Z
LAST-MODIFIED:20251222T005558Z
UID:10003389-1766394900-1766396700@eaglepointseniorliving.com
SUMMARY:Daily Devotions
DESCRIPTION:Chaplain Peter will lead us in morning daily devotions\, Monday-Friday
URL:https://eaglepointseniorliving.com/event-calendar/daily-devotions-157/
LOCATION:Library (1st Floor)
CATEGORIES:Assisted Living
END:VEVENT
BEGIN:VEVENT
DTSTART;TZID=America/Chicago:20251219T104500
DTEND;TZID=America/Chicago:20251219T114500
DTSTAMP:20260419T155537
CREATED:20251219T005423Z
LAST-MODIFIED:20251219T005423Z
UID:10003689-1766141100-1766144700@eaglepointseniorliving.com
SUMMARY:Cancelled Library Outing\, Book Pick up in Eagle Point Library
DESCRIPTION:10:45 AM Friday
URL:https://eaglepointseniorliving.com/event-calendar/cancelled-library-outing-book-pick-up-in-eagle-point-library-2/
LOCATION:Library (1st Floor)
CATEGORIES:Assisted Living
END:VEVENT
BEGIN:VEVENT
DTSTART;TZID=America/Chicago:20251219T104500
DTEND;TZID=America/Chicago:20251219T114500
DTSTAMP:20260419T155537
CREATED:20251219T005423Z
LAST-MODIFIED:20251219T005423Z
UID:10003690-1766141100-1766144700@eaglepointseniorliving.com
SUMMARY:Cancelled Library Outing\, Book Pick up in Eagle Point Library
DESCRIPTION:10:45 AM Friday
URL:https://eaglepointseniorliving.com/event-calendar/cancelled-library-outing-book-pick-up-in-eagle-point-library/
LOCATION:Library (1st Floor)
CATEGORIES:Assisted Living
END:VEVENT
BEGIN:VEVENT
DTSTART;TZID=America/Chicago:20251219T091500
DTEND;TZID=America/Chicago:20251219T094500
DTSTAMP:20260419T155537
CREATED:20251125T105429Z
LAST-MODIFIED:20251219T005423Z
UID:10003388-1766135700-1766137500@eaglepointseniorliving.com
SUMMARY:Daily Devotions
DESCRIPTION:Chaplain Peter will lead us in morning daily devotions\, Monday-Friday
URL:https://eaglepointseniorliving.com/event-calendar/daily-devotions-156/
LOCATION:Library (1st Floor)
CATEGORIES:Assisted Living
END:VEVENT
BEGIN:VEVENT
DTSTART;TZID=America/Chicago:20251218T091500
DTEND;TZID=America/Chicago:20251218T094500
DTSTAMP:20260419T155537
CREATED:20251119T102500Z
LAST-MODIFIED:20251218T005424Z
UID:10003303-1766049300-1766051100@eaglepointseniorliving.com
SUMMARY:Daily Devotions
DESCRIPTION:Chaplain Peter will lead us in morning daily devotions\, Monday-Friday
URL:https://eaglepointseniorliving.com/event-calendar/daily-devotions-153/
LOCATION:Library (1st Floor)
CATEGORIES:Assisted Living
END:VEVENT
BEGIN:VEVENT
DTSTART;TZID=America/Chicago:20251217T091500
DTEND;TZID=America/Chicago:20251217T094500
DTSTAMP:20260419T155537
CREATED:20251125T105429Z
LAST-MODIFIED:20251217T005430Z
UID:10003387-1765962900-1765964700@eaglepointseniorliving.com
SUMMARY:Daily Devotions
DESCRIPTION:Chaplain Peter will lead us in morning daily devotions\, Monday-Friday
URL:https://eaglepointseniorliving.com/event-calendar/daily-devotions-155/
LOCATION:Library (1st Floor)
CATEGORIES:Assisted Living
END:VEVENT
BEGIN:VEVENT
DTSTART;TZID=America/Chicago:20251216T091500
DTEND;TZID=America/Chicago:20251216T094500
DTSTAMP:20260419T155537
CREATED:20251125T105428Z
LAST-MODIFIED:20251216T003936Z
UID:10003386-1765876500-1765878300@eaglepointseniorliving.com
SUMMARY:Daily Devotions
DESCRIPTION:Chaplain Peter will lead us in morning daily devotions\, Monday-Friday
URL:https://eaglepointseniorliving.com/event-calendar/daily-devotions-154/
LOCATION:Library (1st Floor)
CATEGORIES:Assisted Living
END:VEVENT
BEGIN:VEVENT
DTSTART;TZID=America/Chicago:20251215T091500
DTEND;TZID=America/Chicago:20251215T094500
DTSTAMP:20260419T155537
CREATED:20251116T102434Z
LAST-MODIFIED:20251215T003927Z
UID:10003255-1765790100-1765791900@eaglepointseniorliving.com
SUMMARY:Daily Devotions
DESCRIPTION:Chaplain Peter will lead us in morning daily devotions\, Monday-Friday
URL:https://eaglepointseniorliving.com/event-calendar/daily-devotions-152/
LOCATION:Library (1st Floor)
CATEGORIES:Assisted Living
END:VEVENT
BEGIN:VEVENT
DTSTART;TZID=America/Chicago:20251212T091500
DTEND;TZID=America/Chicago:20251212T094500
DTSTAMP:20260419T155537
CREATED:20251113T101053Z
LAST-MODIFIED:20251212T002431Z
UID:10003214-1765530900-1765532700@eaglepointseniorliving.com
SUMMARY:Daily Devotions
DESCRIPTION:Chaplain Peter will lead us in morning daily devotions\, Monday-Friday
URL:https://eaglepointseniorliving.com/event-calendar/daily-devotions-151/
LOCATION:Library (1st Floor)
CATEGORIES:Assisted Living
END:VEVENT
BEGIN:VEVENT
DTSTART;TZID=America/Chicago:20251210T091500
DTEND;TZID=America/Chicago:20251210T094500
DTSTAMP:20260419T155537
CREATED:20251111T100929Z
LAST-MODIFIED:20251210T002430Z
UID:10003180-1765358100-1765359900@eaglepointseniorliving.com
SUMMARY:Daily Devotions
DESCRIPTION:Chaplain Peter will lead us in morning daily devotions\, Monday-Friday
URL:https://eaglepointseniorliving.com/event-calendar/daily-devotions-149/
LOCATION:Library (1st Floor)
CATEGORIES:Assisted Living
END:VEVENT
BEGIN:VEVENT
DTSTART;TZID=America/Chicago:20251209T091500
DTEND;TZID=America/Chicago:20251209T094500
DTSTAMP:20260419T155537
CREATED:20251110T100929Z
LAST-MODIFIED:20251209T002433Z
UID:10003162-1765271700-1765273500@eaglepointseniorliving.com
SUMMARY:Daily Devotions
DESCRIPTION:Chaplain Peter will lead us in morning daily devotions\, Monday-Friday
URL:https://eaglepointseniorliving.com/event-calendar/daily-devotions-148/
LOCATION:Library (1st Floor)
CATEGORIES:Assisted Living
END:VEVENT
BEGIN:VEVENT
DTSTART;TZID=America/Chicago:20251208T091500
DTEND;TZID=America/Chicago:20251208T094500
DTSTAMP:20260419T155537
CREATED:20251109T095429Z
LAST-MODIFIED:20251208T002423Z
UID:10003142-1765185300-1765187100@eaglepointseniorliving.com
SUMMARY:Daily Devotions
DESCRIPTION:Chaplain Peter will lead us in morning daily devotions\, Monday-Friday
URL:https://eaglepointseniorliving.com/event-calendar/daily-devotions-147/
LOCATION:Library (1st Floor)
CATEGORIES:Assisted Living
END:VEVENT
END:VCALENDAR