BEGIN:VCALENDAR
VERSION:2.0
PRODID:-//Eagle Point Senior Living - ECPv6.11.2.1//NONSGML v1.0//EN
CALSCALE:GREGORIAN
METHOD:PUBLISH
X-ORIGINAL-URL:https://eaglepointseniorliving.com
X-WR-CALDESC:Events for Eagle Point Senior Living
REFRESH-INTERVAL;VALUE=DURATION:PT1H
X-Robots-Tag:noindex
X-PUBLISHED-TTL:PT1H
BEGIN:VTIMEZONE
TZID:America/Chicago
BEGIN:DAYLIGHT
TZOFFSETFROM:-0600
TZOFFSETTO:-0500
TZNAME:CDT
DTSTART:20260308T080000
END:DAYLIGHT
BEGIN:STANDARD
TZOFFSETFROM:-0500
TZOFFSETTO:-0600
TZNAME:CST
DTSTART:20261101T070000
END:STANDARD
END:VTIMEZONE
BEGIN:VEVENT
DTSTART;TZID=America/Chicago:20260226T091500
DTEND;TZID=America/Chicago:20260226T094500
DTSTAMP:20260419T112610
CREATED:20260128T030938Z
LAST-MODIFIED:20260226T042628Z
UID:10004414-1772097300-1772099100@eaglepointseniorliving.com
SUMMARY:Daily Devotions
DESCRIPTION:Chaplain Peter will lead us in morning daily devotions\, Monday-Friday
URL:https://eaglepointseniorliving.com/event-calendar/daily-devotions-201/
LOCATION:Library (1st Floor)
CATEGORIES:Assisted Living
END:VEVENT
BEGIN:VEVENT
DTSTART;TZID=America/Chicago:20260225T091500
DTEND;TZID=America/Chicago:20260225T094500
DTSTAMP:20260419T112610
CREATED:20260127T030931Z
LAST-MODIFIED:20260225T042428Z
UID:10004397-1772010900-1772012700@eaglepointseniorliving.com
SUMMARY:Daily Devotions
DESCRIPTION:Chaplain Peter will lead us in morning daily devotions\, Monday-Friday
URL:https://eaglepointseniorliving.com/event-calendar/daily-devotions-200/
LOCATION:Library (1st Floor)
CATEGORIES:Assisted Living
END:VEVENT
BEGIN:VEVENT
DTSTART;TZID=America/Chicago:20260224T091500
DTEND;TZID=America/Chicago:20260224T094500
DTSTAMP:20260419T112610
CREATED:20260126T030933Z
LAST-MODIFIED:20260224T042430Z
UID:10004378-1771924500-1771926300@eaglepointseniorliving.com
SUMMARY:Daily Devotions
DESCRIPTION:Chaplain Peter will lead us in morning daily devotions\, Monday-Friday
URL:https://eaglepointseniorliving.com/event-calendar/daily-devotions-199/
LOCATION:Library (1st Floor)
CATEGORIES:Assisted Living
END:VEVENT
BEGIN:VEVENT
DTSTART;TZID=America/Chicago:20260223T091500
DTEND;TZID=America/Chicago:20260223T094500
DTSTAMP:20260419T112610
CREATED:20260125T030932Z
LAST-MODIFIED:20260223T042424Z
UID:10004358-1771838100-1771839900@eaglepointseniorliving.com
SUMMARY:Daily Devotions
DESCRIPTION:Chaplain Peter will lead us in morning daily devotions\, Monday-Friday
URL:https://eaglepointseniorliving.com/event-calendar/daily-devotions-198/
LOCATION:Library (1st Floor)
CATEGORIES:Assisted Living
END:VEVENT
BEGIN:VEVENT
DTSTART;TZID=America/Chicago:20260220T091500
DTEND;TZID=America/Chicago:20260220T094500
DTSTAMP:20260419T112610
CREATED:20260122T025446Z
LAST-MODIFIED:20260220T042424Z
UID:10004318-1771578900-1771580700@eaglepointseniorliving.com
SUMMARY:Daily Devotions
DESCRIPTION:Chaplain Peter will lead us in morning daily devotions\, Monday-Friday
URL:https://eaglepointseniorliving.com/event-calendar/daily-devotions-197/
LOCATION:Library (1st Floor)
CATEGORIES:Assisted Living
END:VEVENT
BEGIN:VEVENT
DTSTART;TZID=America/Chicago:20260219T091500
DTEND;TZID=America/Chicago:20260219T094500
DTSTAMP:20260419T112610
CREATED:20260121T025442Z
LAST-MODIFIED:20260219T042425Z
UID:10004295-1771492500-1771494300@eaglepointseniorliving.com
SUMMARY:Daily Devotions
DESCRIPTION:Chaplain Peter will lead us in morning daily devotions\, Monday-Friday
URL:https://eaglepointseniorliving.com/event-calendar/daily-devotions-196/
LOCATION:Library (1st Floor)
CATEGORIES:Assisted Living
END:VEVENT
BEGIN:VEVENT
DTSTART;TZID=America/Chicago:20260218T091500
DTEND;TZID=America/Chicago:20260218T094500
DTSTAMP:20260419T112610
CREATED:20260120T025429Z
LAST-MODIFIED:20260218T042432Z
UID:10004282-1771406100-1771407900@eaglepointseniorliving.com
SUMMARY:Daily Devotions
DESCRIPTION:Chaplain Peter will lead us in morning daily devotions\, Monday-Friday
URL:https://eaglepointseniorliving.com/event-calendar/daily-devotions-195/
LOCATION:Library (1st Floor)
CATEGORIES:Assisted Living
END:VEVENT
BEGIN:VEVENT
DTSTART;TZID=America/Chicago:20260217T091500
DTEND;TZID=America/Chicago:20260217T094500
DTSTAMP:20260419T112610
CREATED:20260119T024059Z
LAST-MODIFIED:20260217T042435Z
UID:10004256-1771319700-1771321500@eaglepointseniorliving.com
SUMMARY:Daily Devotions
DESCRIPTION:Chaplain Peter will lead us in morning daily devotions\, Monday-Friday
URL:https://eaglepointseniorliving.com/event-calendar/daily-devotions-194/
LOCATION:Library (1st Floor)
CATEGORIES:Assisted Living
END:VEVENT
BEGIN:VEVENT
DTSTART;TZID=America/Chicago:20260216T091500
DTEND;TZID=America/Chicago:20260216T094500
DTSTAMP:20260419T112610
CREATED:20260118T022447Z
LAST-MODIFIED:20260216T042425Z
UID:10004241-1771233300-1771235100@eaglepointseniorliving.com
SUMMARY:Daily Devotions
DESCRIPTION:Chaplain Peter will lead us in morning daily devotions\, Monday-Friday
URL:https://eaglepointseniorliving.com/event-calendar/daily-devotions-193/
LOCATION:Library (1st Floor)
CATEGORIES:Assisted Living
END:VEVENT
BEGIN:VEVENT
DTSTART;TZID=America/Chicago:20260213T104500
DTEND;TZID=America/Chicago:20260213T113000
DTSTAMP:20260419T112610
CREATED:20260115T020944Z
LAST-MODIFIED:20260213T042424Z
UID:10004210-1770979500-1770982200@eaglepointseniorliving.com
SUMMARY:Men's Coffee and Conversation
DESCRIPTION:Join Chaplain Peter for coffee and conversation.
URL:https://eaglepointseniorliving.com/event-calendar/mens-coffee-and-conversation/
LOCATION:Library (1st Floor)
CATEGORIES:Assisted Living
END:VEVENT
BEGIN:VEVENT
DTSTART;TZID=America/Chicago:20260213T091500
DTEND;TZID=America/Chicago:20260213T094500
DTSTAMP:20260419T112610
CREATED:20260115T020944Z
LAST-MODIFIED:20260213T042423Z
UID:10004207-1770974100-1770975900@eaglepointseniorliving.com
SUMMARY:Daily Devotions
DESCRIPTION:Chaplain Peter will lead us in morning daily devotions\, Monday-Friday
URL:https://eaglepointseniorliving.com/event-calendar/daily-devotions-192/
LOCATION:Library (1st Floor)
CATEGORIES:Assisted Living
END:VEVENT
BEGIN:VEVENT
DTSTART;TZID=America/Chicago:20260212T091500
DTEND;TZID=America/Chicago:20260212T094500
DTSTAMP:20260419T112610
CREATED:20260114T020930Z
LAST-MODIFIED:20260212T042424Z
UID:10004184-1770887700-1770889500@eaglepointseniorliving.com
SUMMARY:Daily Devotions
DESCRIPTION:Chaplain Peter will lead us in morning daily devotions\, Monday-Friday
URL:https://eaglepointseniorliving.com/event-calendar/daily-devotions-191/
LOCATION:Library (1st Floor)
CATEGORIES:Assisted Living
END:VEVENT
BEGIN:VEVENT
DTSTART;TZID=America/Chicago:20260211T091500
DTEND;TZID=America/Chicago:20260211T094500
DTSTAMP:20260419T112610
CREATED:20260113T020930Z
LAST-MODIFIED:20260211T042423Z
UID:10004166-1770801300-1770803100@eaglepointseniorliving.com
SUMMARY:Daily Devotions
DESCRIPTION:Chaplain Peter will lead us in morning daily devotions\, Monday-Friday
URL:https://eaglepointseniorliving.com/event-calendar/daily-devotions-190/
LOCATION:Library (1st Floor)
CATEGORIES:Assisted Living
END:VEVENT
BEGIN:VEVENT
DTSTART;TZID=America/Chicago:20260210T091500
DTEND;TZID=America/Chicago:20260210T094500
DTSTAMP:20260419T112610
CREATED:20260112T015435Z
LAST-MODIFIED:20260210T042424Z
UID:10004143-1770714900-1770716700@eaglepointseniorliving.com
SUMMARY:Daily Devotions
DESCRIPTION:Chaplain Peter will lead us in morning daily devotions\, Monday-Friday
URL:https://eaglepointseniorliving.com/event-calendar/daily-devotions-189/
LOCATION:Library (1st Floor)
CATEGORIES:Assisted Living
END:VEVENT
BEGIN:VEVENT
DTSTART;TZID=America/Chicago:20260209T091500
DTEND;TZID=America/Chicago:20260209T094500
DTSTAMP:20260419T112610
CREATED:20260111T015430Z
LAST-MODIFIED:20260209T040923Z
UID:10004130-1770628500-1770630300@eaglepointseniorliving.com
SUMMARY:Daily Devotions
DESCRIPTION:Chaplain Peter will lead us in morning daily devotions\, Monday-Friday
URL:https://eaglepointseniorliving.com/event-calendar/daily-devotions-188/
LOCATION:Library (1st Floor)
CATEGORIES:Assisted Living
END:VEVENT
BEGIN:VEVENT
DTSTART;TZID=America/Chicago:20260206T091500
DTEND;TZID=America/Chicago:20260206T094500
DTSTAMP:20260419T112610
CREATED:20260108T015510Z
LAST-MODIFIED:20260206T033930Z
UID:10004079-1770369300-1770371100@eaglepointseniorliving.com
SUMMARY:Daily Devotions
DESCRIPTION:Chaplain Peter will lead us in morning daily devotions\, Monday-Friday
URL:https://eaglepointseniorliving.com/event-calendar/daily-devotions-187/
LOCATION:Library (1st Floor)
CATEGORIES:Assisted Living
END:VEVENT
BEGIN:VEVENT
DTSTART;TZID=America/Chicago:20260205T091500
DTEND;TZID=America/Chicago:20260205T094500
DTSTAMP:20260419T112610
CREATED:20260107T015431Z
LAST-MODIFIED:20260205T033927Z
UID:10004060-1770282900-1770284700@eaglepointseniorliving.com
SUMMARY:Daily Devotions
DESCRIPTION:Chaplain Peter will lead us in morning daily devotions\, Monday-Friday
URL:https://eaglepointseniorliving.com/event-calendar/daily-devotions-186/
LOCATION:Library (1st Floor)
CATEGORIES:Assisted Living
END:VEVENT
BEGIN:VEVENT
DTSTART;TZID=America/Chicago:20260204T091500
DTEND;TZID=America/Chicago:20260204T094500
DTSTAMP:20260419T112610
CREATED:20260106T015516Z
LAST-MODIFIED:20260204T032515Z
UID:10004046-1770196500-1770198300@eaglepointseniorliving.com
SUMMARY:Daily Devotions
DESCRIPTION:Chaplain Peter will lead us in morning daily devotions\, Monday-Friday
URL:https://eaglepointseniorliving.com/event-calendar/daily-devotions-185/
LOCATION:Library (1st Floor)
CATEGORIES:Assisted Living
END:VEVENT
BEGIN:VEVENT
DTSTART;TZID=America/Chicago:20260203T091500
DTEND;TZID=America/Chicago:20260203T094500
DTSTAMP:20260419T112610
CREATED:20260105T013938Z
LAST-MODIFIED:20260203T032423Z
UID:10004028-1770110100-1770111900@eaglepointseniorliving.com
SUMMARY:Daily Devotions
DESCRIPTION:Chaplain Peter will lead us in morning daily devotions\, Monday-Friday
URL:https://eaglepointseniorliving.com/event-calendar/daily-devotions-184/
LOCATION:Library (1st Floor)
CATEGORIES:Assisted Living
END:VEVENT
BEGIN:VEVENT
DTSTART;TZID=America/Chicago:20260202T091500
DTEND;TZID=America/Chicago:20260202T094500
DTSTAMP:20260419T112610
CREATED:20260104T013957Z
LAST-MODIFIED:20260202T032424Z
UID:10004014-1770023700-1770025500@eaglepointseniorliving.com
SUMMARY:Daily Devotions
DESCRIPTION:Chaplain Peter will lead us in morning daily devotions\, Monday-Friday
URL:https://eaglepointseniorliving.com/event-calendar/daily-devotions-183/
LOCATION:Library (1st Floor)
CATEGORIES:Assisted Living
END:VEVENT
BEGIN:VEVENT
DTSTART;TZID=America/Chicago:20260130T114500
DTEND;TZID=America/Chicago:20260130T120000
DTSTAMP:20260419T112610
CREATED:20260127T030924Z
LAST-MODIFIED:20260130T032453Z
UID:10004395-1769773500-1769774400@eaglepointseniorliving.com
SUMMARY:February Book Available in the Eagle Point Library
DESCRIPTION:At the height of the Holocaust twenty-five young inmates of the infamous Auschwitz-Birkenau concentration camp—mainly Jewish women and girls—were selected to design\, cut\, and sew beautiful fashions for elite Nazi women in a dedicated salon. It was work that they hoped would spare them from the gas chambers.\nThis fashion workshop—called the Upper Tailoring Studio—was established by Hedwig Höss\, the camp commandant’s wife\, and patronized by the wives of SS guards and officers.The women’s bonds of family and friendship not only  help them endure persecution but also play a part in camp resistance.
URL:https://eaglepointseniorliving.com/event-calendar/february-book-available-in-the-eagle-point-library/
LOCATION:Library (1st Floor)
CATEGORIES:Assisted Living
END:VEVENT
BEGIN:VEVENT
DTSTART;TZID=America/Chicago:20260130T091500
DTEND;TZID=America/Chicago:20260130T094500
DTSTAMP:20260419T112610
CREATED:20260101T010935Z
LAST-MODIFIED:20260130T032453Z
UID:10003965-1769764500-1769766300@eaglepointseniorliving.com
SUMMARY:Daily Devotions
DESCRIPTION:Chaplain Peter will lead us in morning daily devotions\, Monday-Friday
URL:https://eaglepointseniorliving.com/event-calendar/daily-devotions-182/
LOCATION:Library (1st Floor)
CATEGORIES:Assisted Living
END:VEVENT
BEGIN:VEVENT
DTSTART;TZID=America/Chicago:20260129T091500
DTEND;TZID=America/Chicago:20260129T094500
DTSTAMP:20260419T112610
CREATED:20251231T010939Z
LAST-MODIFIED:20260129T032424Z
UID:10003908-1769678100-1769679900@eaglepointseniorliving.com
SUMMARY:Daily Devotions
DESCRIPTION:Chaplain Peter will lead us in morning daily devotions\, Monday-Friday
URL:https://eaglepointseniorliving.com/event-calendar/daily-devotions-181/
LOCATION:Library (1st Floor)
CATEGORIES:Assisted Living
END:VEVENT
BEGIN:VEVENT
DTSTART;TZID=America/Chicago:20260128T091500
DTEND;TZID=America/Chicago:20260128T094500
DTSTAMP:20260419T112610
CREATED:20251230T010934Z
LAST-MODIFIED:20260128T030933Z
UID:10003889-1769591700-1769593500@eaglepointseniorliving.com
SUMMARY:Daily Devotions
DESCRIPTION:Chaplain Peter will lead us in morning daily devotions\, Monday-Friday
URL:https://eaglepointseniorliving.com/event-calendar/daily-devotions-180/
LOCATION:Library (1st Floor)
CATEGORIES:Assisted Living
END:VEVENT
BEGIN:VEVENT
DTSTART;TZID=America/Chicago:20260127T091500
DTEND;TZID=America/Chicago:20260127T094500
DTSTAMP:20260419T112610
CREATED:20251229T010932Z
LAST-MODIFIED:20260127T030924Z
UID:10003865-1769505300-1769507100@eaglepointseniorliving.com
SUMMARY:Daily Devotions
DESCRIPTION:Chaplain Peter will lead us in morning daily devotions\, Monday-Friday
URL:https://eaglepointseniorliving.com/event-calendar/daily-devotions-179/
LOCATION:Library (1st Floor)
CATEGORIES:Assisted Living
END:VEVENT
BEGIN:VEVENT
DTSTART;TZID=America/Chicago:20260126T091500
DTEND;TZID=America/Chicago:20260126T094500
DTSTAMP:20260419T112610
CREATED:20251228T010929Z
LAST-MODIFIED:20260126T030926Z
UID:10003854-1769418900-1769420700@eaglepointseniorliving.com
SUMMARY:Daily Devotions
DESCRIPTION:Chaplain Peter will lead us in morning daily devotions\, Monday-Friday
URL:https://eaglepointseniorliving.com/event-calendar/daily-devotions-178/
LOCATION:Library (1st Floor)
CATEGORIES:Assisted Living
END:VEVENT
BEGIN:VEVENT
DTSTART;TZID=America/Chicago:20260123T091500
DTEND;TZID=America/Chicago:20260123T094500
DTSTAMP:20260419T112610
CREATED:20251225T010931Z
LAST-MODIFIED:20260123T030937Z
UID:10003830-1769159700-1769161500@eaglepointseniorliving.com
SUMMARY:Daily Devotions
DESCRIPTION:Chaplain Peter will lead us in morning daily devotions\, Monday-Friday
URL:https://eaglepointseniorliving.com/event-calendar/daily-devotions-177/
LOCATION:Library (1st Floor)
CATEGORIES:Assisted Living
END:VEVENT
BEGIN:VEVENT
DTSTART;TZID=America/Chicago:20260122T091500
DTEND;TZID=America/Chicago:20260122T094500
DTSTAMP:20260419T112610
CREATED:20251224T010932Z
LAST-MODIFIED:20260122T025438Z
UID:10003744-1769073300-1769075100@eaglepointseniorliving.com
SUMMARY:Daily Devotions
DESCRIPTION:Chaplain Peter will lead us in morning daily devotions\, Monday-Friday
URL:https://eaglepointseniorliving.com/event-calendar/daily-devotions-176/
LOCATION:Library (1st Floor)
CATEGORIES:Assisted Living
END:VEVENT
BEGIN:VEVENT
DTSTART;TZID=America/Chicago:20260121T091500
DTEND;TZID=America/Chicago:20260121T094500
DTSTAMP:20260419T112610
CREATED:20251223T010954Z
LAST-MODIFIED:20260121T025435Z
UID:10003730-1768986900-1768988700@eaglepointseniorliving.com
SUMMARY:Daily Devotions
DESCRIPTION:Chaplain Peter will lead us in morning daily devotions\, Monday-Friday
URL:https://eaglepointseniorliving.com/event-calendar/daily-devotions-175/
LOCATION:Library (1st Floor)
CATEGORIES:Assisted Living
END:VEVENT
BEGIN:VEVENT
DTSTART;TZID=America/Chicago:20260120T091500
DTEND;TZID=America/Chicago:20260120T094500
DTSTAMP:20260419T112610
CREATED:20251222T005608Z
LAST-MODIFIED:20260120T025423Z
UID:10003721-1768900500-1768902300@eaglepointseniorliving.com
SUMMARY:Daily Devotions
DESCRIPTION:Chaplain Peter will lead us in morning daily devotions\, Monday-Friday
URL:https://eaglepointseniorliving.com/event-calendar/daily-devotions-174/
LOCATION:Library (1st Floor)
CATEGORIES:Assisted Living
END:VEVENT
END:VCALENDAR