BEGIN:VCALENDAR
VERSION:2.0
PRODID:-//Eagle Point Senior Living - ECPv6.11.2.1//NONSGML v1.0//EN
CALSCALE:GREGORIAN
METHOD:PUBLISH
X-ORIGINAL-URL:https://eaglepointseniorliving.com
X-WR-CALDESC:Events for Eagle Point Senior Living
REFRESH-INTERVAL;VALUE=DURATION:PT1H
X-Robots-Tag:noindex
X-PUBLISHED-TTL:PT1H
BEGIN:VTIMEZONE
TZID:America/Chicago
BEGIN:DAYLIGHT
TZOFFSETFROM:-0600
TZOFFSETTO:-0500
TZNAME:CDT
DTSTART:20250309T080000
END:DAYLIGHT
BEGIN:STANDARD
TZOFFSETFROM:-0500
TZOFFSETTO:-0600
TZNAME:CST
DTSTART:20251102T070000
END:STANDARD
END:VTIMEZONE
BEGIN:VEVENT
DTSTART;TZID=America/Chicago:20251030T150000
DTEND;TZID=America/Chicago:20251030T160000
DTSTAMP:20260422T093659
CREATED:20251001T074046Z
LAST-MODIFIED:20251030T093924Z
UID:10002490-1761836400-1761840000@eaglepointseniorliving.com
SUMMARY:Sing-along to favorite songs!
DESCRIPTION:A joyful\, interactive activity to sing familiar songs promoting social engagement\, memory recall\, and emotional well-being.
URL:https://eaglepointseniorliving.com/event-calendar/sing-along-24/
LOCATION:Art Room
CATEGORIES:Assisted Living
END:VEVENT
BEGIN:VEVENT
DTSTART;TZID=America/Chicago:20251030T133000
DTEND;TZID=America/Chicago:20251030T150000
DTSTAMP:20260422T093659
CREATED:20251001T074046Z
LAST-MODIFIED:20251030T093924Z
UID:10002489-1761831000-1761836400@eaglepointseniorliving.com
SUMMARY:Meeting the Grandbuddies Meet your Grandbuddies to read a book and sharing time
DESCRIPTION:
URL:https://eaglepointseniorliving.com/event-calendar/grandbuddy-meeting/
LOCATION:Art Room
CATEGORIES:Assisted Living
END:VEVENT
BEGIN:VEVENT
DTSTART;TZID=America/Chicago:20251029T150000
DTEND;TZID=America/Chicago:20251029T160000
DTSTAMP:20260422T093659
CREATED:20250930T072443Z
LAST-MODIFIED:20251029T093924Z
UID:10002475-1761750000-1761753600@eaglepointseniorliving.com
SUMMARY:Cribbage
DESCRIPTION:
URL:https://eaglepointseniorliving.com/event-calendar/cribbage-25/
LOCATION:Art Room
CATEGORIES:Assisted Living
END:VEVENT
BEGIN:VEVENT
DTSTART;TZID=America/Chicago:20251029T143000
DTEND;TZID=America/Chicago:20251029T150000
DTSTAMP:20260422T093659
CREATED:20251004T080952Z
LAST-MODIFIED:20251029T093924Z
UID:10002540-1761748200-1761750000@eaglepointseniorliving.com
SUMMARY:Game Time-Family Feud Halloween
DESCRIPTION:
URL:https://eaglepointseniorliving.com/event-calendar/game-time-2/
LOCATION:Art Room
CATEGORIES:Assisted Living
END:VEVENT
BEGIN:VEVENT
DTSTART;TZID=America/Chicago:20251029T104500
DTEND;TZID=America/Chicago:20251029T113000
DTSTAMP:20260422T093659
CREATED:20251024T093944Z
LAST-MODIFIED:20251029T093924Z
UID:10002891-1761734700-1761737400@eaglepointseniorliving.com
SUMMARY:Location of the Week-"The Statue of Liberty"-Can you recite “The New Colossus\,”? History and Inside
DESCRIPTION:
URL:https://eaglepointseniorliving.com/event-calendar/location-of-the-week-the-statue-of-liberty-can-you-recite-the-new-colossus-history-and-inside/
LOCATION:Art Room
CATEGORIES:Assisted Living
END:VEVENT
BEGIN:VEVENT
DTSTART;TZID=America/Chicago:20251028T143000
DTEND;TZID=America/Chicago:20251028T153000
DTSTAMP:20260422T093659
CREATED:20250929T072431Z
LAST-MODIFIED:20251028T093929Z
UID:10002456-1761661800-1761665400@eaglepointseniorliving.com
SUMMARY:Jeopardy with Brenda
DESCRIPTION:
URL:https://eaglepointseniorliving.com/event-calendar/jeopardy-with-brenda-13/
LOCATION:Art Room
CATEGORIES:Assisted Living
END:VEVENT
BEGIN:VEVENT
DTSTART;TZID=America/Chicago:20251028T133000
DTEND;TZID=America/Chicago:20251028T140000
DTSTAMP:20260422T093659
CREATED:20251004T080951Z
LAST-MODIFIED:20251028T093929Z
UID:10002539-1761658200-1761660000@eaglepointseniorliving.com
SUMMARY:Nature Tidbits: Owls Trivia and Facts
DESCRIPTION:
URL:https://eaglepointseniorliving.com/event-calendar/nature-tidbits-2/
LOCATION:Art Room
CATEGORIES:Assisted Living
END:VEVENT
BEGIN:VEVENT
DTSTART;TZID=America/Chicago:20251028T104500
DTEND;TZID=America/Chicago:20251028T113000
DTSTAMP:20260422T093659
CREATED:20251020T092524Z
LAST-MODIFIED:20251028T093929Z
UID:10002800-1761648300-1761651000@eaglepointseniorliving.com
SUMMARY:Hidden History- "Guinness Beer"-One will. Four heirs. And a fortune that reshaped Ireland
DESCRIPTION:
URL:https://eaglepointseniorliving.com/event-calendar/hidden-history-guinness-beerone-will-four-heirs-and-a-fortune-that-reshaped-ireland/
LOCATION:Art Room
CATEGORIES:Assisted Living
END:VEVENT
BEGIN:VEVENT
DTSTART;TZID=America/Chicago:20251028T100000
DTEND;TZID=America/Chicago:20251028T103000
DTSTAMP:20260422T093659
CREATED:20251023T093937Z
LAST-MODIFIED:20251028T093929Z
UID:10002862-1761645600-1761647400@eaglepointseniorliving.com
SUMMARY:Disc Drumming in the Morning in the Art Room
DESCRIPTION:
URL:https://eaglepointseniorliving.com/event-calendar/disc-drumming-in-the-morning-in-the-art-room/
LOCATION:Art Room
CATEGORIES:Assisted Living
END:VEVENT
BEGIN:VEVENT
DTSTART;TZID=America/Chicago:20251027T140000
DTEND;TZID=America/Chicago:20251027T150000
DTSTAMP:20260422T093659
CREATED:20250928T072431Z
LAST-MODIFIED:20251027T093957Z
UID:10002438-1761573600-1761577200@eaglepointseniorliving.com
SUMMARY:Book Club Discussion-The Women
DESCRIPTION:
URL:https://eaglepointseniorliving.com/event-calendar/book-club-discussion-3/
LOCATION:Art Room
CATEGORIES:Assisted Living
END:VEVENT
BEGIN:VEVENT
DTSTART;TZID=America/Chicago:20251027T133000
DTEND;TZID=America/Chicago:20251027T140000
DTSTAMP:20260422T093659
CREATED:20250928T072431Z
LAST-MODIFIED:20251027T093957Z
UID:10002437-1761571800-1761573600@eaglepointseniorliving.com
SUMMARY:The Untold Story of Route 66: America’s Most Famous Highway
DESCRIPTION:In Depth Look
URL:https://eaglepointseniorliving.com/event-calendar/deep-dive-2/
LOCATION:Art Room
CATEGORIES:Assisted Living
END:VEVENT
BEGIN:VEVENT
DTSTART;TZID=America/Chicago:20251027T104500
DTEND;TZID=America/Chicago:20251027T233000
DTSTAMP:20260422T093659
CREATED:20250928T072431Z
LAST-MODIFIED:20251027T093957Z
UID:10002435-1761561900-1761607800@eaglepointseniorliving.com
SUMMARY:Mindful Moments-Superstitions What they are and 13 bizarre superstitions
DESCRIPTION:
URL:https://eaglepointseniorliving.com/event-calendar/october-lifespark-theme-mindful-moments-4/
LOCATION:Art Room
CATEGORIES:Assisted Living
END:VEVENT
BEGIN:VEVENT
DTSTART;TZID=America/Chicago:20251024T150000
DTEND;TZID=America/Chicago:20251024T160000
DTSTAMP:20260422T093659
CREATED:20250925T072459Z
LAST-MODIFIED:20251024T093944Z
UID:10002400-1761318000-1761321600@eaglepointseniorliving.com
SUMMARY:Halloween Masquerade Mask Making
DESCRIPTION:Join in for making a fun masquerade/Halloween mask for the Halloween party!
URL:https://eaglepointseniorliving.com/event-calendar/halloween-masquerade-mask-making/
LOCATION:Art Room
CATEGORIES:Assisted Living
END:VEVENT
BEGIN:VEVENT
DTSTART;TZID=America/Chicago:20251024T130000
DTEND;TZID=America/Chicago:20251024T143000
DTSTAMP:20260422T093659
CREATED:20250925T072459Z
LAST-MODIFIED:20251024T093944Z
UID:10002399-1761310800-1761316200@eaglepointseniorliving.com
SUMMARY:Bridge in the Art Room
DESCRIPTION:For more information to join a table of 4 or to be a sub\, please contact Barb Lenz.
URL:https://eaglepointseniorliving.com/event-calendar/bridge-in-the-art-room-12/
LOCATION:Art Room
CATEGORIES:Assisted Living
END:VEVENT
BEGIN:VEVENT
DTSTART;TZID=America/Chicago:20251024T104500
DTEND;TZID=America/Chicago:20251024T113000
DTSTAMP:20260422T093659
CREATED:20251003T075429Z
LAST-MODIFIED:20251024T093944Z
UID:10002520-1761302700-1761305400@eaglepointseniorliving.com
SUMMARY:Friday Food Fun-Apple Taste Testing-five different apples with guessing by taste
DESCRIPTION:
URL:https://eaglepointseniorliving.com/event-calendar/friday-food-fun-20/
LOCATION:Art Room
CATEGORIES:Assisted Living
END:VEVENT
BEGIN:VEVENT
DTSTART;TZID=America/Chicago:20251023T180000
DTEND;TZID=America/Chicago:20251023T190000
DTSTAMP:20260422T093659
CREATED:20250924T072438Z
LAST-MODIFIED:20251023T093936Z
UID:10002389-1761242400-1761246000@eaglepointseniorliving.com
SUMMARY:Bingo
DESCRIPTION:Bingo is a fun\, low-pressure game that supports cognitive skills like memory\, attention\, and pattern recognition while encouraging social interaction and emotional well-being. Its adaptability makes it accessible for various ability levels\, offering joy\, routine\, and community.
URL:https://eaglepointseniorliving.com/event-calendar/bingo-16/
LOCATION:Art Room
CATEGORIES:Assisted Living
END:VEVENT
BEGIN:VEVENT
DTSTART;TZID=America/Chicago:20251023T150000
DTEND;TZID=America/Chicago:20251023T160000
DTSTAMP:20260422T093659
CREATED:20250924T072437Z
LAST-MODIFIED:20251023T093936Z
UID:10002388-1761231600-1761235200@eaglepointseniorliving.com
SUMMARY:Sing-along to favorite songs!
DESCRIPTION:A joyful\, interactive activity to sing familiar songs promoting social engagement\, memory recall\, and emotional well-being.
URL:https://eaglepointseniorliving.com/event-calendar/sing-along-23/
LOCATION:Art Room
CATEGORIES:Assisted Living
END:VEVENT
BEGIN:VEVENT
DTSTART;TZID=America/Chicago:20251023T103000
DTEND;TZID=America/Chicago:20251023T113000
DTSTAMP:20260422T093659
CREATED:20250924T072437Z
LAST-MODIFIED:20251023T093936Z
UID:10002385-1761215400-1761219000@eaglepointseniorliving.com
SUMMARY:Name That Tune with Rob & Jen
DESCRIPTION:See if you can Name that Tune! It’s fun to see what melodies you remember.
URL:https://eaglepointseniorliving.com/event-calendar/brain-games-13/
LOCATION:Art Room
CATEGORIES:Assisted Living
END:VEVENT
BEGIN:VEVENT
DTSTART;TZID=America/Chicago:20251022T150000
DTEND;TZID=America/Chicago:20251022T160000
DTSTAMP:20260422T093659
CREATED:20250923T071011Z
LAST-MODIFIED:20251022T092552Z
UID:10002370-1761145200-1761148800@eaglepointseniorliving.com
SUMMARY:Cribbage
DESCRIPTION:
URL:https://eaglepointseniorliving.com/event-calendar/cribbage-24/
LOCATION:Art Room
CATEGORIES:Assisted Living
END:VEVENT
BEGIN:VEVENT
DTSTART;TZID=America/Chicago:20251022T141500
DTEND;TZID=America/Chicago:20251022T150000
DTSTAMP:20260422T093659
CREATED:20251015T090928Z
LAST-MODIFIED:20251022T092552Z
UID:10002724-1761142500-1761145200@eaglepointseniorliving.com
SUMMARY:Location of the Month-Cuba Wrap Up
DESCRIPTION:
URL:https://eaglepointseniorliving.com/event-calendar/location-of-the-month-cuba-wrap-up/
LOCATION:Art Room
CATEGORIES:Assisted Living
END:VEVENT
BEGIN:VEVENT
DTSTART;TZID=America/Chicago:20251022T133000
DTEND;TZID=America/Chicago:20251022T140000
DTSTAMP:20260422T093659
CREATED:20251004T080950Z
LAST-MODIFIED:20251022T092552Z
UID:10002538-1761139800-1761141600@eaglepointseniorliving.com
SUMMARY:Game Time-Family Feud
DESCRIPTION:
URL:https://eaglepointseniorliving.com/event-calendar/game-time/
LOCATION:Art Room
CATEGORIES:Assisted Living
END:VEVENT
BEGIN:VEVENT
DTSTART;TZID=America/Chicago:20251021T143000
DTEND;TZID=America/Chicago:20251021T153000
DTSTAMP:20260422T093659
CREATED:20250922T070932Z
LAST-MODIFIED:20251021T092457Z
UID:10002342-1761057000-1761060600@eaglepointseniorliving.com
SUMMARY:Jeopardy with Ginger
DESCRIPTION:
URL:https://eaglepointseniorliving.com/event-calendar/jeopardy-with-ginger-14/
LOCATION:Art Room
CATEGORIES:Assisted Living
END:VEVENT
BEGIN:VEVENT
DTSTART;TZID=America/Chicago:20251021T133000
DTEND;TZID=America/Chicago:20251021T140000
DTSTAMP:20260422T093659
CREATED:20251004T080950Z
LAST-MODIFIED:20251021T092457Z
UID:10002537-1761053400-1761055200@eaglepointseniorliving.com
SUMMARY:Nature Tidbits: Bats
DESCRIPTION:
URL:https://eaglepointseniorliving.com/event-calendar/nature-tidbits/
LOCATION:Art Room
CATEGORIES:Assisted Living
END:VEVENT
BEGIN:VEVENT
DTSTART;TZID=America/Chicago:20251021T104500
DTEND;TZID=America/Chicago:20251021T113000
DTSTAMP:20260422T093659
CREATED:20251015T090927Z
LAST-MODIFIED:20251021T092457Z
UID:10002723-1761043500-1761046200@eaglepointseniorliving.com
SUMMARY:Recollection Road-Aldi's German multinational family-owned discount supermarket chains
DESCRIPTION:
URL:https://eaglepointseniorliving.com/event-calendar/recollection-road-aldis-german-multinational-family-owned-discount-supermarket-chains-2/
LOCATION:Art Room
CATEGORIES:Assisted Living
END:VEVENT
BEGIN:VEVENT
DTSTART;TZID=America/Chicago:20251020T140000
DTEND;TZID=America/Chicago:20251020T143000
DTSTAMP:20260422T093659
CREATED:20250921T070937Z
LAST-MODIFIED:20251020T092523Z
UID:10002298-1760968800-1760970600@eaglepointseniorliving.com
SUMMARY:Disc Drumming-great for stress reduction\, coordination\, and physical health
DESCRIPTION:
URL:https://eaglepointseniorliving.com/event-calendar/disc-drumming-6/
LOCATION:Art Room
CATEGORIES:Assisted Living
END:VEVENT
BEGIN:VEVENT
DTSTART;TZID=America/Chicago:20251020T133000
DTEND;TZID=America/Chicago:20251020T140000
DTSTAMP:20260422T093659
CREATED:20251016T090949Z
LAST-MODIFIED:20251020T092523Z
UID:10002745-1760967000-1760968800@eaglepointseniorliving.com
SUMMARY:Food Landscapes- features in which the worlds of art and food collide spectacularly
DESCRIPTION:Lifespark Mindful Moments
URL:https://eaglepointseniorliving.com/event-calendar/food-landscapes-features-in-which-the-worlds-of-art-and-food-collide-spectacularly/
LOCATION:Art Room
CATEGORIES:Assisted Living
END:VEVENT
BEGIN:VEVENT
DTSTART;TZID=America/Chicago:20251020T104500
DTEND;TZID=America/Chicago:20251020T113000
DTSTAMP:20260422T093659
CREATED:20251016T090949Z
LAST-MODIFIED:20251020T092523Z
UID:10002744-1760957100-1760959800@eaglepointseniorliving.com
SUMMARY:Grandbuddy Letters at 10:45 AM-Residents will read LETTERS from the Edison students grandbuddies
DESCRIPTION:
URL:https://eaglepointseniorliving.com/event-calendar/grandbuddy-letters-at-1045-am-residents-will-read-letters-from-the-edison-students-grandbuddies/
LOCATION:Art Room
CATEGORIES:Assisted Living
END:VEVENT
BEGIN:VEVENT
DTSTART;TZID=America/Chicago:20251016T150000
DTEND;TZID=America/Chicago:20251016T160000
DTSTAMP:20260422T093659
CREATED:20250917T065451Z
LAST-MODIFIED:20251016T090949Z
UID:10002239-1760626800-1760630400@eaglepointseniorliving.com
SUMMARY:Sing-along to favorite songs!
DESCRIPTION:A joyful\, interactive activity to sing familiar songs promoting social engagement\, memory recall\, and emotional well-being.
URL:https://eaglepointseniorliving.com/event-calendar/sing-along-22/
LOCATION:Art Room
CATEGORIES:Assisted Living
END:VEVENT
BEGIN:VEVENT
DTSTART;TZID=America/Chicago:20251016T143000
DTEND;TZID=America/Chicago:20251016T150000
DTSTAMP:20260422T093659
CREATED:20250917T065451Z
LAST-MODIFIED:20251016T090949Z
UID:10002238-1760625000-1760626800@eaglepointseniorliving.com
SUMMARY:Food Forum-Residents are invited to share their concerns and comments for Culinary Directory Kiaya.
DESCRIPTION:Residents are invited to share their concerns and comments for Culinary Directory Kiaya.
URL:https://eaglepointseniorliving.com/event-calendar/food-forum-6/
LOCATION:Art Room
CATEGORIES:Assisted Living
END:VEVENT
BEGIN:VEVENT
DTSTART;TZID=America/Chicago:20251016T104500
DTEND;TZID=America/Chicago:20251016T113000
DTSTAMP:20260422T093659
CREATED:20250919T065433Z
LAST-MODIFIED:20251016T090949Z
UID:10002265-1760611500-1760614200@eaglepointseniorliving.com
SUMMARY:Brain Games: Try out various word and trivia games to keep cognition sharp!
DESCRIPTION:A variety of games supporting memory\, focus\, and problem-solving skills. Brain games also provide a fun way to stay engaged socially and mentally\, which can boost overall well-being.
URL:https://eaglepointseniorliving.com/event-calendar/brain-games-12/
LOCATION:Art Room
CATEGORIES:Assisted Living
END:VEVENT
END:VCALENDAR