BEGIN:VCALENDAR
VERSION:2.0
PRODID:-//Eagle Point Senior Living - ECPv6.11.2.1//NONSGML v1.0//EN
CALSCALE:GREGORIAN
METHOD:PUBLISH
X-WR-CALNAME:Eagle Point Senior Living
X-ORIGINAL-URL:https://eaglepointseniorliving.com
X-WR-CALDESC:Events for Eagle Point Senior Living
REFRESH-INTERVAL;VALUE=DURATION:PT1H
X-Robots-Tag:noindex
X-PUBLISHED-TTL:PT1H
BEGIN:VTIMEZONE
TZID:America/Chicago
BEGIN:DAYLIGHT
TZOFFSETFROM:-0600
TZOFFSETTO:-0500
TZNAME:CDT
DTSTART:20250309T080000
END:DAYLIGHT
BEGIN:STANDARD
TZOFFSETFROM:-0500
TZOFFSETTO:-0600
TZNAME:CST
DTSTART:20251102T070000
END:STANDARD
END:VTIMEZONE
BEGIN:VEVENT
DTSTART;TZID=America/Chicago:20251118T133000
DTEND;TZID=America/Chicago:20251118T140000
DTSTAMP:20260422T044842
CREATED:20251020T092530Z
LAST-MODIFIED:20251118T102428Z
UID:10002805-1763472600-1763474400@eaglepointseniorliving.com
SUMMARY:Nature Tidbits:World Sponge Month\, Sponges from Ocean to our Homes
DESCRIPTION:
URL:https://eaglepointseniorliving.com/event-calendar/nature-tidbits-6/
LOCATION:Art Room
CATEGORIES:Assisted Living
END:VEVENT
BEGIN:VEVENT
DTSTART;TZID=America/Chicago:20251118T104500
DTEND;TZID=America/Chicago:20251118T113000
DTSTAMP:20260422T044842
CREATED:20251112T100927Z
LAST-MODIFIED:20251118T102428Z
UID:10003196-1763462700-1763465400@eaglepointseniorliving.com
SUMMARY:Hidden History-Major and Local Grocery Stores\, Resident's Choice
DESCRIPTION:
URL:https://eaglepointseniorliving.com/event-calendar/hidden-history-5/
LOCATION:Art Room
CATEGORIES:Assisted Living
END:VEVENT
BEGIN:VEVENT
DTSTART;TZID=America/Chicago:20251118T100000
DTEND;TZID=America/Chicago:20251118T103000
DTSTAMP:20260422T044842
CREATED:20251115T102438Z
LAST-MODIFIED:20251118T102428Z
UID:10003244-1763460000-1763461800@eaglepointseniorliving.com
SUMMARY:Morning Disc Drumming
DESCRIPTION:
URL:https://eaglepointseniorliving.com/event-calendar/morning-disc-drumming-5/
LOCATION:Art Room
CATEGORIES:Assisted Living
END:VEVENT
BEGIN:VEVENT
DTSTART;TZID=America/Chicago:20251117T140000
DTEND;TZID=America/Chicago:20251117T150000
DTSTAMP:20260422T044842
CREATED:20251019T092505Z
LAST-MODIFIED:20251117T102437Z
UID:10002791-1763388000-1763391600@eaglepointseniorliving.com
SUMMARY:New Resident Welcome Meeting-Informational about Building\, Apartments\, Activities\, etc.
DESCRIPTION:We are excited to welcome our newest community members at the Eagle Point Senior Living! This gathering provides an opportunity to connect with neighbors\, learn about community life\, and ask any questions in a warm\, supportive setting.
URL:https://eaglepointseniorliving.com/event-calendar/new-resident-welcome-meeting-informational-about-building-apartments-activities-etc/
LOCATION:Art Room
CATEGORIES:Assisted Living
END:VEVENT
BEGIN:VEVENT
DTSTART;TZID=America/Chicago:20251117T104500
DTEND;TZID=America/Chicago:20251117T113000
DTSTAMP:20260422T044842
CREATED:20251019T092505Z
LAST-MODIFIED:20251117T102437Z
UID:10002787-1763376300-1763379000@eaglepointseniorliving.com
SUMMARY:A Feast of Cultures-Bundt Cake and Cakes from Different Countries
DESCRIPTION:
URL:https://eaglepointseniorliving.com/event-calendar/a-feast-of-cultures/
LOCATION:Art Room
CATEGORIES:Assisted Living
END:VEVENT
BEGIN:VEVENT
DTSTART;TZID=America/Chicago:20251114T104500
DTEND;TZID=America/Chicago:20251114T114500
DTSTAMP:20260422T044842
CREATED:20251016T090956Z
LAST-MODIFIED:20251114T102442Z
UID:10002749-1763117100-1763120700@eaglepointseniorliving.com
SUMMARY:Women's Gathering-Thanksgiving Sharing Chat
DESCRIPTION:
URL:https://eaglepointseniorliving.com/event-calendar/womens-gathering-4/
LOCATION:Art Room
CATEGORIES:Assisted Living
END:VEVENT
BEGIN:VEVENT
DTSTART;TZID=America/Chicago:20251113T180000
DTEND;TZID=America/Chicago:20251113T190000
DTSTAMP:20260422T044842
CREATED:20251015T090933Z
LAST-MODIFIED:20251113T101047Z
UID:10002737-1763056800-1763060400@eaglepointseniorliving.com
SUMMARY:Bingo
DESCRIPTION:Bingo is a fun\, low-pressure game that supports cognitive skills like memory\, attention\, and pattern recognition while encouraging social interaction and emotional well-being. Its adaptability makes it accessible for various ability levels\, offering joy\, routine\, and community.
URL:https://eaglepointseniorliving.com/event-calendar/bingo-19/
LOCATION:Art Room
CATEGORIES:Assisted Living
END:VEVENT
BEGIN:VEVENT
DTSTART;TZID=America/Chicago:20251113T150000
DTEND;TZID=America/Chicago:20251113T160000
DTSTAMP:20260422T044842
CREATED:20251015T090933Z
LAST-MODIFIED:20251113T101047Z
UID:10002736-1763046000-1763049600@eaglepointseniorliving.com
SUMMARY:Sing-along to favorite songs!
DESCRIPTION:A joyful\, interactive activity to sing familiar songs promoting social engagement\, memory recall\, and emotional well-being.
URL:https://eaglepointseniorliving.com/event-calendar/sing-along-to-favorite-songs/
LOCATION:Art Room
CATEGORIES:Assisted Living
END:VEVENT
BEGIN:VEVENT
DTSTART;TZID=America/Chicago:20251113T133000
DTEND;TZID=America/Chicago:20251113T143000
DTSTAMP:20260422T044842
CREATED:20251107T095424Z
LAST-MODIFIED:20251113T101047Z
UID:10003121-1763040600-1763044200@eaglepointseniorliving.com
SUMMARY:Little Holiday Gift Craft--Sugar Scrub
DESCRIPTION:Simple sugar scrub recipe with assorted essential oils for fragrance. Nice small gift to share. Options of Brown Sugar Vanilla Scrub and Lemongrass Lavendar Scrub.
URL:https://eaglepointseniorliving.com/event-calendar/little-holiday-gift-craft-sugar-scrub-2/
LOCATION:Art Room
CATEGORIES:Assisted Living
END:VEVENT
BEGIN:VEVENT
DTSTART;TZID=America/Chicago:20251112T153000
DTEND;TZID=America/Chicago:20251112T163000
DTSTAMP:20260422T044842
CREATED:20251014T085754Z
LAST-MODIFIED:20251112T100927Z
UID:10002711-1762961400-1762965000@eaglepointseniorliving.com
SUMMARY:NOTE TIME CHANGE-Cribbage
DESCRIPTION:
URL:https://eaglepointseniorliving.com/event-calendar/cribbage-27/
LOCATION:Art Room
CATEGORIES:Assisted Living
END:VEVENT
BEGIN:VEVENT
DTSTART;TZID=America/Chicago:20251112T140000
DTEND;TZID=America/Chicago:20251112T152000
DTSTAMP:20260422T044842
CREATED:20251018T092439Z
LAST-MODIFIED:20251112T100927Z
UID:10002776-1762956000-1762960800@eaglepointseniorliving.com
SUMMARY:Curious Kids Coop: Local Students Showcase Their Talents with Rod Puppets and Visiting After
DESCRIPTION:The Curious Kids Coop\, a group of home-schooled students\, will visit. The kids have worked hard to create short puppet shows. There will be 10 groups presenting a show\, with each show lasting a few minutes. Afterwards\, the students would like to interview residents.
URL:https://eaglepointseniorliving.com/event-calendar/curious-kids-coop-local-students-showcase-their-talents-with-rod-puppets-and-visiting-after/
LOCATION:Art Room
CATEGORIES:Assisted Living
END:VEVENT
BEGIN:VEVENT
DTSTART;TZID=America/Chicago:20251112T104500
DTEND;TZID=America/Chicago:20251112T113000
DTSTAMP:20260422T044842
CREATED:20251106T095424Z
LAST-MODIFIED:20251112T100927Z
UID:10003096-1762944300-1762947000@eaglepointseniorliving.com
SUMMARY:Zoom Call with Christine-Community Life Open Forum: Share Ideas & Learn What's New!
DESCRIPTION:
URL:https://eaglepointseniorliving.com/event-calendar/community-life-open-forum-share-ideas-learn-whats-new-5/
LOCATION:Art Room
CATEGORIES:Assisted Living
END:VEVENT
BEGIN:VEVENT
DTSTART;TZID=America/Chicago:20251111T143000
DTEND;TZID=America/Chicago:20251111T153000
DTSTAMP:20260422T044842
CREATED:20251013T085430Z
LAST-MODIFIED:20251111T100924Z
UID:10002693-1762871400-1762875000@eaglepointseniorliving.com
SUMMARY:Jeopardy with Brenda
DESCRIPTION:
URL:https://eaglepointseniorliving.com/event-calendar/jeopardy-with-brenda-14/
LOCATION:Art Room
CATEGORIES:Assisted Living
END:VEVENT
BEGIN:VEVENT
DTSTART;TZID=America/Chicago:20251111T140000
DTEND;TZID=America/Chicago:20251111T143000
DTSTAMP:20260422T044842
CREATED:20251015T090932Z
LAST-MODIFIED:20251111T100924Z
UID:10002728-1762869600-1762871400@eaglepointseniorliving.com
SUMMARY:Hidden History-From Small Thrift Store to Supercenter Giant: The Story of Meijer Grocery
DESCRIPTION:
URL:https://eaglepointseniorliving.com/event-calendar/recollection-road-2/
LOCATION:Art Room
CATEGORIES:Assisted Living
END:VEVENT
BEGIN:VEVENT
DTSTART;TZID=America/Chicago:20251111T100000
DTEND;TZID=America/Chicago:20251111T103000
DTSTAMP:20260422T044842
CREATED:20251023T093941Z
LAST-MODIFIED:20251111T100923Z
UID:10002864-1762855200-1762857000@eaglepointseniorliving.com
SUMMARY:Morning Disc Drumming
DESCRIPTION:
URL:https://eaglepointseniorliving.com/event-calendar/disc-drumming-in-the-morning-in-the-art-room-3/
LOCATION:Art Room
CATEGORIES:Assisted Living
END:VEVENT
BEGIN:VEVENT
DTSTART;TZID=America/Chicago:20251110T160000
DTEND;TZID=America/Chicago:20251110T163000
DTSTAMP:20260422T044842
CREATED:20251105T095423Z
LAST-MODIFIED:20251110T100923Z
UID:10003078-1762790400-1762792200@eaglepointseniorliving.com
SUMMARY:Grandbuddy Letter Writing Gathering-Grandbuddies will write letters to the children as a group
DESCRIPTION:
URL:https://eaglepointseniorliving.com/event-calendar/grandbuddy-letter-writing-gathering-grandbuddies-will-write-letters-to-the-children-as-a-group/
LOCATION:Art Room
CATEGORIES:Assisted Living
END:VEVENT
BEGIN:VEVENT
DTSTART;TZID=America/Chicago:20251108T103000
DTEND;TZID=America/Chicago:20251108T113000
DTSTAMP:20260422T044842
CREATED:20251106T105422Z
LAST-MODIFIED:20251108T110923Z
UID:10003106-1762597800-1762601400@eaglepointseniorliving.com
SUMMARY:Art Activity - Cornucopia
DESCRIPTION:Cornucopia paper craft
URL:https://eaglepointseniorliving.com/event-calendar/art-activity-cornucopia/
LOCATION:Art Room
CATEGORIES:Memory Care
END:VEVENT
BEGIN:VEVENT
DTSTART;TZID=America/Chicago:20251107T150000
DTEND;TZID=America/Chicago:20251107T160000
DTSTAMP:20260422T044842
CREATED:20251101T093929Z
LAST-MODIFIED:20251107T095423Z
UID:10003012-1762527600-1762531200@eaglepointseniorliving.com
SUMMARY:Sing a long!
DESCRIPTION:A joyful\, interactive activity to sing familiar songs promoting social engagement\, memory recall\, and emotional well-being.
URL:https://eaglepointseniorliving.com/event-calendar/sing-a-long-5/
LOCATION:Art Room
CATEGORIES:Assisted Living
END:VEVENT
BEGIN:VEVENT
DTSTART;TZID=America/Chicago:20251107T130000
DTEND;TZID=America/Chicago:20251107T143000
DTSTAMP:20260422T044842
CREATED:20251009T083957Z
LAST-MODIFIED:20251107T095423Z
UID:10002646-1762520400-1762525800@eaglepointseniorliving.com
SUMMARY:Bridge in the Art Room
DESCRIPTION:For more information to join a table of 4 or to be a sub\, please contact Barb Lenz.
URL:https://eaglepointseniorliving.com/event-calendar/bridge-in-the-art-room-13/
LOCATION:Art Room
CATEGORIES:Assisted Living
END:VEVENT
BEGIN:VEVENT
DTSTART;TZID=America/Chicago:20251107T100000
DTEND;TZID=America/Chicago:20251107T110000
DTSTAMP:20260422T044842
CREATED:20251009T083957Z
LAST-MODIFIED:20251107T095423Z
UID:10002643-1762509600-1762513200@eaglepointseniorliving.com
SUMMARY:Dementia Support Group
DESCRIPTION:
URL:https://eaglepointseniorliving.com/event-calendar/dementia-support-group-6/
LOCATION:Art Room
CATEGORIES:Assisted Living
END:VEVENT
BEGIN:VEVENT
DTSTART;TZID=America/Chicago:20251106T180000
DTEND;TZID=America/Chicago:20251106T190000
DTSTAMP:20260422T044842
CREATED:20251008T082501Z
LAST-MODIFIED:20251106T095424Z
UID:10002629-1762452000-1762455600@eaglepointseniorliving.com
SUMMARY:Bingo
DESCRIPTION:Bingo is a fun\, low-pressure game that supports cognitive skills like memory\, attention\, and pattern recognition while encouraging social interaction and emotional well-being. Its adaptability makes it accessible for various ability levels\, offering joy\, routine\, and community.
URL:https://eaglepointseniorliving.com/event-calendar/bingo-18/
LOCATION:Art Room
CATEGORIES:Assisted Living
END:VEVENT
BEGIN:VEVENT
DTSTART;TZID=America/Chicago:20251105T150000
DTEND;TZID=America/Chicago:20251105T160000
DTSTAMP:20260422T044842
CREATED:20251007T082442Z
LAST-MODIFIED:20251105T095423Z
UID:10002600-1762354800-1762358400@eaglepointseniorliving.com
SUMMARY:Cribbage
DESCRIPTION:
URL:https://eaglepointseniorliving.com/event-calendar/cribbage-26/
LOCATION:Art Room
CATEGORIES:Assisted Living
END:VEVENT
BEGIN:VEVENT
DTSTART;TZID=America/Chicago:20251105T124500
DTEND;TZID=America/Chicago:20251105T140000
DTSTAMP:20260422T044842
CREATED:20251007T082441Z
LAST-MODIFIED:20251105T095423Z
UID:10002597-1762346700-1762351200@eaglepointseniorliving.com
SUMMARY:LOCATION CHANGED  TO THE ART ROOM-The Challenge: Competition using the arm/leg crank and Quiz
DESCRIPTION:Have fun challenging yourself and/or cheering on the team in the competition portion of The Challenge! Everyone welcome to attend!
URL:https://eaglepointseniorliving.com/event-calendar/the-challenge-competition-5/
LOCATION:Art Room
CATEGORIES:Assisted Living
END:VEVENT
BEGIN:VEVENT
DTSTART;TZID=America/Chicago:20251105T104500
DTEND;TZID=America/Chicago:20251105T113000
DTSTAMP:20260422T044842
CREATED:20251007T082441Z
LAST-MODIFIED:20251105T095423Z
UID:10002596-1762339500-1762342200@eaglepointseniorliving.com
SUMMARY:Location of the Week-Panama
DESCRIPTION:
URL:https://eaglepointseniorliving.com/event-calendar/location-of-the-month-panama/
LOCATION:Art Room
CATEGORIES:Assisted Living
END:VEVENT
BEGIN:VEVENT
DTSTART;TZID=America/Chicago:20251104T143000
DTEND;TZID=America/Chicago:20251104T153000
DTSTAMP:20260422T044842
CREATED:20251006T082457Z
LAST-MODIFIED:20251104T095425Z
UID:10002583-1762266600-1762270200@eaglepointseniorliving.com
SUMMARY:Jeopardy with Ginger
DESCRIPTION:
URL:https://eaglepointseniorliving.com/event-calendar/jeopardy-with-ginger-15/
LOCATION:Art Room
CATEGORIES:Assisted Living
END:VEVENT
BEGIN:VEVENT
DTSTART;TZID=America/Chicago:20251104T133000
DTEND;TZID=America/Chicago:20251104T140000
DTSTAMP:20260422T044842
CREATED:20251006T082457Z
LAST-MODIFIED:20251104T095425Z
UID:10002581-1762263000-1762264800@eaglepointseniorliving.com
SUMMARY:Nature Tidbits:-"How much do you Really Know about Nature\, Trivia"
DESCRIPTION:
URL:https://eaglepointseniorliving.com/event-calendar/nature-tidbits-3/
LOCATION:Art Room
CATEGORIES:Assisted Living
END:VEVENT
BEGIN:VEVENT
DTSTART;TZID=America/Chicago:20251104T100000
DTEND;TZID=America/Chicago:20251104T103000
DTSTAMP:20260422T044842
CREATED:20251023T093939Z
LAST-MODIFIED:20251104T095425Z
UID:10002863-1762250400-1762252200@eaglepointseniorliving.com
SUMMARY:Disc Drumming in the Morning in the Art Room
DESCRIPTION:
URL:https://eaglepointseniorliving.com/event-calendar/disc-drumming-in-the-morning-in-the-art-room-2/
LOCATION:Art Room
CATEGORIES:Assisted Living
END:VEVENT
BEGIN:VEVENT
DTSTART;TZID=America/Chicago:20251103T104500
DTEND;TZID=America/Chicago:20251103T113000
DTSTAMP:20260422T044842
CREATED:20251005T082449Z
LAST-MODIFIED:20251103T095426Z
UID:10002563-1762166700-1762169400@eaglepointseniorliving.com
SUMMARY:A Feast of Cultures -(Bunka no Hi)"Culture Day in Japan" & "Recreation Day in Australia"
DESCRIPTION:
URL:https://eaglepointseniorliving.com/event-calendar/november-lifespark-theme-a-feast-of-cultures/
LOCATION:Art Room
CATEGORIES:Assisted Living
END:VEVENT
BEGIN:VEVENT
DTSTART;TZID=America/Chicago:20251031T130000
DTEND;TZID=America/Chicago:20251031T140000
DTSTAMP:20260422T044842
CREATED:20251002T074027Z
LAST-MODIFIED:20251031T093931Z
UID:10002495-1761915600-1761919200@eaglepointseniorliving.com
SUMMARY:NOTE LOCATION CHANGE-Really Big Show - The league standings of Tue/Wed  Quiz & Test are revealed.
DESCRIPTION:
URL:https://eaglepointseniorliving.com/event-calendar/really-big-show-8/
LOCATION:Art Room
CATEGORIES:Assisted Living
END:VEVENT
BEGIN:VEVENT
DTSTART;TZID=America/Chicago:20251030T180000
DTEND;TZID=America/Chicago:20251030T190000
DTSTAMP:20260422T044842
CREATED:20251001T074046Z
LAST-MODIFIED:20251030T093924Z
UID:10002491-1761847200-1761850800@eaglepointseniorliving.com
SUMMARY:Bingo
DESCRIPTION:Bingo is a fun\, low-pressure game that supports cognitive skills like memory\, attention\, and pattern recognition while encouraging social interaction and emotional well-being. Its adaptability makes it accessible for various ability levels\, offering joy\, routine\, and community.
URL:https://eaglepointseniorliving.com/event-calendar/bingo-17/
LOCATION:Art Room
CATEGORIES:Assisted Living
END:VEVENT
END:VCALENDAR