BEGIN:VCALENDAR
VERSION:2.0
PRODID:-//Eagle Point Senior Living - ECPv6.11.2.1//NONSGML v1.0//EN
CALSCALE:GREGORIAN
METHOD:PUBLISH
X-ORIGINAL-URL:https://eaglepointseniorliving.com
X-WR-CALDESC:Events for Eagle Point Senior Living
REFRESH-INTERVAL;VALUE=DURATION:PT1H
X-Robots-Tag:noindex
X-PUBLISHED-TTL:PT1H
BEGIN:VTIMEZONE
TZID:America/Chicago
BEGIN:DAYLIGHT
TZOFFSETFROM:-0600
TZOFFSETTO:-0500
TZNAME:CDT
DTSTART:20250309T080000
END:DAYLIGHT
BEGIN:STANDARD
TZOFFSETFROM:-0500
TZOFFSETTO:-0600
TZNAME:CST
DTSTART:20251102T070000
END:STANDARD
END:VTIMEZONE
BEGIN:VEVENT
DTSTART;TZID=America/Chicago:20250815T104500
DTEND;TZID=America/Chicago:20250815T113000
DTSTAMP:20260423T060308
CREATED:20250717T035436Z
LAST-MODIFIED:20250815T052436Z
UID:10001348-1755254700-1755257400@eaglepointseniorliving.com
SUMMARY:Friday Food Fun-Chips Taste Testing
DESCRIPTION:
URL:https://eaglepointseniorliving.com/event-calendar/friday-food-fun-11/
LOCATION:Art Room
CATEGORIES:Assisted Living
END:VEVENT
BEGIN:VEVENT
DTSTART;TZID=America/Chicago:20250814T180000
DTEND;TZID=America/Chicago:20250814T190000
DTSTAMP:20260423T060308
CREATED:20250716T034003Z
LAST-MODIFIED:20250814T052444Z
UID:10001335-1755194400-1755198000@eaglepointseniorliving.com
SUMMARY:Bingo
DESCRIPTION:Bingo is a fun\, low-pressure game that supports cognitive skills like memory\, attention\, and pattern recognition while encouraging social interaction and emotional well-being. Its adaptability makes it accessible for various ability levels\, offering joy\, routine\, and community.
URL:https://eaglepointseniorliving.com/event-calendar/bingo-8/
LOCATION:Art Room
CATEGORIES:Assisted Living
END:VEVENT
BEGIN:VEVENT
DTSTART;TZID=America/Chicago:20250814T104500
DTEND;TZID=America/Chicago:20250814T113000
DTSTAMP:20260423T060308
CREATED:20250802T042503Z
LAST-MODIFIED:20250814T052444Z
UID:10001592-1755168300-1755171000@eaglepointseniorliving.com
SUMMARY:Craft: S'more treats & Decorate School Donation Boxes
DESCRIPTION:All abilities welcome!! Make treats and decorate the school supply boxes for Edison school!\nJoin us for 45 minutes of creativity\, stress reduction\, and cognitive and motor skill building.
URL:https://eaglepointseniorliving.com/event-calendar/craft-17/
LOCATION:Art Room
CATEGORIES:Assisted Living
END:VEVENT
BEGIN:VEVENT
DTSTART;TZID=America/Chicago:20250813T150000
DTEND;TZID=America/Chicago:20250813T160000
DTSTAMP:20260423T060308
CREATED:20250715T032431Z
LAST-MODIFIED:20250813T052441Z
UID:10001319-1755097200-1755100800@eaglepointseniorliving.com
SUMMARY:Cribbage
DESCRIPTION:
URL:https://eaglepointseniorliving.com/event-calendar/cribbage-14/
LOCATION:Art Room
CATEGORIES:Assisted Living
END:VEVENT
BEGIN:VEVENT
DTSTART;TZID=America/Chicago:20250813T140000
DTEND;TZID=America/Chicago:20250813T150000
DTSTAMP:20260423T060308
CREATED:20250809T051006Z
LAST-MODIFIED:20250813T052441Z
UID:10001681-1755093600-1755097200@eaglepointseniorliving.com
SUMMARY:Games in the Art Room Mahjong/Rummikub
DESCRIPTION:
URL:https://eaglepointseniorliving.com/event-calendar/games-in-the-art-room-mahjong-rummikub/
LOCATION:Art Room
CATEGORIES:Assisted Living
END:VEVENT
BEGIN:VEVENT
DTSTART;TZID=America/Chicago:20250813T104500
DTEND;TZID=America/Chicago:20250813T113000
DTSTAMP:20260423T060308
CREATED:20250715T032430Z
LAST-MODIFIED:20250813T052441Z
UID:10001316-1755081900-1755084600@eaglepointseniorliving.com
SUMMARY:Month of August New Zealand-Animals of New Zealand
DESCRIPTION:New Zealand’s past\, there are many unique types of flora and fauna native to the islands. Along with unique native species\, New Zealand is also home to many exotic types of animal species. Originally\, New Zealand had very few predator mammals\, leading to the increased evolution of flightless birds.
URL:https://eaglepointseniorliving.com/event-calendar/month-of-august-travels-to-new-zealand-2/
LOCATION:Art Room
CATEGORIES:Assisted Living
END:VEVENT
BEGIN:VEVENT
DTSTART;TZID=America/Chicago:20250812T153000
DTEND;TZID=America/Chicago:20250812T163000
DTSTAMP:20260423T060308
CREATED:20250722T040935Z
LAST-MODIFIED:20250812T052620Z
UID:10001424-1755012600-1755016200@eaglepointseniorliving.com
SUMMARY:Famous Person of the Week-Russel Crowe
DESCRIPTION:
URL:https://eaglepointseniorliving.com/event-calendar/famous-person-of-the-week-2/
LOCATION:Art Room
CATEGORIES:Assisted Living
END:VEVENT
BEGIN:VEVENT
DTSTART;TZID=America/Chicago:20250812T143000
DTEND;TZID=America/Chicago:20250812T153000
DTSTAMP:20260423T060308
CREATED:20250714T032429Z
LAST-MODIFIED:20250812T052620Z
UID:10001303-1755009000-1755012600@eaglepointseniorliving.com
SUMMARY:Jeopardy with Ginger
DESCRIPTION:
URL:https://eaglepointseniorliving.com/event-calendar/jeopardy-with-ginger-9/
LOCATION:Art Room
CATEGORIES:Assisted Living
END:VEVENT
BEGIN:VEVENT
DTSTART;TZID=America/Chicago:20250811T104500
DTEND;TZID=America/Chicago:20250811T113000
DTSTAMP:20260423T060308
CREATED:20250808T050922Z
LAST-MODIFIED:20250811T050951Z
UID:10001670-1754909100-1754911800@eaglepointseniorliving.com
SUMMARY:Tech Day: Photos-taking & storage
DESCRIPTION:Bring in your device to get changed over to the new server or come in with any questions!
URL:https://eaglepointseniorliving.com/event-calendar/tech-day/
LOCATION:Art Room
CATEGORIES:Assisted Living
END:VEVENT
BEGIN:VEVENT
DTSTART;TZID=America/Chicago:20250808T140000
DTEND;TZID=America/Chicago:20250808T144500
DTSTAMP:20260423T060308
CREATED:20250801T042425Z
LAST-MODIFIED:20250808T050924Z
UID:10001578-1754661600-1754664300@eaglepointseniorliving.com
SUMMARY:Who am I?: U.S. Presidents
DESCRIPTION:Come and test your knowledge of U.S. Presidents!
URL:https://eaglepointseniorliving.com/event-calendar/who-am-i-u-s-presidents/
LOCATION:Art Room
CATEGORIES:Assisted Living
END:VEVENT
BEGIN:VEVENT
DTSTART;TZID=America/Chicago:20250808T104500
DTEND;TZID=America/Chicago:20250808T113000
DTSTAMP:20260423T060308
CREATED:20250710T032540Z
LAST-MODIFIED:20250808T050924Z
UID:10001241-1754649900-1754652600@eaglepointseniorliving.com
SUMMARY:Ladies Gathering- "Famous Women of New Zealand"
DESCRIPTION:Learn about some famous New Zealand women and share some treats!
URL:https://eaglepointseniorliving.com/event-calendar/ladies-gathering-3/
LOCATION:Art Room
CATEGORIES:Assisted Living
END:VEVENT
BEGIN:VEVENT
DTSTART;TZID=America/Chicago:20250807T104500
DTEND;TZID=America/Chicago:20250807T113000
DTSTAMP:20260423T060308
CREATED:20250802T042501Z
LAST-MODIFIED:20250807T045425Z
UID:10001591-1754563500-1754566200@eaglepointseniorliving.com
SUMMARY:Craft: Makers Day Craft Tables
DESCRIPTION:All abilities welcome!! Join us for 45 minutes of creativity\, stress reduction\, and cognitive and motor skill building.
URL:https://eaglepointseniorliving.com/event-calendar/craft-makers-day-craft-tables/
LOCATION:Art Room
CATEGORIES:Assisted Living
END:VEVENT
BEGIN:VEVENT
DTSTART;TZID=America/Chicago:20250806T150000
DTEND;TZID=America/Chicago:20250806T160000
DTSTAMP:20260423T060308
CREATED:20250708T030946Z
LAST-MODIFIED:20250806T045427Z
UID:10001210-1754492400-1754496000@eaglepointseniorliving.com
SUMMARY:Cribbage
DESCRIPTION:
URL:https://eaglepointseniorliving.com/event-calendar/cribbage-13/
LOCATION:Art Room
CATEGORIES:Assisted Living
END:VEVENT
BEGIN:VEVENT
DTSTART;TZID=America/Chicago:20250806T104500
DTEND;TZID=America/Chicago:20250806T113000
DTSTAMP:20260423T060308
CREATED:20250708T030946Z
LAST-MODIFIED:20250806T045427Z
UID:10001207-1754477100-1754479800@eaglepointseniorliving.com
SUMMARY:Month of August-Discover New Zealand
DESCRIPTION:Join us as we begin our travel of New Zealand for the month of August.  The National Anthem\, Geography\, Economy and Culture
URL:https://eaglepointseniorliving.com/event-calendar/month-of-august-travels-to-new-zealand/
LOCATION:Art Room
CATEGORIES:Assisted Living
END:VEVENT
BEGIN:VEVENT
DTSTART;TZID=America/Chicago:20250805T153000
DTEND;TZID=America/Chicago:20250805T163000
DTSTAMP:20260423T060308
CREATED:20250722T040933Z
LAST-MODIFIED:20250805T045423Z
UID:10001423-1754407800-1754411400@eaglepointseniorliving.com
SUMMARY:Famous Person of the Week-Jerry Garcia
DESCRIPTION:
URL:https://eaglepointseniorliving.com/event-calendar/famous-person-of-the-week/
LOCATION:Art Room
CATEGORIES:Assisted Living
END:VEVENT
BEGIN:VEVENT
DTSTART;TZID=America/Chicago:20250805T143000
DTEND;TZID=America/Chicago:20250805T153000
DTSTAMP:20260423T060308
CREATED:20250707T030941Z
LAST-MODIFIED:20250805T045423Z
UID:10001188-1754404200-1754407800@eaglepointseniorliving.com
SUMMARY:Jeopardy with Brenda
DESCRIPTION:
URL:https://eaglepointseniorliving.com/event-calendar/jeopardy-with-brenda-7/
LOCATION:Art Room
CATEGORIES:Assisted Living
END:VEVENT
BEGIN:VEVENT
DTSTART;TZID=America/Chicago:20250805T104500
DTEND;TZID=America/Chicago:20250805T113000
DTSTAMP:20260423T060308
CREATED:20250730T042423Z
LAST-MODIFIED:20250805T045423Z
UID:10001542-1754390700-1754393400@eaglepointseniorliving.com
SUMMARY:You Be the Judge and Guess the Verdict!
DESCRIPTION:You be the judge on real life court cases. We will read you the story and you get to guess what the outcome really was!
URL:https://eaglepointseniorliving.com/event-calendar/you-be-the-judge-and-guess-the-verdict-2/
LOCATION:Art Room
CATEGORIES:Assisted Living
END:VEVENT
BEGIN:VEVENT
DTSTART;TZID=America/Chicago:20250804T104500
DTEND;TZID=America/Chicago:20250804T113000
DTSTAMP:20260423T060308
CREATED:20250731T042452Z
LAST-MODIFIED:20250804T045426Z
UID:10001564-1754304300-1754307000@eaglepointseniorliving.com
SUMMARY:Tech Day with Hailey & Kylie
DESCRIPTION:Come to the art room and Hailey & Kylie will help you switch to the new wifi\, LSSL guest\, and answer any tech questions you may have!
URL:https://eaglepointseniorliving.com/event-calendar/game-time-with-hailey-apples-to-apples/
LOCATION:Art Room
CATEGORIES:Assisted Living
END:VEVENT
BEGIN:VEVENT
DTSTART;TZID=America/Chicago:20250801T130000
DTEND;TZID=America/Chicago:20250801T143000
DTSTAMP:20260423T060308
CREATED:20250703T023954Z
LAST-MODIFIED:20250801T042424Z
UID:10001157-1754053200-1754058600@eaglepointseniorliving.com
SUMMARY:Bridge in the Art Room
DESCRIPTION:For more information to join a table of 4 or to be a sub\, please contact Barb Lenz.
URL:https://eaglepointseniorliving.com/event-calendar/bridge-in-the-art-room-6/
LOCATION:Art Room
CATEGORIES:Assisted Living
END:VEVENT
BEGIN:VEVENT
DTSTART;TZID=America/Chicago:20250801T104500
DTEND;TZID=America/Chicago:20250801T113000
DTSTAMP:20260423T060308
CREATED:20250703T023954Z
LAST-MODIFIED:20250801T042424Z
UID:10001156-1754045100-1754047800@eaglepointseniorliving.com
SUMMARY:Appleton Public Library Outing
DESCRIPTION:
URL:https://eaglepointseniorliving.com/event-calendar/friday-food-fun-9/
LOCATION:Art Room
CATEGORIES:Assisted Living
END:VEVENT
BEGIN:VEVENT
DTSTART;TZID=America/Chicago:20250731T180000
DTEND;TZID=America/Chicago:20250731T190000
DTSTAMP:20260423T060308
CREATED:20250711T032506Z
LAST-MODIFIED:20250731T042453Z
UID:10001272-1753984800-1753988400@eaglepointseniorliving.com
SUMMARY:Bingo
DESCRIPTION:Bingo is a fun\, low-pressure game that supports cognitive skills like memory\, attention\, and pattern recognition while encouraging social interaction and emotional well-being. Its adaptability makes it accessible for various ability levels\, offering joy\, routine\, and community.
URL:https://eaglepointseniorliving.com/event-calendar/bingo-7/
LOCATION:Art Room
CATEGORIES:Assisted Living
END:VEVENT
BEGIN:VEVENT
DTSTART;TZID=America/Chicago:20250731T104500
DTEND;TZID=America/Chicago:20250731T113000
DTSTAMP:20260423T060308
CREATED:20250702T024033Z
LAST-MODIFIED:20250731T042453Z
UID:10001137-1753958700-1753961400@eaglepointseniorliving.com
SUMMARY:Craft: Makers Day Tables
DESCRIPTION:All abilities welcome!! Tables will be set with a variety of crafts from the past. Make something again that you loved or maybe it will be “New to You”!
URL:https://eaglepointseniorliving.com/event-calendar/craft-13/
LOCATION:Art Room
CATEGORIES:Assisted Living
END:VEVENT
BEGIN:VEVENT
DTSTART;TZID=America/Chicago:20250730T150000
DTEND;TZID=America/Chicago:20250730T160000
DTSTAMP:20260423T060308
CREATED:20250701T024016Z
LAST-MODIFIED:20250730T042424Z
UID:10001122-1753887600-1753891200@eaglepointseniorliving.com
SUMMARY:Cribbage
DESCRIPTION:
URL:https://eaglepointseniorliving.com/event-calendar/cribbage-12/
LOCATION:Art Room
CATEGORIES:Assisted Living
END:VEVENT
BEGIN:VEVENT
DTSTART;TZID=America/Chicago:20250730T141500
DTEND;TZID=America/Chicago:20250730T150000
DTSTAMP:20260423T060308
CREATED:20250717T035433Z
LAST-MODIFIED:20250730T042424Z
UID:10001343-1753884900-1753887600@eaglepointseniorliving.com
SUMMARY:Canada in Review
DESCRIPTION:
URL:https://eaglepointseniorliving.com/event-calendar/canada-in-review/
LOCATION:Art Room
CATEGORIES:Assisted Living
END:VEVENT
BEGIN:VEVENT
DTSTART;TZID=America/Chicago:20250729T143000
DTEND;TZID=America/Chicago:20250729T153000
DTSTAMP:20260423T060308
CREATED:20250630T022449Z
LAST-MODIFIED:20250729T042458Z
UID:10001101-1753799400-1753803000@eaglepointseniorliving.com
SUMMARY:Jeopardy with Ginger
DESCRIPTION:
URL:https://eaglepointseniorliving.com/event-calendar/jeopardy-with-ginger-8/
LOCATION:Art Room
CATEGORIES:Assisted Living
END:VEVENT
BEGIN:VEVENT
DTSTART;TZID=America/Chicago:20250729T104500
DTEND;TZID=America/Chicago:20250729T113000
DTSTAMP:20260423T060308
CREATED:20250726T042422Z
LAST-MODIFIED:20250729T042458Z
UID:10001476-1753785900-1753788600@eaglepointseniorliving.com
SUMMARY:You Be the Judge and Guess the Verdict!
DESCRIPTION:You be the judge on real life court cases. We will read you the story and you get to guess what the outcome really was!
URL:https://eaglepointseniorliving.com/event-calendar/you-be-the-judge-and-guess-the-verdict/
LOCATION:Art Room
CATEGORIES:Assisted Living
END:VEVENT
BEGIN:VEVENT
DTSTART;TZID=America/Chicago:20250728T140000
DTEND;TZID=America/Chicago:20250728T153000
DTSTAMP:20260423T060308
CREATED:20250629T022427Z
LAST-MODIFIED:20250728T042432Z
UID:10001089-1753711200-1753716600@eaglepointseniorliving.com
SUMMARY:Book Club Discussion-"The Department of Sensitive Crimes"
DESCRIPTION:
URL:https://eaglepointseniorliving.com/event-calendar/book-club-discussion-the-department-of-sensitive-crimes/
LOCATION:Art Room
CATEGORIES:Assisted Living
END:VEVENT
BEGIN:VEVENT
DTSTART;TZID=America/Chicago:20250728T104500
DTEND;TZID=America/Chicago:20250728T113000
DTSTAMP:20260423T060308
CREATED:20250701T024016Z
LAST-MODIFIED:20250728T042432Z
UID:10001116-1753699500-1753702200@eaglepointseniorliving.com
SUMMARY:Purple University: Environmental Health
DESCRIPTION:Come to the last Purple University at 10:45am to learn about the health of our environment and take a quiz at the end to see what you’ve learned!
URL:https://eaglepointseniorliving.com/event-calendar/purple-university-well-being-4/
LOCATION:Art Room
CATEGORIES:Assisted Living
END:VEVENT
BEGIN:VEVENT
DTSTART;TZID=America/Chicago:20250725T150000
DTEND;TZID=America/Chicago:20250725T160000
DTSTAMP:20260423T060308
CREATED:20250718T040931Z
LAST-MODIFIED:20250725T042550Z
UID:10001360-1753455600-1753459200@eaglepointseniorliving.com
SUMMARY:The Science of Happiness Pt. 2
DESCRIPTION:We’ll continue our course on the latest findings in psychological science that reveal how we can increase happiness\, reduce stress\, and thrive in our daily lives. Then\, we’ll dive into practical ways to apply these insights by developing habits that support a more joyful and fulfilling life.
URL:https://eaglepointseniorliving.com/event-calendar/the-science-of-happiness-pt-2-3/
LOCATION:Art Room
CATEGORIES:Assisted Living
END:VEVENT
BEGIN:VEVENT
DTSTART;TZID=America/Chicago:20250725T104500
DTEND;TZID=America/Chicago:20250725T113000
DTSTAMP:20260423T060308
CREATED:20250626T015522Z
LAST-MODIFIED:20250725T042550Z
UID:10001023-1753440300-1753443000@eaglepointseniorliving.com
SUMMARY:Friday Food Fun: Wi State Fair food Items
DESCRIPTION:
URL:https://eaglepointseniorliving.com/event-calendar/friday-food-fun-wi-state-fair-food-items/
LOCATION:Art Room
CATEGORIES:Assisted Living
END:VEVENT
END:VCALENDAR