BEGIN:VCALENDAR
VERSION:2.0
PRODID:-//Eagle Point Senior Living - ECPv6.11.2.1//NONSGML v1.0//EN
CALSCALE:GREGORIAN
METHOD:PUBLISH
X-ORIGINAL-URL:https://eaglepointseniorliving.com
X-WR-CALDESC:Events for Eagle Point Senior Living
REFRESH-INTERVAL;VALUE=DURATION:PT1H
X-Robots-Tag:noindex
X-PUBLISHED-TTL:PT1H
BEGIN:VTIMEZONE
TZID:America/Chicago
BEGIN:DAYLIGHT
TZOFFSETFROM:-0600
TZOFFSETTO:-0500
TZNAME:CDT
DTSTART:20260308T080000
END:DAYLIGHT
BEGIN:STANDARD
TZOFFSETFROM:-0500
TZOFFSETTO:-0600
TZNAME:CST
DTSTART:20261101T070000
END:STANDARD
END:VTIMEZONE
BEGIN:VEVENT
DTSTART;TZID=America/Chicago:20260520T090000
DTEND;TZID=America/Chicago:20260520T100000
DTSTAMP:20260423T070315
CREATED:20260421T080937Z
LAST-MODIFIED:20260423T081243Z
UID:10005569-1779267600-1779271200@eaglepointseniorliving.com
SUMMARY:Morning bowling & Yard Games
DESCRIPTION:
URL:https://eaglepointseniorliving.com/event-calendar/morning-bowling-yard-games/
LOCATION:Activity room
CATEGORIES:Memory Care
END:VEVENT
BEGIN:VEVENT
DTSTART;TZID=America/Chicago:20260520T100000
DTEND;TZID=America/Chicago:20260520T103000
DTSTAMP:20260423T070315
CREATED:20260421T080937Z
LAST-MODIFIED:20260423T081243Z
UID:10005570-1779271200-1779273000@eaglepointseniorliving.com
SUMMARY:Weekly Worship
DESCRIPTION:Christian worship service with communion led by Chaplain Peter.
URL:https://eaglepointseniorliving.com/event-calendar/weekly-worship-49/
LOCATION:Activity room
CATEGORIES:Memory Care
END:VEVENT
BEGIN:VEVENT
DTSTART;TZID=America/Chicago:20260520T110000
DTEND;TZID=America/Chicago:20260520T120000
DTSTAMP:20260423T070315
CREATED:20260421T080938Z
LAST-MODIFIED:20260423T081243Z
UID:10005571-1779274800-1779278400@eaglepointseniorliving.com
SUMMARY:Morning Crafter
DESCRIPTION:
URL:https://eaglepointseniorliving.com/event-calendar/morning-crafter-10/
LOCATION:Activity room
CATEGORIES:Memory Care
END:VEVENT
BEGIN:VEVENT
DTSTART;TZID=America/Chicago:20260520T190000
DTEND;TZID=America/Chicago:20260520T191500
DTSTAMP:20260423T070315
CREATED:20260421T080938Z
LAST-MODIFIED:20260423T081243Z
UID:10005572-1779303600-1779304500@eaglepointseniorliving.com
SUMMARY:Snack Pass
DESCRIPTION:
URL:https://eaglepointseniorliving.com/event-calendar/snack-pass-270/
LOCATION:Dining Room
CATEGORIES:Memory Care
END:VEVENT
BEGIN:VEVENT
DTSTART;TZID=America/Chicago:20260521T093000
DTEND;TZID=America/Chicago:20260521T103000
DTSTAMP:20260423T070315
CREATED:20260422T080935Z
LAST-MODIFIED:20260423T081243Z
UID:10005573-1779355800-1779359400@eaglepointseniorliving.com
SUMMARY:Chair Yoga Dance
DESCRIPTION:
URL:https://eaglepointseniorliving.com/event-calendar/chair-yoga-dance-12/
LOCATION:Activity room
CATEGORIES:Memory Care
END:VEVENT
BEGIN:VEVENT
DTSTART;TZID=America/Chicago:20260521T100000
DTEND;TZID=America/Chicago:20260521T103000
DTSTAMP:20260423T070315
CREATED:20260422T080935Z
LAST-MODIFIED:20260423T081243Z
UID:10005574-1779357600-1779359400@eaglepointseniorliving.com
SUMMARY:Spirit Spark
DESCRIPTION:Various spiritual topics and activities with Chaplain Peter.
URL:https://eaglepointseniorliving.com/event-calendar/spirit-spark-11/
CATEGORIES:Memory Care
END:VEVENT
BEGIN:VEVENT
DTSTART;TZID=America/Chicago:20260521T103000
DTEND;TZID=America/Chicago:20260521T123000
DTSTAMP:20260423T070315
CREATED:20260422T080935Z
LAST-MODIFIED:20260423T081243Z
UID:10005575-1779359400-1779366600@eaglepointseniorliving.com
SUMMARY:Thursday Traveling Trip-Picnic to Greenville Park
DESCRIPTION:
URL:https://eaglepointseniorliving.com/event-calendar/thursday-traveling-trip-picnic-to-greenville-park/
LOCATION:Lobby
CATEGORIES:Memory Care
END:VEVENT
BEGIN:VEVENT
DTSTART;TZID=America/Chicago:20260521T130000
DTEND;TZID=America/Chicago:20260521T140000
DTSTAMP:20260423T070315
CREATED:20260422T080935Z
LAST-MODIFIED:20260423T081243Z
UID:10005576-1779368400-1779372000@eaglepointseniorliving.com
SUMMARY:Life Lessons Library-Gardening History
DESCRIPTION:May Theme We Discover a Garden Full of Growing Things
URL:https://eaglepointseniorliving.com/event-calendar/life-lessons-library-gardening-history/
LOCATION:Activity room
CATEGORIES:Memory Care
END:VEVENT
BEGIN:VEVENT
DTSTART;TZID=America/Chicago:20260521T143000
DTEND;TZID=America/Chicago:20260521T153000
DTSTAMP:20260423T070315
CREATED:20260422T080935Z
LAST-MODIFIED:20260423T081243Z
UID:10005577-1779373800-1779377400@eaglepointseniorliving.com
SUMMARY:Jeopardy
DESCRIPTION:
URL:https://eaglepointseniorliving.com/event-calendar/jeopardy-46/
LOCATION:Activity room
CATEGORIES:Memory Care
END:VEVENT
BEGIN:VEVENT
DTSTART;TZID=America/Chicago:20260521T150000
DTEND;TZID=America/Chicago:20260521T160000
DTSTAMP:20260423T070315
CREATED:20260422T080935Z
LAST-MODIFIED:20260423T081255Z
UID:10005578-1779375600-1779379200@eaglepointseniorliving.com
SUMMARY:Gifts from Eagle Point to Eagle Court Residents with Peter and Guitar Sing A Long
DESCRIPTION:
URL:https://eaglepointseniorliving.com/event-calendar/gifts-from-eagle-point-to-eagle-court-residents-with-peter-and-guitar-sing-a-long/
LOCATION:Dining Room
CATEGORIES:Memory Care
END:VEVENT
BEGIN:VEVENT
DTSTART;TZID=America/Chicago:20260521T173000
DTEND;TZID=America/Chicago:20260521T183000
DTSTAMP:20260423T070315
CREATED:20260422T080935Z
LAST-MODIFIED:20260423T081255Z
UID:10005579-1779384600-1779388200@eaglepointseniorliving.com
SUMMARY:Bingo with B!
DESCRIPTION:
URL:https://eaglepointseniorliving.com/event-calendar/bingo-with-b-16/
LOCATION:Activity room
CATEGORIES:Memory Care
END:VEVENT
BEGIN:VEVENT
DTSTART;TZID=America/Chicago:20260521T183000
DTEND;TZID=America/Chicago:20260521T191500
DTSTAMP:20260423T070315
CREATED:20260422T080935Z
LAST-MODIFIED:20260423T081255Z
UID:10005580-1779388200-1779390900@eaglepointseniorliving.com
SUMMARY:Creative Coloring
DESCRIPTION:
URL:https://eaglepointseniorliving.com/event-calendar/creative-coloring-23/
CATEGORIES:Memory Care
END:VEVENT
BEGIN:VEVENT
DTSTART;TZID=America/Chicago:20260521T190000
DTEND;TZID=America/Chicago:20260521T191500
DTSTAMP:20260423T070315
CREATED:20260422T080935Z
LAST-MODIFIED:20260423T081255Z
UID:10005581-1779390000-1779390900@eaglepointseniorliving.com
SUMMARY:Snack Pass
DESCRIPTION:
URL:https://eaglepointseniorliving.com/event-calendar/snack-pass-271/
LOCATION:Dining Room
CATEGORIES:Memory Care
END:VEVENT
BEGIN:VEVENT
DTSTART;TZID=America/Chicago:20260522T090000
DTEND;TZID=America/Chicago:20260522T100000
DTSTAMP:20260423T070315
CREATED:20260423T080935Z
LAST-MODIFIED:20260423T081255Z
UID:10005582-1779440400-1779444000@eaglepointseniorliving.com
SUMMARY:Morning Balloon and Noodles Toss
DESCRIPTION:
URL:https://eaglepointseniorliving.com/event-calendar/morning-balloon-and-noodles-toss/
LOCATION:Activity room
CATEGORIES:Memory Care
END:VEVENT
BEGIN:VEVENT
DTSTART;TZID=America/Chicago:20260522T110000
DTEND;TZID=America/Chicago:20260522T120000
DTSTAMP:20260423T070315
CREATED:20260423T080935Z
LAST-MODIFIED:20260423T081255Z
UID:10005583-1779447600-1779451200@eaglepointseniorliving.com
SUMMARY:Morning Bingo
DESCRIPTION:
URL:https://eaglepointseniorliving.com/event-calendar/morning-bingo-10/
LOCATION:Dining Room
CATEGORIES:Memory Care
END:VEVENT
BEGIN:VEVENT
DTSTART;TZID=America/Chicago:20260522T133000
DTEND;TZID=America/Chicago:20260522T140000
DTSTAMP:20260423T070315
CREATED:20260423T080935Z
LAST-MODIFIED:20260423T081255Z
UID:10005584-1779456600-1779458400@eaglepointseniorliving.com
SUMMARY:Today's Special-
DESCRIPTION:
URL:https://eaglepointseniorliving.com/event-calendar/todays-special-31/
LOCATION:Activity room
CATEGORIES:Memory Care
END:VEVENT
BEGIN:VEVENT
DTSTART;TZID=America/Chicago:20260522T143000
DTEND;TZID=America/Chicago:20260522T153000
DTSTAMP:20260423T070315
CREATED:20260423T080936Z
LAST-MODIFIED:20260423T081255Z
UID:10005585-1779460200-1779463800@eaglepointseniorliving.com
SUMMARY:Friday Fun Day
DESCRIPTION:
URL:https://eaglepointseniorliving.com/event-calendar/friday-fun-day-32/
LOCATION:Activity room
CATEGORIES:Memory Care
END:VEVENT
BEGIN:VEVENT
DTSTART;TZID=America/Chicago:20260522T153000
DTEND;TZID=America/Chicago:20260522T163000
DTSTAMP:20260423T070315
CREATED:20260423T080936Z
LAST-MODIFIED:20260423T081255Z
UID:10005586-1779463800-1779467400@eaglepointseniorliving.com
SUMMARY:Friday Afternoon Sing A Long
DESCRIPTION:
URL:https://eaglepointseniorliving.com/event-calendar/friday-afternoon-sing-a-long-14/
LOCATION:Activity room
CATEGORIES:Memory Care
END:VEVENT
BEGIN:VEVENT
DTSTART;TZID=America/Chicago:20260522T180000
DTEND;TZID=America/Chicago:20260522T200000
DTSTAMP:20260423T070315
CREATED:20260423T080936Z
LAST-MODIFIED:20260423T081255Z
UID:10005587-1779472800-1779480000@eaglepointseniorliving.com
SUMMARY:Classic Friday Evening Movie-"Leave it to the Marines"
DESCRIPTION:Looking for the license bureau so that he can marry his girl Mara Lynn\, instead stumbles upon a Marine recruiting office and ends up in uniform. Lynn reacts by joining the Woman’s Marine Corps. Between the two of them\, they’re the Howls of Montezuma and the Roars of Tripoli in this frantic service comedy  Youtube
URL:https://eaglepointseniorliving.com/event-calendar/classic-friday-evening-movie-leave-it-to-the-marines/
LOCATION:Dining Room
CATEGORIES:Memory Care
END:VEVENT
BEGIN:VEVENT
DTSTART;TZID=America/Chicago:20260522T190000
DTEND;TZID=America/Chicago:20260522T191500
DTSTAMP:20260423T070315
CREATED:20260423T080936Z
LAST-MODIFIED:20260423T081307Z
UID:10005588-1779476400-1779477300@eaglepointseniorliving.com
SUMMARY:Snack Pass
DESCRIPTION:
URL:https://eaglepointseniorliving.com/event-calendar/snack-pass-272/
LOCATION:Dining Room
CATEGORIES:Memory Care
END:VEVENT
END:VCALENDAR