BEGIN:VCALENDAR
VERSION:2.0
PRODID:-//Eagle Point Senior Living - ECPv6.11.2.1//NONSGML v1.0//EN
CALSCALE:GREGORIAN
METHOD:PUBLISH
X-WR-CALNAME:Eagle Point Senior Living
X-ORIGINAL-URL:https://eaglepointseniorliving.com
X-WR-CALDESC:Events for Eagle Point Senior Living
REFRESH-INTERVAL;VALUE=DURATION:PT1H
X-Robots-Tag:noindex
X-PUBLISHED-TTL:PT1H
BEGIN:VTIMEZONE
TZID:America/Chicago
BEGIN:DAYLIGHT
TZOFFSETFROM:-0600
TZOFFSETTO:-0500
TZNAME:CDT
DTSTART:20250309T080000
END:DAYLIGHT
BEGIN:STANDARD
TZOFFSETFROM:-0500
TZOFFSETTO:-0600
TZNAME:CST
DTSTART:20251102T070000
END:STANDARD
END:VTIMEZONE
BEGIN:VEVENT
DTSTART;TZID=America/Chicago:20250515T100000
DTEND;TZID=America/Chicago:20250515T110000
DTSTAMP:20260420T180518
CREATED:20250513T170654Z
LAST-MODIFIED:20250514T172929Z
UID:10000234-1747303200-1747306800@eaglepointseniorliving.com
SUMMARY:Catholic Mass
DESCRIPTION:Catholic Mass presided over by a priest.
URL:https://eaglepointseniorliving.com/event-calendar/catholic-mass/
LOCATION:Theater
CATEGORIES:Assisted Living
END:VEVENT
BEGIN:VEVENT
DTSTART;TZID=America/Chicago:20250515T100000
DTEND;TZID=America/Chicago:20250515T110000
DTSTAMP:20260420T180518
CREATED:20250513T170425Z
LAST-MODIFIED:20250514T171024Z
UID:10000018-1747303200-1747306800@eaglepointseniorliving.com
SUMMARY:Daily Spirit Spark
DESCRIPTION:Various spiritual topics and activities with Chaplain Peter.
URL:https://eaglepointseniorliving.com/event-calendar/daily-spirit-spark/
CATEGORIES:Memory Care
END:VEVENT
BEGIN:VEVENT
DTSTART;TZID=America/Chicago:20250515T091500
DTEND;TZID=America/Chicago:20250515T094500
DTSTAMP:20260420T180518
CREATED:20250513T170654Z
LAST-MODIFIED:20250514T172929Z
UID:10000233-1747300500-1747302300@eaglepointseniorliving.com
SUMMARY:Daily Devotions
DESCRIPTION:Chaplain Peter will lead us in morning daily devotions\, Monday-Friday
URL:https://eaglepointseniorliving.com/event-calendar/daily-devotions-3/
LOCATION:Library
CATEGORIES:Assisted Living
END:VEVENT
BEGIN:VEVENT
DTSTART;TZID=America/Chicago:20250515T080000
DTEND;TZID=America/Chicago:20250515T090000
DTSTAMP:20260420T180518
CREATED:20250513T170425Z
LAST-MODIFIED:20250514T171024Z
UID:10000017-1747296000-1747299600@eaglepointseniorliving.com
SUMMARY:Morning Melodies
DESCRIPTION:
URL:https://eaglepointseniorliving.com/event-calendar/morning-melodies-2/
CATEGORIES:Memory Care
END:VEVENT
BEGIN:VEVENT
DTSTART;TZID=America/Chicago:20250514T190000
DTEND;TZID=America/Chicago:20250514T210000
DTSTAMP:20260420T180518
CREATED:20250513T170425Z
LAST-MODIFIED:20250514T171024Z
UID:10000015-1747249200-1747256400@eaglepointseniorliving.com
SUMMARY:Wednesday Evening Movie-"Beyond the Sea"(YouTube)
DESCRIPTION:Based on the life of singer-actor Bobby Darin. Starring in the lead role and using his own singing voice for the musical numbers\, Kevin Spacey co-wrote\, directed\, and co-produced the film\, which takes its title from Darin’s song of the same title.
URL:https://eaglepointseniorliving.com/event-calendar/wednesday-evening-movie-beyond-the-seayoutube/
CATEGORIES:Memory Care
END:VEVENT
BEGIN:VEVENT
DTSTART;TZID=America/Chicago:20250514T190000
DTEND;TZID=America/Chicago:20250514T200000
DTSTAMP:20260420T180518
CREATED:20250513T170425Z
LAST-MODIFIED:20250514T171024Z
UID:10000016-1747249200-1747252800@eaglepointseniorliving.com
SUMMARY:Snack Pass & Reminisce
DESCRIPTION:
URL:https://eaglepointseniorliving.com/event-calendar/snack-pass-reminisce-2/
CATEGORIES:Memory Care
END:VEVENT
BEGIN:VEVENT
DTSTART;TZID=America/Chicago:20250514T170000
DTEND;TZID=America/Chicago:20250514T173000
DTSTAMP:20260420T180518
CREATED:20250513T170425Z
LAST-MODIFIED:20250514T171024Z
UID:10000014-1747242000-1747243800@eaglepointseniorliving.com
SUMMARY:Oshibori
DESCRIPTION:
URL:https://eaglepointseniorliving.com/event-calendar/oshibori-4/
CATEGORIES:Memory Care
END:VEVENT
BEGIN:VEVENT
DTSTART;TZID=America/Chicago:20250514T150000
DTEND;TZID=America/Chicago:20250514T160000
DTSTAMP:20260420T180518
CREATED:20250513T170654Z
LAST-MODIFIED:20250513T170654Z
UID:10000221-1747234800-1747238400@eaglepointseniorliving.com
SUMMARY:Church Service with Chaplain Peter
DESCRIPTION:
URL:https://eaglepointseniorliving.com/event-calendar/church-service-with-chaplain-peter-2/
LOCATION:Theater
CATEGORIES:Assisted Living
END:VEVENT
BEGIN:VEVENT
DTSTART;TZID=America/Chicago:20250514T150000
DTEND;TZID=America/Chicago:20250514T160000
DTSTAMP:20260420T180518
CREATED:20250513T170654Z
LAST-MODIFIED:20250514T172929Z
UID:10000231-1747234800-1747238400@eaglepointseniorliving.com
SUMMARY:Church Service with Chaplain Peter
DESCRIPTION:
URL:https://eaglepointseniorliving.com/event-calendar/church-service-with-chaplain-peter/
LOCATION:Theater
CATEGORIES:Assisted Living
END:VEVENT
BEGIN:VEVENT
DTSTART;TZID=America/Chicago:20250514T150000
DTEND;TZID=America/Chicago:20250514T160000
DTSTAMP:20260420T180518
CREATED:20250513T170654Z
LAST-MODIFIED:20250514T172929Z
UID:10000232-1747234800-1747238400@eaglepointseniorliving.com
SUMMARY:Cribbage
DESCRIPTION:
URL:https://eaglepointseniorliving.com/event-calendar/cribbage/
LOCATION:Art Room
CATEGORIES:Assisted Living
END:VEVENT
BEGIN:VEVENT
DTSTART;TZID=America/Chicago:20250514T150000
DTEND;TZID=America/Chicago:20250514T160000
DTSTAMP:20260420T180518
CREATED:20250513T170425Z
LAST-MODIFIED:20250514T171024Z
UID:10000013-1747234800-1747238400@eaglepointseniorliving.com
SUMMARY:Wheel of Fortune
DESCRIPTION:
URL:https://eaglepointseniorliving.com/event-calendar/wheel-of-fortune/
CATEGORIES:Memory Care
END:VEVENT
BEGIN:VEVENT
DTSTART;TZID=America/Chicago:20250514T133000
DTEND;TZID=America/Chicago:20250514T143000
DTSTAMP:20260420T180518
CREATED:20250513T170654Z
LAST-MODIFIED:20250513T170654Z
UID:10000220-1747229400-1747233000@eaglepointseniorliving.com
SUMMARY:Speaker- Meteorologist Ryan Kudish from Storm team 5
DESCRIPTION:
URL:https://eaglepointseniorliving.com/event-calendar/speaker-meteorologist-ryan-kudish-from-storm-team-5-2/
LOCATION:Theater
CATEGORIES:Assisted Living
END:VEVENT
BEGIN:VEVENT
DTSTART;TZID=America/Chicago:20250514T133000
DTEND;TZID=America/Chicago:20250514T143000
DTSTAMP:20260420T180518
CREATED:20250513T170654Z
LAST-MODIFIED:20250514T172929Z
UID:10000230-1747229400-1747233000@eaglepointseniorliving.com
SUMMARY:Speaker- Meteorologist Ryan Kudish from Storm team 5
DESCRIPTION:
URL:https://eaglepointseniorliving.com/event-calendar/speaker-meteorologist-ryan-kudish-from-storm-team-5/
LOCATION:Theater
CATEGORIES:Assisted Living
END:VEVENT
BEGIN:VEVENT
DTSTART;TZID=America/Chicago:20250514T133000
DTEND;TZID=America/Chicago:20250514T143000
DTSTAMP:20260420T180518
CREATED:20250513T170425Z
LAST-MODIFIED:20250514T171024Z
UID:10000012-1747229400-1747233000@eaglepointseniorliving.com
SUMMARY:Grace's Crafting Corner
DESCRIPTION:
URL:https://eaglepointseniorliving.com/event-calendar/graces-crafting-corner/
CATEGORIES:Memory Care
END:VEVENT
BEGIN:VEVENT
DTSTART;TZID=America/Chicago:20250514T120000
DTEND;TZID=America/Chicago:20250514T123000
DTSTAMP:20260420T180518
CREATED:20250513T170425Z
LAST-MODIFIED:20250514T171024Z
UID:10000011-1747224000-1747225800@eaglepointseniorliving.com
SUMMARY:Oshibori
DESCRIPTION:
URL:https://eaglepointseniorliving.com/event-calendar/oshibori-3/
CATEGORIES:Memory Care
END:VEVENT
BEGIN:VEVENT
DTSTART;TZID=America/Chicago:20250514T113000
DTEND;TZID=America/Chicago:20250514T120000
DTSTAMP:20260420T180518
CREATED:20250513T170424Z
LAST-MODIFIED:20250513T170425Z
UID:10000010-1747222200-1747224000@eaglepointseniorliving.com
SUMMARY:Book Club
DESCRIPTION:
URL:https://eaglepointseniorliving.com/event-calendar/book-club/
CATEGORIES:Memory Care
END:VEVENT
BEGIN:VEVENT
DTSTART;TZID=America/Chicago:20250514T110000
DTEND;TZID=America/Chicago:20250514T113000
DTSTAMP:20260420T180518
CREATED:20250513T170424Z
LAST-MODIFIED:20250513T170425Z
UID:10000009-1747220400-1747222200@eaglepointseniorliving.com
SUMMARY:Resident Wednesday
DESCRIPTION:
URL:https://eaglepointseniorliving.com/event-calendar/resident-wednesday/
CATEGORIES:Memory Care
END:VEVENT
BEGIN:VEVENT
DTSTART;TZID=America/Chicago:20250514T104500
DTEND;TZID=America/Chicago:20250514T113000
DTSTAMP:20260420T180518
CREATED:20250513T170654Z
LAST-MODIFIED:20250513T170654Z
UID:10000219-1747219500-1747222200@eaglepointseniorliving.com
SUMMARY:Wiser on Wednesday-May is Maytag Month
DESCRIPTION:
URL:https://eaglepointseniorliving.com/event-calendar/wiser-on-wednesday-may-is-maytag-month-2/
LOCATION:Art Room
CATEGORIES:Assisted Living
END:VEVENT
BEGIN:VEVENT
DTSTART;TZID=America/Chicago:20250514T104500
DTEND;TZID=America/Chicago:20250514T113000
DTSTAMP:20260420T180518
CREATED:20250513T170654Z
LAST-MODIFIED:20250513T170654Z
UID:10000229-1747219500-1747222200@eaglepointseniorliving.com
SUMMARY:Wiser on Wednesday-May is Maytag Month
DESCRIPTION:
URL:https://eaglepointseniorliving.com/event-calendar/wiser-on-wednesday-may-is-maytag-month/
LOCATION:Art Room
CATEGORIES:Assisted Living
END:VEVENT
BEGIN:VEVENT
DTSTART;TZID=America/Chicago:20250514T100000
DTEND;TZID=America/Chicago:20250514T103000
DTSTAMP:20260420T180518
CREATED:20250513T170654Z
LAST-MODIFIED:20250513T170654Z
UID:10000228-1747216800-1747218600@eaglepointseniorliving.com
SUMMARY:Exercise Class
DESCRIPTION:
URL:https://eaglepointseniorliving.com/event-calendar/exercise-class/
LOCATION:Wellness Room
CATEGORIES:Assisted Living
END:VEVENT
BEGIN:VEVENT
DTSTART;TZID=America/Chicago:20250514T100000
DTEND;TZID=America/Chicago:20250514T103000
DTSTAMP:20260420T180518
CREATED:20250513T170654Z
LAST-MODIFIED:20250513T170654Z
UID:10000218-1747216800-1747218600@eaglepointseniorliving.com
SUMMARY:Exercise Class
DESCRIPTION:
URL:https://eaglepointseniorliving.com/event-calendar/exercise-class-2/
LOCATION:Wellness Room
CATEGORIES:Assisted Living
END:VEVENT
BEGIN:VEVENT
DTSTART;TZID=America/Chicago:20250514T094500
DTEND;TZID=America/Chicago:20250514T100000
DTSTAMP:20260420T180518
CREATED:20250513T170424Z
LAST-MODIFIED:20250513T170425Z
UID:10000008-1747215900-1747216800@eaglepointseniorliving.com
SUMMARY:Morning Stretch
DESCRIPTION:
URL:https://eaglepointseniorliving.com/event-calendar/morning-stretch/
CATEGORIES:Memory Care
END:VEVENT
BEGIN:VEVENT
DTSTART;TZID=America/Chicago:20250514T091500
DTEND;TZID=America/Chicago:20250514T094500
DTSTAMP:20260420T180518
CREATED:20250513T170654Z
LAST-MODIFIED:20250513T170654Z
UID:10000227-1747214100-1747215900@eaglepointseniorliving.com
SUMMARY:Daily Devotions
DESCRIPTION:Chaplain Peter will lead us in morning daily devotions\, Monday-Friday
URL:https://eaglepointseniorliving.com/event-calendar/daily-devotions/
LOCATION:Library
CATEGORIES:Assisted Living
END:VEVENT
BEGIN:VEVENT
DTSTART;TZID=America/Chicago:20250514T091500
DTEND;TZID=America/Chicago:20250514T094500
DTSTAMP:20260420T180518
CREATED:20250513T170654Z
LAST-MODIFIED:20250513T170654Z
UID:10000217-1747214100-1747215900@eaglepointseniorliving.com
SUMMARY:Daily Devotions
DESCRIPTION:Chaplain Peter will lead us in morning daily devotions\, Monday-Friday
URL:https://eaglepointseniorliving.com/event-calendar/daily-devotions-2/
LOCATION:Library
CATEGORIES:Assisted Living
END:VEVENT
BEGIN:VEVENT
DTSTART;TZID=America/Chicago:20250514T080000
DTEND;TZID=America/Chicago:20250514T090000
DTSTAMP:20260420T180518
CREATED:20250513T170424Z
LAST-MODIFIED:20250513T170425Z
UID:10000007-1747209600-1747213200@eaglepointseniorliving.com
SUMMARY:Morning Melodies
DESCRIPTION:
URL:https://eaglepointseniorliving.com/event-calendar/morning-melodies/
CATEGORIES:Memory Care
END:VEVENT
BEGIN:VEVENT
DTSTART;TZID=America/Chicago:20250513T190000
DTEND;TZID=America/Chicago:20250513T200000
DTSTAMP:20260420T180518
CREATED:20250513T170424Z
LAST-MODIFIED:20250513T170425Z
UID:10000006-1747162800-1747166400@eaglepointseniorliving.com
SUMMARY:Snack Pass & Reminisce
DESCRIPTION:
URL:https://eaglepointseniorliving.com/event-calendar/snack-pass-reminisce/
CATEGORIES:Memory Care
END:VEVENT
BEGIN:VEVENT
DTSTART;TZID=America/Chicago:20250513T180000
DTEND;TZID=America/Chicago:20250513T190000
DTSTAMP:20260420T180518
CREATED:20250513T170424Z
LAST-MODIFIED:20250513T170425Z
UID:10000005-1747159200-1747162800@eaglepointseniorliving.com
SUMMARY:Bingo With Dawn
DESCRIPTION:
URL:https://eaglepointseniorliving.com/event-calendar/bingo-with-dawn/
CATEGORIES:Memory Care
END:VEVENT
BEGIN:VEVENT
DTSTART;TZID=America/Chicago:20250513T180000
DTEND;TZID=America/Chicago:20250513T183000
DTSTAMP:20260420T180518
CREATED:20250513T170654Z
LAST-MODIFIED:20250513T170654Z
UID:10000216-1747159200-1747161000@eaglepointseniorliving.com
SUMMARY:FIRE DRILL
DESCRIPTION:A fire drill will take place with alarm sounding at 6:00 PM. Residents stay in apartment or follow management instructions if in public location.
URL:https://eaglepointseniorliving.com/event-calendar/fire-drill-2/
LOCATION:Building
CATEGORIES:Assisted Living
END:VEVENT
BEGIN:VEVENT
DTSTART;TZID=America/Chicago:20250513T180000
DTEND;TZID=America/Chicago:20250513T183000
DTSTAMP:20260420T180518
CREATED:20250513T170654Z
LAST-MODIFIED:20250513T170654Z
UID:10000226-1747159200-1747161000@eaglepointseniorliving.com
SUMMARY:FIRE DRILL
DESCRIPTION:A fire drill will take place with alarm sounding at 6:00 PM. Residents stay in apartment or follow management instructions if in public location.
URL:https://eaglepointseniorliving.com/event-calendar/fire-drill/
LOCATION:Building
CATEGORIES:Assisted Living
END:VEVENT
BEGIN:VEVENT
DTSTART;TZID=America/Chicago:20250513T170000
DTEND;TZID=America/Chicago:20250513T173000
DTSTAMP:20260420T180518
CREATED:20250513T170424Z
LAST-MODIFIED:20250513T170425Z
UID:10000004-1747155600-1747157400@eaglepointseniorliving.com
SUMMARY:Oshibori
DESCRIPTION:
URL:https://eaglepointseniorliving.com/event-calendar/oshibori-2/
CATEGORIES:Memory Care
END:VEVENT
END:VCALENDAR