BEGIN:VCALENDAR
VERSION:2.0
PRODID:-//Eagle Point Senior Living - ECPv6.11.2.1//NONSGML v1.0//EN
CALSCALE:GREGORIAN
METHOD:PUBLISH
X-WR-CALNAME:Eagle Point Senior Living
X-ORIGINAL-URL:https://eaglepointseniorliving.com
X-WR-CALDESC:Events for Eagle Point Senior Living
REFRESH-INTERVAL;VALUE=DURATION:PT1H
X-Robots-Tag:noindex
X-PUBLISHED-TTL:PT1H
BEGIN:VTIMEZONE
TZID:America/Chicago
BEGIN:DAYLIGHT
TZOFFSETFROM:-0600
TZOFFSETTO:-0500
TZNAME:CDT
DTSTART:20250309T080000
END:DAYLIGHT
BEGIN:STANDARD
TZOFFSETFROM:-0500
TZOFFSETTO:-0600
TZNAME:CST
DTSTART:20251102T070000
END:STANDARD
END:VTIMEZONE
BEGIN:VEVENT
DTSTART;TZID=America/Chicago:20250519T080000
DTEND;TZID=America/Chicago:20250519T090000
DTSTAMP:20260420T122350
CREATED:20250513T170426Z
LAST-MODIFIED:20250518T172535Z
UID:10000044-1747641600-1747645200@eaglepointseniorliving.com
SUMMARY:Morning Melodies
DESCRIPTION:
URL:https://eaglepointseniorliving.com/event-calendar/morning-melodies-6/
CATEGORIES:Memory Care
END:VEVENT
BEGIN:VEVENT
DTSTART;TZID=America/Chicago:20250518T190000
DTEND;TZID=America/Chicago:20250518T200000
DTSTAMP:20260420T122350
CREATED:20250513T170426Z
LAST-MODIFIED:20250518T172535Z
UID:10000043-1747594800-1747598400@eaglepointseniorliving.com
SUMMARY:Snack Pass & Reminisce
DESCRIPTION:
URL:https://eaglepointseniorliving.com/event-calendar/snack-pass-reminisce-6/
CATEGORIES:Memory Care
END:VEVENT
BEGIN:VEVENT
DTSTART;TZID=America/Chicago:20250518T170000
DTEND;TZID=America/Chicago:20250518T173000
DTSTAMP:20260420T122350
CREATED:20250513T170426Z
LAST-MODIFIED:20250518T172535Z
UID:10000042-1747587600-1747589400@eaglepointseniorliving.com
SUMMARY:Oshibori
DESCRIPTION:
URL:https://eaglepointseniorliving.com/event-calendar/oshibori-12/
CATEGORIES:Memory Care
END:VEVENT
BEGIN:VEVENT
DTSTART;TZID=America/Chicago:20250518T133000
DTEND;TZID=America/Chicago:20250518T140000
DTSTAMP:20260420T122350
CREATED:20250513T170426Z
LAST-MODIFIED:20250518T172535Z
UID:10000041-1747575000-1747576800@eaglepointseniorliving.com
SUMMARY:Exercise
DESCRIPTION:
URL:https://eaglepointseniorliving.com/event-calendar/exercise/
CATEGORIES:Memory Care
END:VEVENT
BEGIN:VEVENT
DTSTART;TZID=America/Chicago:20250518T120000
DTEND;TZID=America/Chicago:20250518T123000
DTSTAMP:20260420T122350
CREATED:20250513T170426Z
LAST-MODIFIED:20250518T172535Z
UID:10000040-1747569600-1747571400@eaglepointseniorliving.com
SUMMARY:Oshibori
DESCRIPTION:
URL:https://eaglepointseniorliving.com/event-calendar/oshibori-11/
CATEGORIES:Memory Care
END:VEVENT
BEGIN:VEVENT
DTSTART;TZID=America/Chicago:20250518T100000
DTEND;TZID=America/Chicago:20250518T110000
DTSTAMP:20260420T122350
CREATED:20250513T170426Z
LAST-MODIFIED:20250517T171149Z
UID:10000039-1747562400-1747566000@eaglepointseniorliving.com
SUMMARY:Manicures
DESCRIPTION:
URL:https://eaglepointseniorliving.com/event-calendar/manicures/
CATEGORIES:Memory Care
END:VEVENT
BEGIN:VEVENT
DTSTART;TZID=America/Chicago:20250518T091500
DTEND;TZID=America/Chicago:20250518T121500
DTSTAMP:20260420T122350
CREATED:20250513T170655Z
LAST-MODIFIED:20250517T175427Z
UID:10000247-1747559700-1747570500@eaglepointseniorliving.com
SUMMARY:Immanuel Lutheran Church- Live Stream
DESCRIPTION:On line viewing of Immanuel Ev. Lutheran Church\, Greenville\, WI.\nAll denominations are invited to attend
URL:https://eaglepointseniorliving.com/event-calendar/immanuel-lutheran-church-live-stream/
LOCATION:Theater
CATEGORIES:Assisted Living
END:VEVENT
BEGIN:VEVENT
DTSTART;TZID=America/Chicago:20250518T080000
DTEND;TZID=America/Chicago:20250518T090000
DTSTAMP:20260420T122350
CREATED:20250513T170426Z
LAST-MODIFIED:20250517T171149Z
UID:10000038-1747555200-1747558800@eaglepointseniorliving.com
SUMMARY:Morning Melodies
DESCRIPTION:
URL:https://eaglepointseniorliving.com/event-calendar/morning-melodies-5/
CATEGORIES:Memory Care
END:VEVENT
BEGIN:VEVENT
DTSTART;TZID=America/Chicago:20250517T190000
DTEND;TZID=America/Chicago:20250517T200000
DTSTAMP:20260420T122350
CREATED:20250513T170426Z
LAST-MODIFIED:20250517T171149Z
UID:10000037-1747508400-1747512000@eaglepointseniorliving.com
SUMMARY:Snack Pass & Reminisce
DESCRIPTION:
URL:https://eaglepointseniorliving.com/event-calendar/snack-pass-reminisce-5/
CATEGORIES:Memory Care
END:VEVENT
BEGIN:VEVENT
DTSTART;TZID=America/Chicago:20250517T180000
DTEND;TZID=America/Chicago:20250517T190000
DTSTAMP:20260420T122350
CREATED:20250513T170425Z
LAST-MODIFIED:20250517T171149Z
UID:10000036-1747504800-1747508400@eaglepointseniorliving.com
SUMMARY:Movie & A Snack
DESCRIPTION:
URL:https://eaglepointseniorliving.com/event-calendar/movie-a-snack/
CATEGORIES:Memory Care
END:VEVENT
BEGIN:VEVENT
DTSTART;TZID=America/Chicago:20250517T170000
DTEND;TZID=America/Chicago:20250517T173000
DTSTAMP:20260420T122350
CREATED:20250513T170425Z
LAST-MODIFIED:20250517T171149Z
UID:10000035-1747501200-1747503000@eaglepointseniorliving.com
SUMMARY:Oshibori
DESCRIPTION:
URL:https://eaglepointseniorliving.com/event-calendar/oshibori-10/
CATEGORIES:Memory Care
END:VEVENT
BEGIN:VEVENT
DTSTART;TZID=America/Chicago:20250517T140000
DTEND;TZID=America/Chicago:20250517T150000
DTSTAMP:20260420T122350
CREATED:20250513T170654Z
LAST-MODIFIED:20250517T175427Z
UID:10000246-1747490400-1747494000@eaglepointseniorliving.com
SUMMARY:Resident Sheepshead
DESCRIPTION:
URL:https://eaglepointseniorliving.com/event-calendar/resident-sheepshead/
LOCATION:Game Room
CATEGORIES:Assisted Living
END:VEVENT
BEGIN:VEVENT
DTSTART;TZID=America/Chicago:20250517T140000
DTEND;TZID=America/Chicago:20250517T150000
DTSTAMP:20260420T122350
CREATED:20250513T170425Z
LAST-MODIFIED:20250517T171149Z
UID:10000034-1747490400-1747494000@eaglepointseniorliving.com
SUMMARY:Reminisce
DESCRIPTION:
URL:https://eaglepointseniorliving.com/event-calendar/reminisce-2/
CATEGORIES:Memory Care
END:VEVENT
BEGIN:VEVENT
DTSTART;TZID=America/Chicago:20250517T130000
DTEND;TZID=America/Chicago:20250517T150000
DTSTAMP:20260420T122350
CREATED:20250513T170654Z
LAST-MODIFIED:20250517T175427Z
UID:10000245-1747486800-1747494000@eaglepointseniorliving.com
SUMMARY:Saturday Afternoon Movie-Hello Dolly(DVD)
DESCRIPTION:
URL:https://eaglepointseniorliving.com/event-calendar/saturday-afternoon-movie-resident-choice-dvd/
LOCATION:Theater
CATEGORIES:Assisted Living
END:VEVENT
BEGIN:VEVENT
DTSTART;TZID=America/Chicago:20250517T120000
DTEND;TZID=America/Chicago:20250517T123000
DTSTAMP:20260420T122350
CREATED:20250513T170425Z
LAST-MODIFIED:20250517T171149Z
UID:10000033-1747483200-1747485000@eaglepointseniorliving.com
SUMMARY:Oshibori
DESCRIPTION:
URL:https://eaglepointseniorliving.com/event-calendar/oshibori-9/
CATEGORIES:Memory Care
END:VEVENT
BEGIN:VEVENT
DTSTART;TZID=America/Chicago:20250517T093000
DTEND;TZID=America/Chicago:20250517T103000
DTSTAMP:20260420T122350
CREATED:20250513T170654Z
LAST-MODIFIED:20250516T173943Z
UID:10000244-1747474200-1747477800@eaglepointseniorliving.com
SUMMARY:Saturday Morning Chat and Coffee
DESCRIPTION:
URL:https://eaglepointseniorliving.com/event-calendar/saturday-morning-chat-and-coffee/
LOCATION:Lobby
CATEGORIES:Assisted Living
END:VEVENT
BEGIN:VEVENT
DTSTART;TZID=America/Chicago:20250517T090000
DTEND;TZID=America/Chicago:20250517T120000
DTSTAMP:20260420T122350
CREATED:20250513T170425Z
LAST-MODIFIED:20250516T171149Z
UID:10000032-1747472400-1747483200@eaglepointseniorliving.com
SUMMARY:Morning with Staff
DESCRIPTION:
URL:https://eaglepointseniorliving.com/event-calendar/morning-with-grace/
CATEGORIES:Memory Care
END:VEVENT
BEGIN:VEVENT
DTSTART;TZID=America/Chicago:20250517T080000
DTEND;TZID=America/Chicago:20250517T090000
DTSTAMP:20260420T122350
CREATED:20250513T170425Z
LAST-MODIFIED:20250516T171149Z
UID:10000031-1747468800-1747472400@eaglepointseniorliving.com
SUMMARY:Morning Melodies
DESCRIPTION:
URL:https://eaglepointseniorliving.com/event-calendar/morning-melodies-4/
CATEGORIES:Memory Care
END:VEVENT
BEGIN:VEVENT
DTSTART;TZID=America/Chicago:20250516T190000
DTEND;TZID=America/Chicago:20250516T200000
DTSTAMP:20260420T122350
CREATED:20250513T170425Z
LAST-MODIFIED:20250516T171149Z
UID:10000030-1747422000-1747425600@eaglepointseniorliving.com
SUMMARY:Snack Pass & Reminisce
DESCRIPTION:
URL:https://eaglepointseniorliving.com/event-calendar/snack-pass-reminisce-4/
CATEGORIES:Memory Care
END:VEVENT
BEGIN:VEVENT
DTSTART;TZID=America/Chicago:20250516T183000
DTEND;TZID=America/Chicago:20250516T223000
DTSTAMP:20260420T122350
CREATED:20250513T170425Z
LAST-MODIFIED:20250516T171149Z
UID:10000029-1747420200-1747434600@eaglepointseniorliving.com
SUMMARY:Friday Night Movie
DESCRIPTION:
URL:https://eaglepointseniorliving.com/event-calendar/friday-night-movie/
CATEGORIES:Memory Care
END:VEVENT
BEGIN:VEVENT
DTSTART;TZID=America/Chicago:20250516T170000
DTEND;TZID=America/Chicago:20250516T173000
DTSTAMP:20260420T122350
CREATED:20250513T170425Z
LAST-MODIFIED:20250516T171149Z
UID:10000028-1747414800-1747416600@eaglepointseniorliving.com
SUMMARY:Oshibori
DESCRIPTION:
URL:https://eaglepointseniorliving.com/event-calendar/oshibori-8/
CATEGORIES:Memory Care
END:VEVENT
BEGIN:VEVENT
DTSTART;TZID=America/Chicago:20250516T150000
DTEND;TZID=America/Chicago:20250516T160000
DTSTAMP:20260420T122350
CREATED:20250513T170654Z
LAST-MODIFIED:20250516T173943Z
UID:10000243-1747407600-1747411200@eaglepointseniorliving.com
SUMMARY:Happy Hour
DESCRIPTION:An opportunity for socialization with other community members.
URL:https://eaglepointseniorliving.com/event-calendar/happy-hour/
LOCATION:Lobby
CATEGORIES:Assisted Living
END:VEVENT
BEGIN:VEVENT
DTSTART;TZID=America/Chicago:20250516T130000
DTEND;TZID=America/Chicago:20250516T133000
DTSTAMP:20260420T122350
CREATED:20250513T170654Z
LAST-MODIFIED:20250516T173943Z
UID:10000242-1747400400-1747402200@eaglepointseniorliving.com
SUMMARY:Really Big Show
DESCRIPTION:
URL:https://eaglepointseniorliving.com/event-calendar/really-big-show/
LOCATION:Wellness Room
CATEGORIES:Assisted Living
END:VEVENT
BEGIN:VEVENT
DTSTART;TZID=America/Chicago:20250516T120000
DTEND;TZID=America/Chicago:20250516T123000
DTSTAMP:20260420T122350
CREATED:20250513T170425Z
LAST-MODIFIED:20250516T171149Z
UID:10000026-1747396800-1747398600@eaglepointseniorliving.com
SUMMARY:Oshibori
DESCRIPTION:
URL:https://eaglepointseniorliving.com/event-calendar/oshibori-7/
CATEGORIES:Memory Care
END:VEVENT
BEGIN:VEVENT
DTSTART;TZID=America/Chicago:20250516T110000
DTEND;TZID=America/Chicago:20250516T114500
DTSTAMP:20260420T122350
CREATED:20250513T170425Z
LAST-MODIFIED:20250515T171038Z
UID:10000027-1747393200-1747395900@eaglepointseniorliving.com
SUMMARY:Grace's Creations
DESCRIPTION:
URL:https://eaglepointseniorliving.com/event-calendar/graces-crafting-corner-2/
CATEGORIES:Memory Care
END:VEVENT
BEGIN:VEVENT
DTSTART;TZID=America/Chicago:20250516T104500
DTEND;TZID=America/Chicago:20250516T113000
DTSTAMP:20260420T122350
CREATED:20250513T170654Z
LAST-MODIFIED:20250515T173941Z
UID:10000241-1747392300-1747395000@eaglepointseniorliving.com
SUMMARY:Friday Food Fun: Germany
DESCRIPTION:Try some snack foods from Germany!
URL:https://eaglepointseniorliving.com/event-calendar/friday-food-fun-germany/
LOCATION:Art Room
CATEGORIES:Assisted Living
END:VEVENT
BEGIN:VEVENT
DTSTART;TZID=America/Chicago:20250516T103000
DTEND;TZID=America/Chicago:20250516T113000
DTSTAMP:20260420T122350
CREATED:20250514T171038Z
LAST-MODIFIED:20250515T173941Z
UID:10000382-1747391400-1747395000@eaglepointseniorliving.com
SUMMARY:Parkinsons Support Meeting
DESCRIPTION:Residents living with Parkinson’s Disease gather to discuss topics of interest and share experiences.
URL:https://eaglepointseniorliving.com/event-calendar/parkinsons-support-meeting/
LOCATION:Theater
CATEGORIES:Assisted Living
END:VEVENT
BEGIN:VEVENT
DTSTART;TZID=America/Chicago:20250516T100000
DTEND;TZID=America/Chicago:20250516T110000
DTSTAMP:20260420T122350
CREATED:20250513T170425Z
LAST-MODIFIED:20250515T171038Z
UID:10000025-1747389600-1747393200@eaglepointseniorliving.com
SUMMARY:Daily Spirit Spark
DESCRIPTION:Various spiritual topics and activities with Chaplain Peter.
URL:https://eaglepointseniorliving.com/event-calendar/daily-spirit-spark-2/
CATEGORIES:Memory Care
END:VEVENT
BEGIN:VEVENT
DTSTART;TZID=America/Chicago:20250516T100000
DTEND;TZID=America/Chicago:20250516T103000
DTSTAMP:20260420T122350
CREATED:20250513T170654Z
LAST-MODIFIED:20250515T173941Z
UID:10000240-1747389600-1747391400@eaglepointseniorliving.com
SUMMARY:Weight Resistance Class
DESCRIPTION:A weight resistance class led by our resident Linda!
URL:https://eaglepointseniorliving.com/event-calendar/weight-resistance-class/
LOCATION:Wellness Room
CATEGORIES:Assisted Living
END:VEVENT
BEGIN:VEVENT
DTSTART;TZID=America/Chicago:20250516T094500
DTEND;TZID=America/Chicago:20250516T100000
DTSTAMP:20260420T122350
CREATED:20250513T170425Z
LAST-MODIFIED:20250515T171038Z
UID:10000024-1747388700-1747389600@eaglepointseniorliving.com
SUMMARY:Morning Stretch
DESCRIPTION:
URL:https://eaglepointseniorliving.com/event-calendar/morning-stretch-2/
CATEGORIES:Memory Care
END:VEVENT
END:VCALENDAR