BEGIN:VCALENDAR
VERSION:2.0
PRODID:-//Eagle Point Senior Living - ECPv6.11.2.1//NONSGML v1.0//EN
CALSCALE:GREGORIAN
METHOD:PUBLISH
X-WR-CALNAME:Eagle Point Senior Living
X-ORIGINAL-URL:https://eaglepointseniorliving.com
X-WR-CALDESC:Events for Eagle Point Senior Living
REFRESH-INTERVAL;VALUE=DURATION:PT1H
X-Robots-Tag:noindex
X-PUBLISHED-TTL:PT1H
BEGIN:VTIMEZONE
TZID:America/Chicago
BEGIN:DAYLIGHT
TZOFFSETFROM:-0600
TZOFFSETTO:-0500
TZNAME:CDT
DTSTART:20250309T080000
END:DAYLIGHT
BEGIN:STANDARD
TZOFFSETFROM:-0500
TZOFFSETTO:-0600
TZNAME:CST
DTSTART:20251102T070000
END:STANDARD
END:VTIMEZONE
BEGIN:VEVENT
DTSTART;TZID=America/Chicago:20250523T080000
DTEND;TZID=America/Chicago:20250523T090000
DTSTAMP:20260420T033510
CREATED:20250513T170427Z
LAST-MODIFIED:20250522T172512Z
UID:10000074-1747987200-1747990800@eaglepointseniorliving.com
SUMMARY:Morning Melodies
DESCRIPTION:
URL:https://eaglepointseniorliving.com/event-calendar/morning-melodies-10/
CATEGORIES:Memory Care
END:VEVENT
BEGIN:VEVENT
DTSTART;TZID=America/Chicago:20250522T190000
DTEND;TZID=America/Chicago:20250522T200000
DTSTAMP:20260420T033510
CREATED:20250513T170427Z
LAST-MODIFIED:20250522T172512Z
UID:10000073-1747940400-1747944000@eaglepointseniorliving.com
SUMMARY:Snack Pass & Reminisce
DESCRIPTION:
URL:https://eaglepointseniorliving.com/event-calendar/snack-pass-reminisce-10/
CATEGORIES:Memory Care
END:VEVENT
BEGIN:VEVENT
DTSTART;TZID=America/Chicago:20250522T180000
DTEND;TZID=America/Chicago:20250522T190000
DTSTAMP:20260420T033510
CREATED:20250513T170655Z
LAST-MODIFIED:20250522T180931Z
UID:10000272-1747936800-1747940400@eaglepointseniorliving.com
SUMMARY:Rescheduled Dinner to Mark's
DESCRIPTION:Sign-up is required at the front desk. Max 12. Dawn will load the bus promptly at 4:45 PM and depart by 5:00 PM or earlier if everyone is ready.
URL:https://eaglepointseniorliving.com/event-calendar/bingo/
LOCATION:Lobby
CATEGORIES:Assisted Living
END:VEVENT
BEGIN:VEVENT
DTSTART;TZID=America/Chicago:20250522T170000
DTEND;TZID=America/Chicago:20250522T173000
DTSTAMP:20260420T033510
CREATED:20250513T170427Z
LAST-MODIFIED:20250522T172512Z
UID:10000072-1747933200-1747935000@eaglepointseniorliving.com
SUMMARY:Oshibori
DESCRIPTION:
URL:https://eaglepointseniorliving.com/event-calendar/oshibori-20/
CATEGORIES:Memory Care
END:VEVENT
BEGIN:VEVENT
DTSTART;TZID=America/Chicago:20250522T150000
DTEND;TZID=America/Chicago:20250522T160000
DTSTAMP:20260420T033510
CREATED:20250513T170655Z
LAST-MODIFIED:20250522T180931Z
UID:10000271-1747926000-1747929600@eaglepointseniorliving.com
SUMMARY:Sing-along
DESCRIPTION:A joyful\, interactive activity to sing familiar songs promoting social engagement\, memory recall\, and emotional well-being.
URL:https://eaglepointseniorliving.com/event-calendar/sing-along-2/
LOCATION:2nd Floor Lounge
CATEGORIES:Assisted Living
END:VEVENT
BEGIN:VEVENT
DTSTART;TZID=America/Chicago:20250522T140000
DTEND;TZID=America/Chicago:20250522T143000
DTSTAMP:20260420T033510
CREATED:20250513T170655Z
LAST-MODIFIED:20250522T180931Z
UID:10000270-1747922400-1747924200@eaglepointseniorliving.com
SUMMARY:Spark Performance:  Midway Party
DESCRIPTION:Spark participants\, let’s celebrate our wins and have a treat! If you’ve participated in any Spark Performance event\, please take part!
URL:https://eaglepointseniorliving.com/event-calendar/gentle-flow-easy-movement-for-everyone/
LOCATION:Wellness Room
CATEGORIES:Assisted Living
END:VEVENT
BEGIN:VEVENT
DTSTART;TZID=America/Chicago:20250522T130000
DTEND;TZID=America/Chicago:20250522T133000
DTSTAMP:20260420T033510
CREATED:20250516T173940Z
LAST-MODIFIED:20250522T180931Z
UID:10000413-1747918800-1747920600@eaglepointseniorliving.com
SUMMARY:Steps to Scoop Group Walk
DESCRIPTION:Attend the four 30-minute Steps to Scoop group walks to earn a Culver’s treat. If you miss one or just prefer walking inside\, use the punch card to log your indoor walks!
URL:https://eaglepointseniorliving.com/event-calendar/steps-to-scoop-group-walk/
LOCATION:Lobby
CATEGORIES:Assisted Living
END:VEVENT
BEGIN:VEVENT
DTSTART;TZID=America/Chicago:20250522T120000
DTEND;TZID=America/Chicago:20250522T123000
DTSTAMP:20260420T033510
CREATED:20250513T170427Z
LAST-MODIFIED:20250522T172512Z
UID:10000071-1747915200-1747917000@eaglepointseniorliving.com
SUMMARY:Oshibori
DESCRIPTION:
URL:https://eaglepointseniorliving.com/event-calendar/oshibori-19/
CATEGORIES:Memory Care
END:VEVENT
BEGIN:VEVENT
DTSTART;TZID=America/Chicago:20250522T104500
DTEND;TZID=America/Chicago:20250522T113000
DTSTAMP:20260420T033510
CREATED:20250513T170655Z
LAST-MODIFIED:20250521T175516Z
UID:10000269-1747910700-1747913400@eaglepointseniorliving.com
SUMMARY:Craft: Coffee Filter Butterflies
DESCRIPTION:Crafts stimulate creativity\, dexterity\, and cognitive function while providing a sense of accomplishment and social interaction. Each craft can be tailored to accommodate varying levels of ability.
URL:https://eaglepointseniorliving.com/event-calendar/craft/
LOCATION:Art Room
CATEGORIES:Assisted Living
END:VEVENT
BEGIN:VEVENT
DTSTART;TZID=America/Chicago:20250522T100000
DTEND;TZID=America/Chicago:20250522T110000
DTSTAMP:20260420T033510
CREATED:20250513T170655Z
LAST-MODIFIED:20250521T175516Z
UID:10000268-1747908000-1747911600@eaglepointseniorliving.com
SUMMARY:Catholic Communion
DESCRIPTION:Corporate communion presided over by a deacon or layperson with hymns and rosary.
URL:https://eaglepointseniorliving.com/event-calendar/catholic-communion/
LOCATION:TH
CATEGORIES:Assisted Living
END:VEVENT
BEGIN:VEVENT
DTSTART;TZID=America/Chicago:20250522T100000
DTEND;TZID=America/Chicago:20250522T110000
DTSTAMP:20260420T033510
CREATED:20250513T170427Z
LAST-MODIFIED:20250515T171034Z
UID:10000070-1747908000-1747911600@eaglepointseniorliving.com
SUMMARY:Daily Spirit Spark
DESCRIPTION:Various spiritual topics and activities with Chaplain Peter.
URL:https://eaglepointseniorliving.com/event-calendar/daily-spirit-spark-3/
CATEGORIES:Memory Care
END:VEVENT
BEGIN:VEVENT
DTSTART;TZID=America/Chicago:20250522T091500
DTEND;TZID=America/Chicago:20250522T094500
DTSTAMP:20260420T033510
CREATED:20250513T170655Z
LAST-MODIFIED:20250515T173940Z
UID:10000267-1747905300-1747907100@eaglepointseniorliving.com
SUMMARY:Daily Devotions
DESCRIPTION:Chaplain Peter will lead us in morning daily devotions\, Monday-Friday
URL:https://eaglepointseniorliving.com/event-calendar/daily-devotions-8/
LOCATION:Library
CATEGORIES:Assisted Living
END:VEVENT
BEGIN:VEVENT
DTSTART;TZID=America/Chicago:20250522T080000
DTEND;TZID=America/Chicago:20250522T090000
DTSTAMP:20260420T033510
CREATED:20250513T170427Z
LAST-MODIFIED:20250521T172532Z
UID:10000069-1747900800-1747904400@eaglepointseniorliving.com
SUMMARY:Morning Melodies
DESCRIPTION:
URL:https://eaglepointseniorliving.com/event-calendar/morning-melodies-9/
CATEGORIES:Memory Care
END:VEVENT
BEGIN:VEVENT
DTSTART;TZID=America/Chicago:20250521T190000
DTEND;TZID=America/Chicago:20250521T200000
DTSTAMP:20260420T033510
CREATED:20250513T170427Z
LAST-MODIFIED:20250521T172532Z
UID:10000068-1747854000-1747857600@eaglepointseniorliving.com
SUMMARY:Snack Pass & Reminisce
DESCRIPTION:
URL:https://eaglepointseniorliving.com/event-calendar/snack-pass-reminisce-9/
CATEGORIES:Memory Care
END:VEVENT
BEGIN:VEVENT
DTSTART;TZID=America/Chicago:20250521T180000
DTEND;TZID=America/Chicago:20250521T203000
DTSTAMP:20260420T033510
CREATED:20250513T170426Z
LAST-MODIFIED:20250521T172532Z
UID:10000067-1747850400-1747859400@eaglepointseniorliving.com
SUMMARY:Wednesday Evening Movie - The Sound of Music
DESCRIPTION:
URL:https://eaglepointseniorliving.com/event-calendar/wednesday-evening-movie/
CATEGORIES:Memory Care
END:VEVENT
BEGIN:VEVENT
DTSTART;TZID=America/Chicago:20250521T170000
DTEND;TZID=America/Chicago:20250521T173000
DTSTAMP:20260420T033510
CREATED:20250513T170426Z
LAST-MODIFIED:20250521T172532Z
UID:10000066-1747846800-1747848600@eaglepointseniorliving.com
SUMMARY:Oshibori
DESCRIPTION:
URL:https://eaglepointseniorliving.com/event-calendar/oshibori-18/
CATEGORIES:Memory Care
END:VEVENT
BEGIN:VEVENT
DTSTART;TZID=America/Chicago:20250521T150000
DTEND;TZID=America/Chicago:20250521T160000
DTSTAMP:20260420T033510
CREATED:20250513T170655Z
LAST-MODIFIED:20250515T173940Z
UID:10000265-1747839600-1747843200@eaglepointseniorliving.com
SUMMARY:Church Service with Chaplain Peter
DESCRIPTION:
URL:https://eaglepointseniorliving.com/event-calendar/church-service-with-chaplain-peter-3/
LOCATION:Theater
CATEGORIES:Assisted Living
END:VEVENT
BEGIN:VEVENT
DTSTART;TZID=America/Chicago:20250521T150000
DTEND;TZID=America/Chicago:20250521T160000
DTSTAMP:20260420T033510
CREATED:20250513T170655Z
LAST-MODIFIED:20250521T175516Z
UID:10000266-1747839600-1747843200@eaglepointseniorliving.com
SUMMARY:Cribbage
DESCRIPTION:
URL:https://eaglepointseniorliving.com/event-calendar/cribbage-2/
LOCATION:Art Room
CATEGORIES:Assisted Living
END:VEVENT
BEGIN:VEVENT
DTSTART;TZID=America/Chicago:20250521T150000
DTEND;TZID=America/Chicago:20250521T160000
DTSTAMP:20260420T033510
CREATED:20250513T170426Z
LAST-MODIFIED:20250521T172532Z
UID:10000065-1747839600-1747843200@eaglepointseniorliving.com
SUMMARY:Wheel of Fortune
DESCRIPTION:
URL:https://eaglepointseniorliving.com/event-calendar/wheel-of-fortune-2/
CATEGORIES:Memory Care
END:VEVENT
BEGIN:VEVENT
DTSTART;TZID=America/Chicago:20250521T140000
DTEND;TZID=America/Chicago:20250521T150000
DTSTAMP:20260420T033510
CREATED:20250513T170655Z
LAST-MODIFIED:20250521T175516Z
UID:10000264-1747836000-1747839600@eaglepointseniorliving.com
SUMMARY:New Resident Meeting
DESCRIPTION:Get to know your new Eagle Point community! Connect with fellow residents\, ask questions\, and learn more about the fun and engaging events and activities!
URL:https://eaglepointseniorliving.com/event-calendar/new-resident-meeting/
LOCATION:Art Room
CATEGORIES:Assisted Living
END:VEVENT
BEGIN:VEVENT
DTSTART;TZID=America/Chicago:20250521T133000
DTEND;TZID=America/Chicago:20250521T143000
DTSTAMP:20260420T033510
CREATED:20250516T173940Z
LAST-MODIFIED:20250521T175516Z
UID:10000412-1747834200-1747837800@eaglepointseniorliving.com
SUMMARY:Game Time in the Theater-Apples to Apples
DESCRIPTION:
URL:https://eaglepointseniorliving.com/event-calendar/game-time-in-the-theater-apples-to-apples/
LOCATION:Theater
CATEGORIES:Assisted Living
END:VEVENT
BEGIN:VEVENT
DTSTART;TZID=America/Chicago:20250521T133000
DTEND;TZID=America/Chicago:20250521T143000
DTSTAMP:20260420T033510
CREATED:20250513T170426Z
LAST-MODIFIED:20250521T172532Z
UID:10000064-1747834200-1747837800@eaglepointseniorliving.com
SUMMARY:Grace's Creations
DESCRIPTION:Heart flowers
URL:https://eaglepointseniorliving.com/event-calendar/graces-crafting-corner-3/
CATEGORIES:Memory Care
END:VEVENT
BEGIN:VEVENT
DTSTART;TZID=America/Chicago:20250521T123000
DTEND;TZID=America/Chicago:20250521T133000
DTSTAMP:20260420T033510
CREATED:20250513T170655Z
LAST-MODIFIED:20250521T175516Z
UID:10000263-1747830600-1747834200@eaglepointseniorliving.com
SUMMARY:Music by Lawrence University- Bassoon's
DESCRIPTION:Music by Lawrence University- bassoon students!
URL:https://eaglepointseniorliving.com/event-calendar/music-by-lawrence-university-bassoons/
LOCATION:Lobby
CATEGORIES:Assisted Living
END:VEVENT
BEGIN:VEVENT
DTSTART;TZID=America/Chicago:20250521T120000
DTEND;TZID=America/Chicago:20250521T123000
DTSTAMP:20260420T033510
CREATED:20250513T170426Z
LAST-MODIFIED:20250521T172532Z
UID:10000063-1747828800-1747830600@eaglepointseniorliving.com
SUMMARY:Oshibori
DESCRIPTION:
URL:https://eaglepointseniorliving.com/event-calendar/oshibori-17/
CATEGORIES:Memory Care
END:VEVENT
BEGIN:VEVENT
DTSTART;TZID=America/Chicago:20250521T110000
DTEND;TZID=America/Chicago:20250521T113000
DTSTAMP:20260420T033510
CREATED:20250513T170426Z
LAST-MODIFIED:20250520T172456Z
UID:10000062-1747825200-1747827000@eaglepointseniorliving.com
SUMMARY:Resident Wednesday
DESCRIPTION:
URL:https://eaglepointseniorliving.com/event-calendar/resident-wednesday-2/
CATEGORIES:Memory Care
END:VEVENT
BEGIN:VEVENT
DTSTART;TZID=America/Chicago:20250521T104500
DTEND;TZID=America/Chicago:20250521T113000
DTSTAMP:20260420T033510
CREATED:20250513T170655Z
LAST-MODIFIED:20250520T175454Z
UID:10000262-1747824300-1747827000@eaglepointseniorliving.com
SUMMARY:Wiser on Wednesday-Spirit of St Louis
DESCRIPTION:Charles Lindbergh completed his historic flight across the Atlantic today in 1927.
URL:https://eaglepointseniorliving.com/event-calendar/wiser-on-wednesday/
LOCATION:Art Room
CATEGORIES:Assisted Living
END:VEVENT
BEGIN:VEVENT
DTSTART;TZID=America/Chicago:20250521T100000
DTEND;TZID=America/Chicago:20250521T103000
DTSTAMP:20260420T033510
CREATED:20250513T170655Z
LAST-MODIFIED:20250520T175454Z
UID:10000261-1747821600-1747823400@eaglepointseniorliving.com
SUMMARY:Exercise Class: Mix
DESCRIPTION:
URL:https://eaglepointseniorliving.com/event-calendar/exercise-class-3/
LOCATION:Wellness Room
CATEGORIES:Assisted Living
END:VEVENT
BEGIN:VEVENT
DTSTART;TZID=America/Chicago:20250521T094500
DTEND;TZID=America/Chicago:20250521T100000
DTSTAMP:20260420T033510
CREATED:20250513T170426Z
LAST-MODIFIED:20250520T172456Z
UID:10000061-1747820700-1747821600@eaglepointseniorliving.com
SUMMARY:Morning Stretch
DESCRIPTION:
URL:https://eaglepointseniorliving.com/event-calendar/morning-stretch-3/
CATEGORIES:Memory Care
END:VEVENT
BEGIN:VEVENT
DTSTART;TZID=America/Chicago:20250521T091500
DTEND;TZID=America/Chicago:20250521T094500
DTSTAMP:20260420T033510
CREATED:20250513T170655Z
LAST-MODIFIED:20250515T173940Z
UID:10000260-1747818900-1747820700@eaglepointseniorliving.com
SUMMARY:Daily Devotions
DESCRIPTION:Chaplain Peter will lead us in morning daily devotions\, Monday-Friday
URL:https://eaglepointseniorliving.com/event-calendar/daily-devotions-7/
LOCATION:Library
CATEGORIES:Assisted Living
END:VEVENT
BEGIN:VEVENT
DTSTART;TZID=America/Chicago:20250521T080000
DTEND;TZID=America/Chicago:20250521T090000
DTSTAMP:20260420T033510
CREATED:20250513T170426Z
LAST-MODIFIED:20250520T172456Z
UID:10000060-1747814400-1747818000@eaglepointseniorliving.com
SUMMARY:Morning Melodies
DESCRIPTION:
URL:https://eaglepointseniorliving.com/event-calendar/morning-melodies-8/
CATEGORIES:Memory Care
END:VEVENT
END:VCALENDAR