BEGIN:VCALENDAR
VERSION:2.0
PRODID:-//Eagle Point Senior Living - ECPv6.11.2.1//NONSGML v1.0//EN
CALSCALE:GREGORIAN
METHOD:PUBLISH
X-WR-CALNAME:Eagle Point Senior Living
X-ORIGINAL-URL:https://eaglepointseniorliving.com
X-WR-CALDESC:Events for Eagle Point Senior Living
REFRESH-INTERVAL;VALUE=DURATION:PT1H
X-Robots-Tag:noindex
X-PUBLISHED-TTL:PT1H
BEGIN:VTIMEZONE
TZID:America/Chicago
BEGIN:DAYLIGHT
TZOFFSETFROM:-0600
TZOFFSETTO:-0500
TZNAME:CDT
DTSTART:20250309T080000
END:DAYLIGHT
BEGIN:STANDARD
TZOFFSETFROM:-0500
TZOFFSETTO:-0600
TZNAME:CST
DTSTART:20251102T070000
END:STANDARD
END:VTIMEZONE
BEGIN:VEVENT
DTSTART;TZID=America/Chicago:20250530T120000
DTEND;TZID=America/Chicago:20250530T123000
DTSTAMP:20260419T134214
CREATED:20250513T170428Z
LAST-MODIFIED:20250529T173925Z
UID:10000128-1748606400-1748608200@eaglepointseniorliving.com
SUMMARY:Oshibori
DESCRIPTION:
URL:https://eaglepointseniorliving.com/event-calendar/oshibori-35/
CATEGORIES:Memory Care
END:VEVENT
BEGIN:VEVENT
DTSTART;TZID=America/Chicago:20250530T110000
DTEND;TZID=America/Chicago:20250530T114500
DTSTAMP:20260419T134214
CREATED:20250513T170428Z
LAST-MODIFIED:20250529T173925Z
UID:10000127-1748602800-1748605500@eaglepointseniorliving.com
SUMMARY:Cranium Crunches
DESCRIPTION:
URL:https://eaglepointseniorliving.com/event-calendar/graces-crafting-corner-6/
CATEGORIES:Memory Care
END:VEVENT
BEGIN:VEVENT
DTSTART;TZID=America/Chicago:20250530T104500
DTEND;TZID=America/Chicago:20250530T113000
DTSTAMP:20260419T134214
CREATED:20250516T173942Z
LAST-MODIFIED:20250529T180923Z
UID:10000417-1748601900-1748604600@eaglepointseniorliving.com
SUMMARY:Basics of Bocce Ball & Putting Green with Hailey
DESCRIPTION:
URL:https://eaglepointseniorliving.com/event-calendar/basics-of-bocce-ball-putting-green-with-hailey/
LOCATION:Wellness Room
CATEGORIES:Assisted Living
END:VEVENT
BEGIN:VEVENT
DTSTART;TZID=America/Chicago:20250530T104500
DTEND;TZID=America/Chicago:20250530T113000
DTSTAMP:20260419T134214
CREATED:20250513T170657Z
LAST-MODIFIED:20250515T173941Z
UID:10000308-1748601900-1748604600@eaglepointseniorliving.com
SUMMARY:Friday Food Fun
DESCRIPTION:
URL:https://eaglepointseniorliving.com/event-calendar/friday-food-fun/
LOCATION:Art Room
CATEGORIES:Assisted Living
END:VEVENT
BEGIN:VEVENT
DTSTART;TZID=America/Chicago:20250530T100000
DTEND;TZID=America/Chicago:20250530T110000
DTSTAMP:20260419T134214
CREATED:20250513T170428Z
LAST-MODIFIED:20250529T173925Z
UID:10000126-1748599200-1748602800@eaglepointseniorliving.com
SUMMARY:Daily Spirit Spark
DESCRIPTION:Various spiritual topics and activities with Chaplain Peter.
URL:https://eaglepointseniorliving.com/event-calendar/daily-spirit-spark-6/
CATEGORIES:Memory Care
END:VEVENT
BEGIN:VEVENT
DTSTART;TZID=America/Chicago:20250530T100000
DTEND;TZID=America/Chicago:20250530T103000
DTSTAMP:20260419T134214
CREATED:20250513T170657Z
LAST-MODIFIED:20250529T180923Z
UID:10000307-1748599200-1748601000@eaglepointseniorliving.com
SUMMARY:Weight Resistance Class
DESCRIPTION:A weight resistance class led by our resident Linda!
URL:https://eaglepointseniorliving.com/event-calendar/weight-resistance-class-5/
LOCATION:Wellness Room
CATEGORIES:Assisted Living
END:VEVENT
BEGIN:VEVENT
DTSTART;TZID=America/Chicago:20250530T094500
DTEND;TZID=America/Chicago:20250530T100000
DTSTAMP:20260419T134214
CREATED:20250513T170428Z
LAST-MODIFIED:20250529T173925Z
UID:10000125-1748598300-1748599200@eaglepointseniorliving.com
SUMMARY:Staff Lead Activity
DESCRIPTION:
URL:https://eaglepointseniorliving.com/event-calendar/morning-stretch-6/
CATEGORIES:Memory Care
END:VEVENT
BEGIN:VEVENT
DTSTART;TZID=America/Chicago:20250530T091500
DTEND;TZID=America/Chicago:20250530T094500
DTSTAMP:20260419T134214
CREATED:20250513T170657Z
LAST-MODIFIED:20250529T180923Z
UID:10000306-1748596500-1748598300@eaglepointseniorliving.com
SUMMARY:Daily Devotions
DESCRIPTION:Chaplain Peter will lead us in morning daily devotions\, Monday-Friday
URL:https://eaglepointseniorliving.com/event-calendar/daily-devotions-14/
LOCATION:Library
CATEGORIES:Assisted Living
END:VEVENT
BEGIN:VEVENT
DTSTART;TZID=America/Chicago:20250530T080000
DTEND;TZID=America/Chicago:20250530T090000
DTSTAMP:20260419T134214
CREATED:20250513T170428Z
LAST-MODIFIED:20250529T173925Z
UID:10000124-1748592000-1748595600@eaglepointseniorliving.com
SUMMARY:Morning Melodies
DESCRIPTION:
URL:https://eaglepointseniorliving.com/event-calendar/morning-melodies-17/
CATEGORIES:Memory Care
END:VEVENT
BEGIN:VEVENT
DTSTART;TZID=America/Chicago:20250529T190000
DTEND;TZID=America/Chicago:20250529T200000
DTSTAMP:20260419T134214
CREATED:20250513T170428Z
LAST-MODIFIED:20250529T173925Z
UID:10000123-1748545200-1748548800@eaglepointseniorliving.com
SUMMARY:Snack Pass & Reminisce
DESCRIPTION:
URL:https://eaglepointseniorliving.com/event-calendar/snack-pass-reminisce-17/
CATEGORIES:Memory Care
END:VEVENT
BEGIN:VEVENT
DTSTART;TZID=America/Chicago:20250529T180000
DTEND;TZID=America/Chicago:20250529T190000
DTSTAMP:20260419T134214
CREATED:20250513T170657Z
LAST-MODIFIED:20250529T180923Z
UID:10000305-1748541600-1748545200@eaglepointseniorliving.com
SUMMARY:Bingo
DESCRIPTION:Bingo is a fun\, low-pressure game that supports cognitive skills like memory\, attention\, and pattern recognition while encouraging social interaction and emotional well-being. Its adaptability makes it accessible for various ability levels\, offering joy\, routine\, and community.
URL:https://eaglepointseniorliving.com/event-calendar/bingo-2/
LOCATION:Art Room
CATEGORIES:Assisted Living
END:VEVENT
BEGIN:VEVENT
DTSTART;TZID=America/Chicago:20250529T170000
DTEND;TZID=America/Chicago:20250529T173000
DTSTAMP:20260419T134214
CREATED:20250513T170428Z
LAST-MODIFIED:20250529T173924Z
UID:10000122-1748538000-1748539800@eaglepointseniorliving.com
SUMMARY:Oshibori
DESCRIPTION:
URL:https://eaglepointseniorliving.com/event-calendar/oshibori-34/
CATEGORIES:Memory Care
END:VEVENT
BEGIN:VEVENT
DTSTART;TZID=America/Chicago:20250529T140000
DTEND;TZID=America/Chicago:20250529T150000
DTSTAMP:20260419T134214
CREATED:20250513T170657Z
LAST-MODIFIED:20250529T180923Z
UID:10000304-1748527200-1748530800@eaglepointseniorliving.com
SUMMARY:Madison Middle School Jazz Band
DESCRIPTION:Don’t miss this opportunity to hear the Madison Middle School Students perform! Over thirty middle school students will perform.
URL:https://eaglepointseniorliving.com/event-calendar/madison-middle-school-jazz-band/
LOCATION:Lobby
CATEGORIES:Assisted Living
END:VEVENT
BEGIN:VEVENT
DTSTART;TZID=America/Chicago:20250529T130000
DTEND;TZID=America/Chicago:20250529T133000
DTSTAMP:20260419T134214
CREATED:20250516T173942Z
LAST-MODIFIED:20250529T180923Z
UID:10000416-1748523600-1748525400@eaglepointseniorliving.com
SUMMARY:Steps to Scoop Group Walk
DESCRIPTION:Attend the four 30-minute Steps to Scoop group walks to earn a Culver’s treat. If you miss one or just prefer walking inside\, use the punch card to log your indoor walks!
URL:https://eaglepointseniorliving.com/event-calendar/steps-to-scoop-group-walk-2/
LOCATION:Lobby
CATEGORIES:Assisted Living
END:VEVENT
BEGIN:VEVENT
DTSTART;TZID=America/Chicago:20250529T120000
DTEND;TZID=America/Chicago:20250529T123000
DTSTAMP:20260419T134214
CREATED:20250513T170428Z
LAST-MODIFIED:20250528T172424Z
UID:10000121-1748520000-1748521800@eaglepointseniorliving.com
SUMMARY:Oshibori
DESCRIPTION:
URL:https://eaglepointseniorliving.com/event-calendar/oshibori-33/
CATEGORIES:Memory Care
END:VEVENT
BEGIN:VEVENT
DTSTART;TZID=America/Chicago:20250529T104500
DTEND;TZID=America/Chicago:20250529T113000
DTSTAMP:20260419T134214
CREATED:20250513T170657Z
LAST-MODIFIED:20250528T180947Z
UID:10000303-1748515500-1748518200@eaglepointseniorliving.com
SUMMARY:Craft: Felt Flowers
DESCRIPTION:Crafts stimulate creativity\, dexterity\, and cognitive function while providing a sense of accomplishment and social interaction. Each craft can be tailored to accommodate varying levels of ability.
URL:https://eaglepointseniorliving.com/event-calendar/craft-2/
LOCATION:Art Room
CATEGORIES:Assisted Living
END:VEVENT
BEGIN:VEVENT
DTSTART;TZID=America/Chicago:20250529T100000
DTEND;TZID=America/Chicago:20250529T110000
DTSTAMP:20260419T134214
CREATED:20250513T170656Z
LAST-MODIFIED:20250528T180947Z
UID:10000302-1748512800-1748516400@eaglepointseniorliving.com
SUMMARY:Catholic Communion
DESCRIPTION:Corporate communion presided over by a deacon or layperson with hymns and rosary.
URL:https://eaglepointseniorliving.com/event-calendar/catholic-communion-2/
LOCATION:TH
CATEGORIES:Assisted Living
END:VEVENT
BEGIN:VEVENT
DTSTART;TZID=America/Chicago:20250529T100000
DTEND;TZID=America/Chicago:20250529T110000
DTSTAMP:20260419T134214
CREATED:20250513T170428Z
LAST-MODIFIED:20250528T172424Z
UID:10000120-1748512800-1748516400@eaglepointseniorliving.com
SUMMARY:Daily Spirit Spark
DESCRIPTION:Various spiritual topics and activities with Chaplain Peter.
URL:https://eaglepointseniorliving.com/event-calendar/daily-spirit-spark-5/
CATEGORIES:Memory Care
END:VEVENT
BEGIN:VEVENT
DTSTART;TZID=America/Chicago:20250529T091500
DTEND;TZID=America/Chicago:20250529T094500
DTSTAMP:20260419T134214
CREATED:20250513T170656Z
LAST-MODIFIED:20250528T180947Z
UID:10000301-1748510100-1748511900@eaglepointseniorliving.com
SUMMARY:Daily Devotions
DESCRIPTION:Chaplain Peter will lead us in morning daily devotions\, Monday-Friday
URL:https://eaglepointseniorliving.com/event-calendar/daily-devotions-13/
LOCATION:Library
CATEGORIES:Assisted Living
END:VEVENT
BEGIN:VEVENT
DTSTART;TZID=America/Chicago:20250529T080000
DTEND;TZID=America/Chicago:20250529T090000
DTSTAMP:20260419T134214
CREATED:20250513T170428Z
LAST-MODIFIED:20250528T172424Z
UID:10000119-1748505600-1748509200@eaglepointseniorliving.com
SUMMARY:Morning Melodies
DESCRIPTION:
URL:https://eaglepointseniorliving.com/event-calendar/morning-melodies-16/
CATEGORIES:Memory Care
END:VEVENT
BEGIN:VEVENT
DTSTART;TZID=America/Chicago:20250528T190000
DTEND;TZID=America/Chicago:20250528T200000
DTSTAMP:20260419T134214
CREATED:20250513T170428Z
LAST-MODIFIED:20250528T172424Z
UID:10000118-1748458800-1748462400@eaglepointseniorliving.com
SUMMARY:Snack Pass & Reminisce
DESCRIPTION:
URL:https://eaglepointseniorliving.com/event-calendar/snack-pass-reminisce-16/
CATEGORIES:Memory Care
END:VEVENT
BEGIN:VEVENT
DTSTART;TZID=America/Chicago:20250528T180000
DTEND;TZID=America/Chicago:20250528T203000
DTSTAMP:20260419T134214
CREATED:20250513T170428Z
LAST-MODIFIED:20250528T172424Z
UID:10000117-1748455200-1748464200@eaglepointseniorliving.com
SUMMARY:Wednesday Evening Movie
DESCRIPTION:
URL:https://eaglepointseniorliving.com/event-calendar/wednesday-evening-movie-2/
CATEGORIES:Memory Care
END:VEVENT
BEGIN:VEVENT
DTSTART;TZID=America/Chicago:20250528T170000
DTEND;TZID=America/Chicago:20250528T173000
DTSTAMP:20260419T134214
CREATED:20250513T170428Z
LAST-MODIFIED:20250528T172424Z
UID:10000116-1748451600-1748453400@eaglepointseniorliving.com
SUMMARY:Oshibori
DESCRIPTION:
URL:https://eaglepointseniorliving.com/event-calendar/oshibori-32/
CATEGORIES:Memory Care
END:VEVENT
BEGIN:VEVENT
DTSTART;TZID=America/Chicago:20250528T150000
DTEND;TZID=America/Chicago:20250528T160000
DTSTAMP:20260419T134214
CREATED:20250513T170656Z
LAST-MODIFIED:20250528T180947Z
UID:10000300-1748444400-1748448000@eaglepointseniorliving.com
SUMMARY:Cribbage
DESCRIPTION:
URL:https://eaglepointseniorliving.com/event-calendar/cribbage-3/
LOCATION:Art Room
CATEGORIES:Assisted Living
END:VEVENT
BEGIN:VEVENT
DTSTART;TZID=America/Chicago:20250528T150000
DTEND;TZID=America/Chicago:20250528T160000
DTSTAMP:20260419T134214
CREATED:20250513T170656Z
LAST-MODIFIED:20250528T180947Z
UID:10000299-1748444400-1748448000@eaglepointseniorliving.com
SUMMARY:Church Service with Chaplain Peter
DESCRIPTION:
URL:https://eaglepointseniorliving.com/event-calendar/church-service-with-chaplain-peter-4/
LOCATION:Theater
CATEGORIES:Assisted Living
END:VEVENT
BEGIN:VEVENT
DTSTART;TZID=America/Chicago:20250528T140000
DTEND;TZID=America/Chicago:20250528T150000
DTSTAMP:20260419T134214
CREATED:20250513T170428Z
LAST-MODIFIED:20250528T172424Z
UID:10000115-1748440800-1748444400@eaglepointseniorliving.com
SUMMARY:Outside on The Patio
DESCRIPTION:
URL:https://eaglepointseniorliving.com/event-calendar/walking-club-3/
CATEGORIES:Memory Care
END:VEVENT
BEGIN:VEVENT
DTSTART;TZID=America/Chicago:20250528T133000
DTEND;TZID=America/Chicago:20250528T143000
DTSTAMP:20260419T134214
CREATED:20250513T170656Z
LAST-MODIFIED:20250528T180947Z
UID:10000297-1748439000-1748442600@eaglepointseniorliving.com
SUMMARY:Fox Talks: Safe Home Set Up
DESCRIPTION:
URL:https://eaglepointseniorliving.com/event-calendar/fox-talks/
LOCATION:Theater
CATEGORIES:Assisted Living
END:VEVENT
BEGIN:VEVENT
DTSTART;TZID=America/Chicago:20250528T133000
DTEND;TZID=America/Chicago:20250528T143000
DTSTAMP:20260419T134214
CREATED:20250513T170656Z
LAST-MODIFIED:20250528T180947Z
UID:10000298-1748439000-1748442600@eaglepointseniorliving.com
SUMMARY:Trip to Appleton Public Library (Sign up at Front Desk)
DESCRIPTION:Join Brenda on Book Club Book returns to library for residents to spend time on own exploring the Appleton Public Library
URL:https://eaglepointseniorliving.com/event-calendar/trip-to-appleton-public-library-sign-up-at-front-desk-2/
LOCATION:Lobby
CATEGORIES:Assisted Living
END:VEVENT
BEGIN:VEVENT
DTSTART;TZID=America/Chicago:20250528T133000
DTEND;TZID=America/Chicago:20250528T143000
DTSTAMP:20260419T134214
CREATED:20250513T170428Z
LAST-MODIFIED:20250523T172424Z
UID:10000114-1748439000-1748442600@eaglepointseniorliving.com
SUMMARY:Grace's Creations
DESCRIPTION:Coffee Filter Butterfly
URL:https://eaglepointseniorliving.com/event-calendar/graces-crafting-corner-5/
CATEGORIES:Memory Care
END:VEVENT
BEGIN:VEVENT
DTSTART;TZID=America/Chicago:20250528T120000
DTEND;TZID=America/Chicago:20250528T123000
DTSTAMP:20260419T134214
CREATED:20250513T170428Z
LAST-MODIFIED:20250528T172424Z
UID:10000113-1748433600-1748435400@eaglepointseniorliving.com
SUMMARY:Oshibori
DESCRIPTION:
URL:https://eaglepointseniorliving.com/event-calendar/oshibori-31/
CATEGORIES:Memory Care
END:VEVENT
END:VCALENDAR