BEGIN:VCALENDAR
VERSION:2.0
PRODID:-//Eagle Point Senior Living - ECPv6.11.2.1//NONSGML v1.0//EN
CALSCALE:GREGORIAN
METHOD:PUBLISH
X-WR-CALNAME:Eagle Point Senior Living
X-ORIGINAL-URL:https://eaglepointseniorliving.com
X-WR-CALDESC:Events for Eagle Point Senior Living
REFRESH-INTERVAL;VALUE=DURATION:PT1H
X-Robots-Tag:noindex
X-PUBLISHED-TTL:PT1H
BEGIN:VTIMEZONE
TZID:America/Chicago
BEGIN:DAYLIGHT
TZOFFSETFROM:-0600
TZOFFSETTO:-0500
TZNAME:CDT
DTSTART:20250309T080000
END:DAYLIGHT
BEGIN:STANDARD
TZOFFSETFROM:-0500
TZOFFSETTO:-0600
TZNAME:CST
DTSTART:20251102T070000
END:STANDARD
END:VTIMEZONE
BEGIN:VEVENT
DTSTART;TZID=America/Chicago:20250612T091500
DTEND;TZID=America/Chicago:20250612T094500
DTSTAMP:20260421T191715
CREATED:20250513T170659Z
LAST-MODIFIED:20250611T184007Z
UID:10000369-1749719700-1749721500@eaglepointseniorliving.com
SUMMARY:Daily Devotions
DESCRIPTION:Chaplain Peter will lead us in morning daily devotions\, Monday-Friday
URL:https://eaglepointseniorliving.com/event-calendar/daily-devotions-23/
LOCATION:Library
CATEGORIES:Assisted Living
END:VEVENT
BEGIN:VEVENT
DTSTART;TZID=America/Chicago:20250612T080000
DTEND;TZID=America/Chicago:20250612T090000
DTSTAMP:20260421T191715
CREATED:20250513T170432Z
LAST-MODIFIED:20250611T180951Z
UID:10000213-1749715200-1749718800@eaglepointseniorliving.com
SUMMARY:Morning Melodies
DESCRIPTION:
URL:https://eaglepointseniorliving.com/event-calendar/morning-melodies-30/
CATEGORIES:Memory Care
END:VEVENT
BEGIN:VEVENT
DTSTART;TZID=America/Chicago:20250611T190000
DTEND;TZID=America/Chicago:20250611T200000
DTSTAMP:20260421T191715
CREATED:20250513T170432Z
LAST-MODIFIED:20250611T180951Z
UID:10000212-1749668400-1749672000@eaglepointseniorliving.com
SUMMARY:Snack Pass & Reminisce
DESCRIPTION:
URL:https://eaglepointseniorliving.com/event-calendar/snack-pass-reminisce-30/
CATEGORIES:Memory Care
END:VEVENT
BEGIN:VEVENT
DTSTART;TZID=America/Chicago:20250611T180000
DTEND;TZID=America/Chicago:20250611T203000
DTSTAMP:20260421T191715
CREATED:20250513T170431Z
LAST-MODIFIED:20250611T180951Z
UID:10000211-1749664800-1749673800@eaglepointseniorliving.com
SUMMARY:Wednesday Evening Movie
DESCRIPTION:
URL:https://eaglepointseniorliving.com/event-calendar/wednesday-evening-movie-4/
CATEGORIES:Memory Care
END:VEVENT
BEGIN:VEVENT
DTSTART;TZID=America/Chicago:20250611T150000
DTEND;TZID=America/Chicago:20250611T160000
DTSTAMP:20260421T191715
CREATED:20250513T170659Z
LAST-MODIFIED:20250611T184007Z
UID:10000367-1749654000-1749657600@eaglepointseniorliving.com
SUMMARY:Church Service with Chaplain Peter
DESCRIPTION:
URL:https://eaglepointseniorliving.com/event-calendar/church-service-with-chaplain-peter-6/
LOCATION:Theater
CATEGORIES:Assisted Living
END:VEVENT
BEGIN:VEVENT
DTSTART;TZID=America/Chicago:20250611T150000
DTEND;TZID=America/Chicago:20250611T160000
DTSTAMP:20260421T191715
CREATED:20250513T170659Z
LAST-MODIFIED:20250611T184007Z
UID:10000368-1749654000-1749657600@eaglepointseniorliving.com
SUMMARY:Cribbage
DESCRIPTION:
URL:https://eaglepointseniorliving.com/event-calendar/cribbage-5/
LOCATION:Art Room
CATEGORIES:Assisted Living
END:VEVENT
BEGIN:VEVENT
DTSTART;TZID=America/Chicago:20250611T140000
DTEND;TZID=America/Chicago:20250611T150000
DTSTAMP:20260421T191715
CREATED:20250606T181058Z
LAST-MODIFIED:20250611T184007Z
UID:10000704-1749650400-1749654000@eaglepointseniorliving.com
SUMMARY:Wiser on Wednesday -Adventures in Dairyland
DESCRIPTION:
URL:https://eaglepointseniorliving.com/event-calendar/wiser-on-wednesday-adventures-in-dairyland/
LOCATION:Art Room
CATEGORIES:Assisted Living
END:VEVENT
BEGIN:VEVENT
DTSTART;TZID=America/Chicago:20250611T140000
DTEND;TZID=America/Chicago:20250611T150000
DTSTAMP:20260421T191715
CREATED:20250524T172449Z
LAST-MODIFIED:20250611T180951Z
UID:10000513-1749650400-1749654000@eaglepointseniorliving.com
SUMMARY:Outside on The Patio
DESCRIPTION:
URL:https://eaglepointseniorliving.com/event-calendar/outside-on-the-patio-8/
CATEGORIES:Memory Care
END:VEVENT
BEGIN:VEVENT
DTSTART;TZID=America/Chicago:20250611T120000
DTEND;TZID=America/Chicago:20250611T123000
DTSTAMP:20260421T191715
CREATED:20250513T170431Z
LAST-MODIFIED:20250610T181032Z
UID:10000207-1749643200-1749645000@eaglepointseniorliving.com
SUMMARY:Oshibori
DESCRIPTION:
URL:https://eaglepointseniorliving.com/event-calendar/oshibori-59/
CATEGORIES:Memory Care
END:VEVENT
BEGIN:VEVENT
DTSTART;TZID=America/Chicago:20250611T110000
DTEND;TZID=America/Chicago:20250611T113000
DTSTAMP:20260421T191715
CREATED:20250513T170431Z
LAST-MODIFIED:20250610T181032Z
UID:10000206-1749639600-1749641400@eaglepointseniorliving.com
SUMMARY:Resident Wednesday
DESCRIPTION:
URL:https://eaglepointseniorliving.com/event-calendar/resident-wednesday-5/
CATEGORIES:Memory Care
END:VEVENT
BEGIN:VEVENT
DTSTART;TZID=America/Chicago:20250611T104500
DTEND;TZID=America/Chicago:20250611T120000
DTSTAMP:20260421T191715
CREATED:20250513T170659Z
LAST-MODIFIED:20250610T183924Z
UID:10000366-1749638700-1749643200@eaglepointseniorliving.com
SUMMARY:Wednesday Wandering: Breakfast/Lunch at Mary's
DESCRIPTION:Sign up at the front desk.  As one of the longest-operating casual dining spots in Appleton\, Wisconsin\, Mary’s Family Restaurant has been serving homemade food since 1958. We are a locally owned restaurant and a wonderful stop for breakfast\, lunch and dinner dining.
URL:https://eaglepointseniorliving.com/event-calendar/wiser-on-wednesday-4/
LOCATION:Lobby
CATEGORIES:Assisted Living
END:VEVENT
BEGIN:VEVENT
DTSTART;TZID=America/Chicago:20250611T100000
DTEND;TZID=America/Chicago:20250611T103000
DTSTAMP:20260421T191715
CREATED:20250513T170659Z
LAST-MODIFIED:20250610T183924Z
UID:10000365-1749636000-1749637800@eaglepointseniorliving.com
SUMMARY:Exercise Class: Mix
DESCRIPTION:
URL:https://eaglepointseniorliving.com/event-calendar/exercise-class-6/
LOCATION:Wellness Room
CATEGORIES:Assisted Living
END:VEVENT
BEGIN:VEVENT
DTSTART;TZID=America/Chicago:20250611T094500
DTEND;TZID=America/Chicago:20250611T100000
DTSTAMP:20260421T191715
CREATED:20250513T170431Z
LAST-MODIFIED:20250610T181032Z
UID:10000205-1749635100-1749636000@eaglepointseniorliving.com
SUMMARY:Morning Stretch
DESCRIPTION:
URL:https://eaglepointseniorliving.com/event-calendar/morning-stretch-9/
CATEGORIES:Memory Care
END:VEVENT
BEGIN:VEVENT
DTSTART;TZID=America/Chicago:20250611T091500
DTEND;TZID=America/Chicago:20250611T094500
DTSTAMP:20260421T191715
CREATED:20250513T170659Z
LAST-MODIFIED:20250610T183924Z
UID:10000364-1749633300-1749635100@eaglepointseniorliving.com
SUMMARY:Daily Devotions
DESCRIPTION:Chaplain Peter will lead us in morning daily devotions\, Monday-Friday
URL:https://eaglepointseniorliving.com/event-calendar/daily-devotions-22/
LOCATION:Library
CATEGORIES:Assisted Living
END:VEVENT
BEGIN:VEVENT
DTSTART;TZID=America/Chicago:20250611T080000
DTEND;TZID=America/Chicago:20250611T090000
DTSTAMP:20260421T191715
CREATED:20250513T170431Z
LAST-MODIFIED:20250610T181032Z
UID:10000204-1749628800-1749632400@eaglepointseniorliving.com
SUMMARY:Morning Melodies
DESCRIPTION:
URL:https://eaglepointseniorliving.com/event-calendar/morning-melodies-29/
CATEGORIES:Memory Care
END:VEVENT
BEGIN:VEVENT
DTSTART;TZID=America/Chicago:20250610T190000
DTEND;TZID=America/Chicago:20250610T200000
DTSTAMP:20260421T191715
CREATED:20250513T170431Z
LAST-MODIFIED:20250610T181032Z
UID:10000202-1749582000-1749585600@eaglepointseniorliving.com
SUMMARY:Snack Pass & Reminisce
DESCRIPTION:
URL:https://eaglepointseniorliving.com/event-calendar/snack-pass-reminisce-29/
CATEGORIES:Memory Care
END:VEVENT
BEGIN:VEVENT
DTSTART;TZID=America/Chicago:20250610T174500
DTEND;TZID=America/Chicago:20250610T190000
DTSTAMP:20260421T191715
CREATED:20250606T181057Z
LAST-MODIFIED:20250610T183924Z
UID:10000703-1749577500-1749582000@eaglepointseniorliving.com
SUMMARY:Pierce Park Concert
DESCRIPTION:Sign up at the front desk! Be in the lobby by 5:45 PM\, bus will load and depart at 6:00 PM or earlier if all are gathered. Concert starts at 7:00 PM
URL:https://eaglepointseniorliving.com/event-calendar/pierce-park-concert/
LOCATION:Lobby
CATEGORIES:Assisted Living
END:VEVENT
BEGIN:VEVENT
DTSTART;TZID=America/Chicago:20250610T154500
DTEND;TZID=America/Chicago:20250610T163000
DTSTAMP:20260421T191715
CREATED:20250530T180924Z
LAST-MODIFIED:20250610T183924Z
UID:10000612-1749570300-1749573000@eaglepointseniorliving.com
SUMMARY:Bocce Ball (meet outside at Bocce Ball Court)
DESCRIPTION:
URL:https://eaglepointseniorliving.com/event-calendar/bocce-ball-meet-outside-at-bocce-ball-court-2/
LOCATION:Outside
CATEGORIES:Assisted Living
END:VEVENT
BEGIN:VEVENT
DTSTART;TZID=America/Chicago:20250610T150000
DTEND;TZID=America/Chicago:20250610T153000
DTSTAMP:20260421T191715
CREATED:20250513T170431Z
LAST-MODIFIED:20250610T181032Z
UID:10000200-1749567600-1749569400@eaglepointseniorliving.com
SUMMARY:Reminisce
DESCRIPTION:
URL:https://eaglepointseniorliving.com/event-calendar/reminisce-9/
CATEGORIES:Memory Care
END:VEVENT
BEGIN:VEVENT
DTSTART;TZID=America/Chicago:20250610T143000
DTEND;TZID=America/Chicago:20250610T153000
DTSTAMP:20260421T191715
CREATED:20250513T170659Z
LAST-MODIFIED:20250610T183924Z
UID:10000362-1749565800-1749569400@eaglepointseniorliving.com
SUMMARY:Jeopardy with Brenda
DESCRIPTION:
URL:https://eaglepointseniorliving.com/event-calendar/jeopardy-with-ginger-3/
LOCATION:Art Room
CATEGORIES:Assisted Living
END:VEVENT
BEGIN:VEVENT
DTSTART;TZID=America/Chicago:20250610T140000
DTEND;TZID=America/Chicago:20250610T143000
DTSTAMP:20260421T191715
CREATED:20250513T170659Z
LAST-MODIFIED:20250610T183924Z
UID:10000361-1749564000-1749565800@eaglepointseniorliving.com
SUMMARY:Smoothie Tuesdays
DESCRIPTION:Join us each Tuesday as we make fresh protein smoothies each week in the lobby at 2:00pm. Each week will be a different flavor!
URL:https://eaglepointseniorliving.com/event-calendar/smoothie-tuesdays-5/
LOCATION:Lobby
CATEGORIES:Assisted Living
END:VEVENT
BEGIN:VEVENT
DTSTART;TZID=America/Chicago:20250610T133000
DTEND;TZID=America/Chicago:20250610T143000
DTSTAMP:20260421T191715
CREATED:20250513T170431Z
LAST-MODIFIED:20250610T181032Z
UID:10000199-1749562200-1749565800@eaglepointseniorliving.com
SUMMARY:Outside on the Patio
DESCRIPTION:
URL:https://eaglepointseniorliving.com/event-calendar/plants-on-the-patio-3/
CATEGORIES:Memory Care
END:VEVENT
BEGIN:VEVENT
DTSTART;TZID=America/Chicago:20250610T124500
DTEND;TZID=America/Chicago:20250610T140000
DTSTAMP:20260421T191715
CREATED:20250513T170659Z
LAST-MODIFIED:20250610T183924Z
UID:10000360-1749559500-1749564000@eaglepointseniorliving.com
SUMMARY:2025 Forklift Racing League
DESCRIPTION:Everyone is invited to join in the fun! You can watch\, try your hand at the forklift\, or cheer the team on.
URL:https://eaglepointseniorliving.com/event-calendar/2025-forklift-racing-league-5/
LOCATION:Wellness Room
CATEGORIES:Assisted Living
END:VEVENT
BEGIN:VEVENT
DTSTART;TZID=America/Chicago:20250610T120000
DTEND;TZID=America/Chicago:20250610T123000
DTSTAMP:20260421T191715
CREATED:20250513T170431Z
LAST-MODIFIED:20250609T180926Z
UID:10000198-1749556800-1749558600@eaglepointseniorliving.com
SUMMARY:Oshibori
DESCRIPTION:
URL:https://eaglepointseniorliving.com/event-calendar/oshibori-57/
CATEGORIES:Memory Care
END:VEVENT
BEGIN:VEVENT
DTSTART;TZID=America/Chicago:20250610T110000
DTEND;TZID=America/Chicago:20250610T120000
DTSTAMP:20260421T191715
CREATED:20250513T170431Z
LAST-MODIFIED:20250609T180926Z
UID:10000197-1749553200-1749556800@eaglepointseniorliving.com
SUMMARY:Jeopardy
DESCRIPTION:
URL:https://eaglepointseniorliving.com/event-calendar/jeopardy-4/
CATEGORIES:Memory Care
END:VEVENT
BEGIN:VEVENT
DTSTART;TZID=America/Chicago:20250610T104500
DTEND;TZID=America/Chicago:20250610T114500
DTSTAMP:20260421T191715
CREATED:20250513T170659Z
LAST-MODIFIED:20250609T183924Z
UID:10000359-1749552300-1749555900@eaglepointseniorliving.com
SUMMARY:Thoughtful Theater Discussion: The Seventh Seal
DESCRIPTION:Discussion of Ingmar Bergman’s film “The Seventh Seal”.
URL:https://eaglepointseniorliving.com/event-calendar/thoughtful-theater-discussion-the-seventh-seal/
LOCATION:Theater
CATEGORIES:Assisted Living
END:VEVENT
BEGIN:VEVENT
DTSTART;TZID=America/Chicago:20250610T100000
DTEND;TZID=America/Chicago:20250610T103000
DTSTAMP:20260421T191715
CREATED:20250513T170659Z
LAST-MODIFIED:20250609T183924Z
UID:10000358-1749549600-1749551400@eaglepointseniorliving.com
SUMMARY:Steps to Scoop Group Walk
DESCRIPTION:Attend the four 30-minute Steps to Scoop group walks to earn a Culver’s treat. If you miss one or just prefer walking inside\, use the punch card to log your indoor walks!
URL:https://eaglepointseniorliving.com/event-calendar/exercise-fitness-mix-4/
LOCATION:Lobby
CATEGORIES:Assisted Living
END:VEVENT
BEGIN:VEVENT
DTSTART;TZID=America/Chicago:20250610T091500
DTEND;TZID=America/Chicago:20250610T094500
DTSTAMP:20260421T191715
CREATED:20250513T170659Z
LAST-MODIFIED:20250609T183924Z
UID:10000357-1749546900-1749548700@eaglepointseniorliving.com
SUMMARY:Daily Devotions
DESCRIPTION:Chaplain Peter will lead us in morning daily devotions\, Monday-Friday
URL:https://eaglepointseniorliving.com/event-calendar/daily-devotions-21/
LOCATION:Library
CATEGORIES:Assisted Living
END:VEVENT
BEGIN:VEVENT
DTSTART;TZID=America/Chicago:20250610T080000
DTEND;TZID=America/Chicago:20250610T090000
DTSTAMP:20260421T191715
CREATED:20250513T170431Z
LAST-MODIFIED:20250609T180926Z
UID:10000196-1749542400-1749546000@eaglepointseniorliving.com
SUMMARY:Morning Melodies
DESCRIPTION:
URL:https://eaglepointseniorliving.com/event-calendar/morning-melodies-28/
CATEGORIES:Memory Care
END:VEVENT
BEGIN:VEVENT
DTSTART;TZID=America/Chicago:20250609T190000
DTEND;TZID=America/Chicago:20250609T200000
DTSTAMP:20260421T191715
CREATED:20250513T170431Z
LAST-MODIFIED:20250609T180926Z
UID:10000195-1749495600-1749499200@eaglepointseniorliving.com
SUMMARY:Snack Pass & Reminisce
DESCRIPTION:
URL:https://eaglepointseniorliving.com/event-calendar/snack-pass-reminisce-28/
CATEGORIES:Memory Care
END:VEVENT
END:VCALENDAR