BEGIN:VCALENDAR
VERSION:2.0
PRODID:-//Eagle Point Senior Living - ECPv6.11.2.1//NONSGML v1.0//EN
CALSCALE:GREGORIAN
METHOD:PUBLISH
X-WR-CALNAME:Eagle Point Senior Living
X-ORIGINAL-URL:https://eaglepointseniorliving.com
X-WR-CALDESC:Events for Eagle Point Senior Living
REFRESH-INTERVAL;VALUE=DURATION:PT1H
X-Robots-Tag:noindex
X-PUBLISHED-TTL:PT1H
BEGIN:VTIMEZONE
TZID:America/Chicago
BEGIN:DAYLIGHT
TZOFFSETFROM:-0600
TZOFFSETTO:-0500
TZNAME:CDT
DTSTART:20250309T080000
END:DAYLIGHT
BEGIN:STANDARD
TZOFFSETFROM:-0500
TZOFFSETTO:-0600
TZNAME:CST
DTSTART:20251102T070000
END:STANDARD
END:VTIMEZONE
BEGIN:VEVENT
DTSTART;TZID=America/Chicago:20250603T080000
DTEND;TZID=America/Chicago:20250603T090000
DTSTAMP:20260419T075216
CREATED:20250513T170429Z
LAST-MODIFIED:20250602T174008Z
UID:10000149-1748937600-1748941200@eaglepointseniorliving.com
SUMMARY:Morning Melodies
DESCRIPTION:
URL:https://eaglepointseniorliving.com/event-calendar/morning-melodies-21/
CATEGORIES:Memory Care
END:VEVENT
BEGIN:VEVENT
DTSTART;TZID=America/Chicago:20250602T190000
DTEND;TZID=America/Chicago:20250602T200000
DTSTAMP:20260419T075216
CREATED:20250513T170429Z
LAST-MODIFIED:20250602T174008Z
UID:10000148-1748890800-1748894400@eaglepointseniorliving.com
SUMMARY:Snack Pass & Reminisce
DESCRIPTION:
URL:https://eaglepointseniorliving.com/event-calendar/snack-pass-reminisce-21/
CATEGORIES:Memory Care
END:VEVENT
BEGIN:VEVENT
DTSTART;TZID=America/Chicago:20250602T180000
DTEND;TZID=America/Chicago:20250602T190000
DTSTAMP:20260419T075216
CREATED:20250525T172425Z
LAST-MODIFIED:20250602T174008Z
UID:10000523-1748887200-1748890800@eaglepointseniorliving.com
SUMMARY:Therapy Dough
DESCRIPTION:
URL:https://eaglepointseniorliving.com/event-calendar/therapy-dough/
CATEGORIES:Memory Care
END:VEVENT
BEGIN:VEVENT
DTSTART;TZID=America/Chicago:20250602T170000
DTEND;TZID=America/Chicago:20250602T173000
DTSTAMP:20260419T075216
CREATED:20250513T170429Z
LAST-MODIFIED:20250602T174008Z
UID:10000147-1748883600-1748885400@eaglepointseniorliving.com
SUMMARY:Oshibori
DESCRIPTION:
URL:https://eaglepointseniorliving.com/event-calendar/oshibori-42/
CATEGORIES:Memory Care
END:VEVENT
BEGIN:VEVENT
DTSTART;TZID=America/Chicago:20250602T150000
DTEND;TZID=America/Chicago:20250602T160000
DTSTAMP:20260419T075216
CREATED:20250529T180923Z
LAST-MODIFIED:20250602T180928Z
UID:10000598-1748876400-1748880000@eaglepointseniorliving.com
SUMMARY:Game Time-Family Feud
DESCRIPTION:
URL:https://eaglepointseniorliving.com/event-calendar/game-time-family-feud/
LOCATION:Art Room
CATEGORIES:Assisted Living
END:VEVENT
BEGIN:VEVENT
DTSTART;TZID=America/Chicago:20250602T143000
DTEND;TZID=America/Chicago:20250602T150000
DTSTAMP:20260419T075216
CREATED:20250520T172456Z
LAST-MODIFIED:20250602T174008Z
UID:10000457-1748874600-1748876400@eaglepointseniorliving.com
SUMMARY:Remineses
DESCRIPTION:
URL:https://eaglepointseniorliving.com/event-calendar/remineses/
CATEGORIES:Memory Care
END:VEVENT
BEGIN:VEVENT
DTSTART;TZID=America/Chicago:20250602T140000
DTEND;TZID=America/Chicago:20250602T150000
DTSTAMP:20260419T075216
CREATED:20250514T171218Z
LAST-MODIFIED:20250602T180928Z
UID:10000387-1748872800-1748876400@eaglepointseniorliving.com
SUMMARY:Monday This Month We Celebrate Wisconsin
DESCRIPTION:Join us for some Wisconsin Songs\, History\, and Games.\nLearn some facts on “Simon’s Cheese Factory” prior to our Wednesday Wandering Trip
URL:https://eaglepointseniorliving.com/event-calendar/monday-this-month-we-celebrate-3/
LOCATION:Art Room
CATEGORIES:Assisted Living
END:VEVENT
BEGIN:VEVENT
DTSTART;TZID=America/Chicago:20250602T133000
DTEND;TZID=America/Chicago:20250602T143000
DTSTAMP:20260419T075216
CREATED:20250520T172456Z
LAST-MODIFIED:20250602T174008Z
UID:10000456-1748871000-1748874600@eaglepointseniorliving.com
SUMMARY:Outside on The Patio
DESCRIPTION:
URL:https://eaglepointseniorliving.com/event-calendar/outside-on-the-patio-4/
CATEGORIES:Memory Care
END:VEVENT
BEGIN:VEVENT
DTSTART;TZID=America/Chicago:20250602T133000
DTEND;TZID=America/Chicago:20250602T143000
DTSTAMP:20260419T075216
CREATED:20250513T170657Z
LAST-MODIFIED:20250602T180928Z
UID:10000317-1748871000-1748874600@eaglepointseniorliving.com
SUMMARY:Grocery Outing: Pick N Save
DESCRIPTION:Sign up at the front desk. We need at least three to sign up to make the trip. Thank you!
URL:https://eaglepointseniorliving.com/event-calendar/grocery-outing/
LOCATION:Lobby
CATEGORIES:Assisted Living
END:VEVENT
BEGIN:VEVENT
DTSTART;TZID=America/Chicago:20250602T130000
DTEND;TZID=America/Chicago:20250602T140000
DTSTAMP:20260419T075216
CREATED:20250513T170657Z
LAST-MODIFIED:20250602T180928Z
UID:10000316-1748869200-1748872800@eaglepointseniorliving.com
SUMMARY:Wii Bowling
DESCRIPTION:Allows user to mimic all the critical motions of bowling with a television screen.
URL:https://eaglepointseniorliving.com/event-calendar/wii-bowling-3/
LOCATION:Wellness Room
CATEGORIES:Assisted Living
END:VEVENT
BEGIN:VEVENT
DTSTART;TZID=America/Chicago:20250602T120000
DTEND;TZID=America/Chicago:20250602T123000
DTSTAMP:20260419T075216
CREATED:20250513T170429Z
LAST-MODIFIED:20250601T173932Z
UID:10000146-1748865600-1748867400@eaglepointseniorliving.com
SUMMARY:Oshibori
DESCRIPTION:
URL:https://eaglepointseniorliving.com/event-calendar/oshibori-41/
CATEGORIES:Memory Care
END:VEVENT
BEGIN:VEVENT
DTSTART;TZID=America/Chicago:20250602T113000
DTEND;TZID=America/Chicago:20250602T133000
DTSTAMP:20260419T075216
CREATED:20250513T170657Z
LAST-MODIFIED:20250602T180928Z
UID:10000321-1748863800-1748871000@eaglepointseniorliving.com
SUMMARY:Grandbuddy Picnic
DESCRIPTION:Children will bring sack lunches\, we will have an outdoor picnic by the firepit and enjoy the weather and the company
URL:https://eaglepointseniorliving.com/event-calendar/grandbuddy-picnic/
LOCATION:Fire Pit
CATEGORIES:Assisted Living
END:VEVENT
BEGIN:VEVENT
DTSTART;TZID=America/Chicago:20250602T110000
DTEND;TZID=America/Chicago:20250602T120000
DTSTAMP:20260419T075216
CREATED:20250513T170429Z
LAST-MODIFIED:20250513T170429Z
UID:10000145-1748862000-1748865600@eaglepointseniorliving.com
SUMMARY:Monday We Celebrate-
DESCRIPTION:
URL:https://eaglepointseniorliving.com/event-calendar/monday-we-celebrate-3/
CATEGORIES:Memory Care
END:VEVENT
BEGIN:VEVENT
DTSTART;TZID=America/Chicago:20250602T100000
DTEND;TZID=America/Chicago:20250602T103000
DTSTAMP:20260419T075216
CREATED:20250513T170657Z
LAST-MODIFIED:20250601T181005Z
UID:10000320-1748858400-1748860200@eaglepointseniorliving.com
SUMMARY:Weight Resistance Class
DESCRIPTION:A weight resistance class led by our resident Linda!
URL:https://eaglepointseniorliving.com/event-calendar/weight-resistance-class-6/
LOCATION:Wellness Room
CATEGORIES:Assisted Living
END:VEVENT
BEGIN:VEVENT
DTSTART;TZID=America/Chicago:20250602T091500
DTEND;TZID=America/Chicago:20250602T094500
DTSTAMP:20260419T075216
CREATED:20250513T170657Z
LAST-MODIFIED:20250601T181005Z
UID:10000319-1748855700-1748857500@eaglepointseniorliving.com
SUMMARY:Daily Devotions
DESCRIPTION:Chaplain Peter will lead us in morning daily devotions\, Monday-Friday
URL:https://eaglepointseniorliving.com/event-calendar/daily-devotions-15/
LOCATION:Library
CATEGORIES:Assisted Living
END:VEVENT
BEGIN:VEVENT
DTSTART;TZID=America/Chicago:20250602T080000
DTEND;TZID=America/Chicago:20250602T090000
DTSTAMP:20260419T075216
CREATED:20250513T170429Z
LAST-MODIFIED:20250601T173932Z
UID:10000144-1748851200-1748854800@eaglepointseniorliving.com
SUMMARY:Morning Melodies
DESCRIPTION:
URL:https://eaglepointseniorliving.com/event-calendar/morning-melodies-20/
CATEGORIES:Memory Care
END:VEVENT
BEGIN:VEVENT
DTSTART;VALUE=DATE:20250602
DTEND;VALUE=DATE:20250603
DTSTAMP:20260419T075216
CREATED:20250513T170657Z
LAST-MODIFIED:20250602T180928Z
UID:10000318-1748822400-1748908799@eaglepointseniorliving.com
SUMMARY:Shavuot
DESCRIPTION:Shavuot commemorates the covenant between God and the Israelites\, and the moment when the Israelites became a nation with their own laws\, language\, and governing structure.  For Jews\, Shavuot is a time to renew one’s commitment to the covenant with God and to celebrate the Torah.
URL:https://eaglepointseniorliving.com/event-calendar/shavuot/
CATEGORIES:Assisted Living
END:VEVENT
BEGIN:VEVENT
DTSTART;TZID=America/Chicago:20250601T190000
DTEND;TZID=America/Chicago:20250601T200000
DTSTAMP:20260419T075216
CREATED:20250513T170429Z
LAST-MODIFIED:20250601T173932Z
UID:10000143-1748804400-1748808000@eaglepointseniorliving.com
SUMMARY:Snack Pass & Reminisce
DESCRIPTION:
URL:https://eaglepointseniorliving.com/event-calendar/snack-pass-reminisce-20/
CATEGORIES:Memory Care
END:VEVENT
BEGIN:VEVENT
DTSTART;TZID=America/Chicago:20250601T170000
DTEND;TZID=America/Chicago:20250601T173000
DTSTAMP:20260419T075216
CREATED:20250513T170429Z
LAST-MODIFIED:20250601T173932Z
UID:10000142-1748797200-1748799000@eaglepointseniorliving.com
SUMMARY:Oshibori
DESCRIPTION:
URL:https://eaglepointseniorliving.com/event-calendar/oshibori-40/
CATEGORIES:Memory Care
END:VEVENT
BEGIN:VEVENT
DTSTART;TZID=America/Chicago:20250601T133000
DTEND;TZID=America/Chicago:20250601T140000
DTSTAMP:20260419T075216
CREATED:20250513T170429Z
LAST-MODIFIED:20250601T173932Z
UID:10000141-1748784600-1748786400@eaglepointseniorliving.com
SUMMARY:Exercise
DESCRIPTION:
URL:https://eaglepointseniorliving.com/event-calendar/exercise-3/
CATEGORIES:Memory Care
END:VEVENT
BEGIN:VEVENT
DTSTART;TZID=America/Chicago:20250601T120000
DTEND;TZID=America/Chicago:20250601T123000
DTSTAMP:20260419T075216
CREATED:20250513T170429Z
LAST-MODIFIED:20250531T174015Z
UID:10000140-1748779200-1748781000@eaglepointseniorliving.com
SUMMARY:Oshibori
DESCRIPTION:
URL:https://eaglepointseniorliving.com/event-calendar/oshibori-39/
CATEGORIES:Memory Care
END:VEVENT
BEGIN:VEVENT
DTSTART;TZID=America/Chicago:20250601T100000
DTEND;TZID=America/Chicago:20250601T110000
DTSTAMP:20260419T075216
CREATED:20250513T170429Z
LAST-MODIFIED:20250531T174015Z
UID:10000139-1748772000-1748775600@eaglepointseniorliving.com
SUMMARY:Manicures
DESCRIPTION:
URL:https://eaglepointseniorliving.com/event-calendar/manicures-3/
CATEGORIES:Memory Care
END:VEVENT
BEGIN:VEVENT
DTSTART;TZID=America/Chicago:20250601T091500
DTEND;TZID=America/Chicago:20250601T121500
DTSTAMP:20260419T075216
CREATED:20250513T170657Z
LAST-MODIFIED:20250531T180924Z
UID:10000315-1748769300-1748780100@eaglepointseniorliving.com
SUMMARY:Immanuel Lutheran Church- Live Stream
DESCRIPTION:On line viewing of Immanuel Ev. Lutheran Church\, Greenville\, WI.\nAll denominations are invited to attend
URL:https://eaglepointseniorliving.com/event-calendar/immanuel-lutheran-church-live-stream-3/
LOCATION:Theater
CATEGORIES:Assisted Living
END:VEVENT
BEGIN:VEVENT
DTSTART;TZID=America/Chicago:20250601T080000
DTEND;TZID=America/Chicago:20250601T090000
DTSTAMP:20260419T075216
CREATED:20250513T170429Z
LAST-MODIFIED:20250531T174015Z
UID:10000138-1748764800-1748768400@eaglepointseniorliving.com
SUMMARY:Morning Melodies
DESCRIPTION:
URL:https://eaglepointseniorliving.com/event-calendar/morning-melodies-19/
CATEGORIES:Memory Care
END:VEVENT
BEGIN:VEVENT
DTSTART;TZID=America/Chicago:20250531T190000
DTEND;TZID=America/Chicago:20250531T200000
DTSTAMP:20260419T075216
CREATED:20250513T170429Z
LAST-MODIFIED:20250531T174015Z
UID:10000137-1748718000-1748721600@eaglepointseniorliving.com
SUMMARY:Snack Pass & Reminisce
DESCRIPTION:
URL:https://eaglepointseniorliving.com/event-calendar/snack-pass-reminisce-19/
CATEGORIES:Memory Care
END:VEVENT
BEGIN:VEVENT
DTSTART;TZID=America/Chicago:20250531T180000
DTEND;TZID=America/Chicago:20250531T190000
DTSTAMP:20260419T075216
CREATED:20250513T170429Z
LAST-MODIFIED:20250531T174015Z
UID:10000136-1748714400-1748718000@eaglepointseniorliving.com
SUMMARY:Movie & A Snack
DESCRIPTION:
URL:https://eaglepointseniorliving.com/event-calendar/movie-a-snack-3/
CATEGORIES:Memory Care
END:VEVENT
BEGIN:VEVENT
DTSTART;TZID=America/Chicago:20250531T170000
DTEND;TZID=America/Chicago:20250531T173000
DTSTAMP:20260419T075216
CREATED:20250513T170429Z
LAST-MODIFIED:20250531T174015Z
UID:10000135-1748710800-1748712600@eaglepointseniorliving.com
SUMMARY:Oshibori
DESCRIPTION:
URL:https://eaglepointseniorliving.com/event-calendar/oshibori-38/
CATEGORIES:Memory Care
END:VEVENT
BEGIN:VEVENT
DTSTART;TZID=America/Chicago:20250531T140000
DTEND;TZID=America/Chicago:20250531T150000
DTSTAMP:20260419T075216
CREATED:20250513T170657Z
LAST-MODIFIED:20250531T180924Z
UID:10000314-1748700000-1748703600@eaglepointseniorliving.com
SUMMARY:Resident Sheepshead
DESCRIPTION:
URL:https://eaglepointseniorliving.com/event-calendar/resident-sheepshead-3/
LOCATION:Game Room
CATEGORIES:Assisted Living
END:VEVENT
BEGIN:VEVENT
DTSTART;TZID=America/Chicago:20250531T140000
DTEND;TZID=America/Chicago:20250531T150000
DTSTAMP:20260419T075216
CREATED:20250513T170429Z
LAST-MODIFIED:20250531T174015Z
UID:10000134-1748700000-1748703600@eaglepointseniorliving.com
SUMMARY:Reminisce
DESCRIPTION:
URL:https://eaglepointseniorliving.com/event-calendar/reminisce-6/
CATEGORIES:Memory Care
END:VEVENT
BEGIN:VEVENT
DTSTART;TZID=America/Chicago:20250531T130000
DTEND;TZID=America/Chicago:20250531T150000
DTSTAMP:20260419T075216
CREATED:20250513T170657Z
LAST-MODIFIED:20250531T180924Z
UID:10000313-1748696400-1748703600@eaglepointseniorliving.com
SUMMARY:Saturday Afternoon Movie-"The Mule"
DESCRIPTION:
URL:https://eaglepointseniorliving.com/event-calendar/saturday-afternoon-movie-2/
LOCATION:Theater
CATEGORIES:Assisted Living
END:VEVENT
END:VCALENDAR