BEGIN:VCALENDAR
VERSION:2.0
PRODID:-//Eagle Point Senior Living - ECPv6.11.2.1//NONSGML v1.0//EN
CALSCALE:GREGORIAN
METHOD:PUBLISH
X-WR-CALNAME:Eagle Point Senior Living
X-ORIGINAL-URL:https://eaglepointseniorliving.com
X-WR-CALDESC:Events for Eagle Point Senior Living
REFRESH-INTERVAL;VALUE=DURATION:PT1H
X-Robots-Tag:noindex
X-PUBLISHED-TTL:PT1H
BEGIN:VTIMEZONE
TZID:America/Chicago
BEGIN:DAYLIGHT
TZOFFSETFROM:-0600
TZOFFSETTO:-0500
TZNAME:CDT
DTSTART:20260308T080000
END:DAYLIGHT
BEGIN:STANDARD
TZOFFSETFROM:-0500
TZOFFSETTO:-0600
TZNAME:CST
DTSTART:20261101T070000
END:STANDARD
END:VTIMEZONE
BEGIN:VEVENT
DTSTART;TZID=America/Chicago:20260523T093000
DTEND;TZID=America/Chicago:20260523T100000
DTSTAMP:20260424T090052
CREATED:20260424T082441Z
LAST-MODIFIED:20260424T082441Z
UID:10005595-1779528600-1779530400@eaglepointseniorliving.com
SUMMARY:Chair Yoga Dance
DESCRIPTION:
URL:https://eaglepointseniorliving.com/event-calendar/chair-yoga-dance-13/
LOCATION:Dining Room
CATEGORIES:Memory Care
END:VEVENT
BEGIN:VEVENT
DTSTART;TZID=America/Chicago:20260523T100000
DTEND;TZID=America/Chicago:20260523T110000
DTSTAMP:20260424T090052
CREATED:20260424T082442Z
LAST-MODIFIED:20260424T082442Z
UID:10005596-1779530400-1779534000@eaglepointseniorliving.com
SUMMARY:Today is Special=World Turtle Day
DESCRIPTION:
URL:https://eaglepointseniorliving.com/event-calendar/today-is-specialworld-turtle-day/
LOCATION:Dining Room
CATEGORIES:Memory Care
END:VEVENT
BEGIN:VEVENT
DTSTART;TZID=America/Chicago:20260523T110000
DTEND;TZID=America/Chicago:20260523T120000
DTSTAMP:20260424T090052
CREATED:20260424T082442Z
LAST-MODIFIED:20260424T082442Z
UID:10005597-1779534000-1779537600@eaglepointseniorliving.com
SUMMARY:Special Memorial Day Weekend Rememberance
DESCRIPTION:
URL:https://eaglepointseniorliving.com/event-calendar/special-memorial-day-weekend-rememberance/
LOCATION:Dining Room
CATEGORIES:Memory Care
END:VEVENT
BEGIN:VEVENT
DTSTART;TZID=America/Chicago:20260523T180000
DTEND;TZID=America/Chicago:20260523T200000
DTSTAMP:20260424T090052
CREATED:20260424T082442Z
LAST-MODIFIED:20260424T082442Z
UID:10005598-1779559200-1779566400@eaglepointseniorliving.com
SUMMARY:Movie & A Snack
DESCRIPTION:
URL:https://eaglepointseniorliving.com/event-calendar/movie-a-snack-54/
LOCATION:Dining Room
CATEGORIES:Memory Care
END:VEVENT
BEGIN:VEVENT
DTSTART;TZID=America/Chicago:20260523T190000
DTEND;TZID=America/Chicago:20260523T191500
DTSTAMP:20260424T090052
CREATED:20260424T082442Z
LAST-MODIFIED:20260424T082442Z
UID:10005599-1779562800-1779563700@eaglepointseniorliving.com
SUMMARY:Snack Pass
DESCRIPTION:
URL:https://eaglepointseniorliving.com/event-calendar/snack-pass-273/
LOCATION:Dining Room
CATEGORIES:Memory Care
END:VEVENT
END:VCALENDAR