BEGIN:VCALENDAR
VERSION:2.0
PRODID:-//Eagle Point Senior Living - ECPv6.11.2.1//NONSGML v1.0//EN
CALSCALE:GREGORIAN
METHOD:PUBLISH
X-ORIGINAL-URL:https://eaglepointseniorliving.com
X-WR-CALDESC:Events for Eagle Point Senior Living
REFRESH-INTERVAL;VALUE=DURATION:PT1H
X-Robots-Tag:noindex
X-PUBLISHED-TTL:PT1H
BEGIN:VTIMEZONE
TZID:America/Chicago
BEGIN:DAYLIGHT
TZOFFSETFROM:-0600
TZOFFSETTO:-0500
TZNAME:CDT
DTSTART:20250309T080000
END:DAYLIGHT
BEGIN:STANDARD
TZOFFSETFROM:-0500
TZOFFSETTO:-0600
TZNAME:CST
DTSTART:20251102T070000
END:STANDARD
END:VTIMEZONE
BEGIN:VEVENT
DTSTART;TZID=America/Chicago:20250526T080000
DTEND;TZID=America/Chicago:20250526T090000
DTSTAMP:20260423T183238
CREATED:20250513T170427Z
LAST-MODIFIED:20250525T172426Z
UID:10000094-1748246400-1748250000@eaglepointseniorliving.com
SUMMARY:Morning Melodies
DESCRIPTION:
URL:https://eaglepointseniorliving.com/event-calendar/morning-melodies-13/
CATEGORIES:Memory Care
END:VEVENT
BEGIN:VEVENT
DTSTART;TZID=America/Chicago:20250525T190000
DTEND;TZID=America/Chicago:20250525T200000
DTSTAMP:20260423T183238
CREATED:20250513T170427Z
LAST-MODIFIED:20250525T172426Z
UID:10000093-1748199600-1748203200@eaglepointseniorliving.com
SUMMARY:Snack Pass & Reminisce
DESCRIPTION:
URL:https://eaglepointseniorliving.com/event-calendar/snack-pass-reminisce-13/
CATEGORIES:Memory Care
END:VEVENT
BEGIN:VEVENT
DTSTART;TZID=America/Chicago:20250525T170000
DTEND;TZID=America/Chicago:20250525T173000
DTSTAMP:20260423T183238
CREATED:20250513T170427Z
LAST-MODIFIED:20250525T172426Z
UID:10000092-1748192400-1748194200@eaglepointseniorliving.com
SUMMARY:Oshibori
DESCRIPTION:
URL:https://eaglepointseniorliving.com/event-calendar/oshibori-26/
CATEGORIES:Memory Care
END:VEVENT
BEGIN:VEVENT
DTSTART;TZID=America/Chicago:20250525T133000
DTEND;TZID=America/Chicago:20250525T140000
DTSTAMP:20260423T183238
CREATED:20250513T170427Z
LAST-MODIFIED:20250525T172426Z
UID:10000091-1748179800-1748181600@eaglepointseniorliving.com
SUMMARY:Exercise
DESCRIPTION:
URL:https://eaglepointseniorliving.com/event-calendar/exercise-2/
CATEGORIES:Memory Care
END:VEVENT
BEGIN:VEVENT
DTSTART;TZID=America/Chicago:20250525T120000
DTEND;TZID=America/Chicago:20250525T123000
DTSTAMP:20260423T183238
CREATED:20250513T170427Z
LAST-MODIFIED:20250525T172426Z
UID:10000090-1748174400-1748176200@eaglepointseniorliving.com
SUMMARY:Oshibori
DESCRIPTION:
URL:https://eaglepointseniorliving.com/event-calendar/oshibori-25/
CATEGORIES:Memory Care
END:VEVENT
BEGIN:VEVENT
DTSTART;TZID=America/Chicago:20250525T100000
DTEND;TZID=America/Chicago:20250525T110000
DTSTAMP:20260423T183238
CREATED:20250513T170427Z
LAST-MODIFIED:20250524T172448Z
UID:10000089-1748167200-1748170800@eaglepointseniorliving.com
SUMMARY:Manicures
DESCRIPTION:
URL:https://eaglepointseniorliving.com/event-calendar/manicures-2/
CATEGORIES:Memory Care
END:VEVENT
BEGIN:VEVENT
DTSTART;TZID=America/Chicago:20250525T080000
DTEND;TZID=America/Chicago:20250525T090000
DTSTAMP:20260423T183238
CREATED:20250513T170427Z
LAST-MODIFIED:20250524T172448Z
UID:10000088-1748160000-1748163600@eaglepointseniorliving.com
SUMMARY:Morning Melodies
DESCRIPTION:
URL:https://eaglepointseniorliving.com/event-calendar/morning-melodies-12/
CATEGORIES:Memory Care
END:VEVENT
BEGIN:VEVENT
DTSTART;TZID=America/Chicago:20250524T190000
DTEND;TZID=America/Chicago:20250524T200000
DTSTAMP:20260423T183238
CREATED:20250513T170427Z
LAST-MODIFIED:20250524T172447Z
UID:10000087-1748113200-1748116800@eaglepointseniorliving.com
SUMMARY:Snack Pass & Reminisce
DESCRIPTION:
URL:https://eaglepointseniorliving.com/event-calendar/snack-pass-reminisce-12/
CATEGORIES:Memory Care
END:VEVENT
BEGIN:VEVENT
DTSTART;TZID=America/Chicago:20250524T180000
DTEND;TZID=America/Chicago:20250524T190000
DTSTAMP:20260423T183238
CREATED:20250513T170427Z
LAST-MODIFIED:20250524T172447Z
UID:10000086-1748109600-1748113200@eaglepointseniorliving.com
SUMMARY:Movie & A Snack
DESCRIPTION:
URL:https://eaglepointseniorliving.com/event-calendar/movie-a-snack-2/
CATEGORIES:Memory Care
END:VEVENT
BEGIN:VEVENT
DTSTART;TZID=America/Chicago:20250524T170000
DTEND;TZID=America/Chicago:20250524T173000
DTSTAMP:20260423T183238
CREATED:20250513T170427Z
LAST-MODIFIED:20250524T172447Z
UID:10000085-1748106000-1748107800@eaglepointseniorliving.com
SUMMARY:Oshibori
DESCRIPTION:
URL:https://eaglepointseniorliving.com/event-calendar/oshibori-24/
CATEGORIES:Memory Care
END:VEVENT
BEGIN:VEVENT
DTSTART;TZID=America/Chicago:20250524T140000
DTEND;TZID=America/Chicago:20250524T150000
DTSTAMP:20260423T183238
CREATED:20250513T170427Z
LAST-MODIFIED:20250524T172447Z
UID:10000084-1748095200-1748098800@eaglepointseniorliving.com
SUMMARY:Reminisce
DESCRIPTION:
URL:https://eaglepointseniorliving.com/event-calendar/reminisce-4/
CATEGORIES:Memory Care
END:VEVENT
BEGIN:VEVENT
DTSTART;TZID=America/Chicago:20250524T120000
DTEND;TZID=America/Chicago:20250524T123000
DTSTAMP:20260423T183238
CREATED:20250513T170427Z
LAST-MODIFIED:20250524T172447Z
UID:10000083-1748088000-1748089800@eaglepointseniorliving.com
SUMMARY:Oshibori
DESCRIPTION:
URL:https://eaglepointseniorliving.com/event-calendar/oshibori-23/
CATEGORIES:Memory Care
END:VEVENT
BEGIN:VEVENT
DTSTART;TZID=America/Chicago:20250524T080000
DTEND;TZID=America/Chicago:20250524T090000
DTSTAMP:20260423T183238
CREATED:20250513T170427Z
LAST-MODIFIED:20250523T172425Z
UID:10000082-1748073600-1748077200@eaglepointseniorliving.com
SUMMARY:Morning Melodies
DESCRIPTION:
URL:https://eaglepointseniorliving.com/event-calendar/morning-melodies-11/
CATEGORIES:Memory Care
END:VEVENT
BEGIN:VEVENT
DTSTART;TZID=America/Chicago:20250523T190000
DTEND;TZID=America/Chicago:20250523T200000
DTSTAMP:20260423T183238
CREATED:20250513T170427Z
LAST-MODIFIED:20250523T172425Z
UID:10000080-1748026800-1748030400@eaglepointseniorliving.com
SUMMARY:Snack Pass & Reminisce
DESCRIPTION:
URL:https://eaglepointseniorliving.com/event-calendar/snack-pass-reminisce-11/
CATEGORIES:Memory Care
END:VEVENT
BEGIN:VEVENT
DTSTART;TZID=America/Chicago:20250523T183000
DTEND;TZID=America/Chicago:20250523T203000
DTSTAMP:20260423T183238
CREATED:20250513T170427Z
LAST-MODIFIED:20250523T172425Z
UID:10000081-1748025000-1748032200@eaglepointseniorliving.com
SUMMARY:Friday Night Movie
DESCRIPTION:
URL:https://eaglepointseniorliving.com/event-calendar/friday-night-movie-2/
CATEGORIES:Memory Care
END:VEVENT
BEGIN:VEVENT
DTSTART;TZID=America/Chicago:20250523T170000
DTEND;TZID=America/Chicago:20250523T173000
DTSTAMP:20260423T183238
CREATED:20250513T170427Z
LAST-MODIFIED:20250523T172425Z
UID:10000079-1748019600-1748021400@eaglepointseniorliving.com
SUMMARY:Oshibori
DESCRIPTION:
URL:https://eaglepointseniorliving.com/event-calendar/oshibori-22/
CATEGORIES:Memory Care
END:VEVENT
BEGIN:VEVENT
DTSTART;TZID=America/Chicago:20250523T120000
DTEND;TZID=America/Chicago:20250523T123000
DTSTAMP:20260423T183238
CREATED:20250513T170427Z
LAST-MODIFIED:20250523T172425Z
UID:10000078-1748001600-1748003400@eaglepointseniorliving.com
SUMMARY:Oshibori
DESCRIPTION:
URL:https://eaglepointseniorliving.com/event-calendar/oshibori-21/
CATEGORIES:Memory Care
END:VEVENT
BEGIN:VEVENT
DTSTART;TZID=America/Chicago:20250523T110000
DTEND;TZID=America/Chicago:20250523T114500
DTSTAMP:20260423T183238
CREATED:20250513T170427Z
LAST-MODIFIED:20250522T172512Z
UID:10000077-1747998000-1748000700@eaglepointseniorliving.com
SUMMARY:Grace's Creations
DESCRIPTION:Patriotic Tissue Paper Star
URL:https://eaglepointseniorliving.com/event-calendar/graces-crafting-corner-4/
CATEGORIES:Memory Care
END:VEVENT
BEGIN:VEVENT
DTSTART;TZID=America/Chicago:20250523T100000
DTEND;TZID=America/Chicago:20250523T110000
DTSTAMP:20260423T183238
CREATED:20250513T170427Z
LAST-MODIFIED:20250515T171034Z
UID:10000076-1747994400-1747998000@eaglepointseniorliving.com
SUMMARY:Daily Spirit Spark
DESCRIPTION:Various spiritual topics and activities with Chaplain Peter.
URL:https://eaglepointseniorliving.com/event-calendar/daily-spirit-spark-4/
CATEGORIES:Memory Care
END:VEVENT
BEGIN:VEVENT
DTSTART;TZID=America/Chicago:20250523T094500
DTEND;TZID=America/Chicago:20250523T100000
DTSTAMP:20260423T183238
CREATED:20250513T170427Z
LAST-MODIFIED:20250522T172512Z
UID:10000075-1747993500-1747994400@eaglepointseniorliving.com
SUMMARY:Morning Stretch
DESCRIPTION:
URL:https://eaglepointseniorliving.com/event-calendar/morning-stretch-4/
CATEGORIES:Memory Care
END:VEVENT
BEGIN:VEVENT
DTSTART;TZID=America/Chicago:20250523T080000
DTEND;TZID=America/Chicago:20250523T090000
DTSTAMP:20260423T183238
CREATED:20250513T170427Z
LAST-MODIFIED:20250522T172512Z
UID:10000074-1747987200-1747990800@eaglepointseniorliving.com
SUMMARY:Morning Melodies
DESCRIPTION:
URL:https://eaglepointseniorliving.com/event-calendar/morning-melodies-10/
CATEGORIES:Memory Care
END:VEVENT
BEGIN:VEVENT
DTSTART;TZID=America/Chicago:20250522T190000
DTEND;TZID=America/Chicago:20250522T200000
DTSTAMP:20260423T183238
CREATED:20250513T170427Z
LAST-MODIFIED:20250522T172512Z
UID:10000073-1747940400-1747944000@eaglepointseniorliving.com
SUMMARY:Snack Pass & Reminisce
DESCRIPTION:
URL:https://eaglepointseniorliving.com/event-calendar/snack-pass-reminisce-10/
CATEGORIES:Memory Care
END:VEVENT
BEGIN:VEVENT
DTSTART;TZID=America/Chicago:20250522T170000
DTEND;TZID=America/Chicago:20250522T173000
DTSTAMP:20260423T183238
CREATED:20250513T170427Z
LAST-MODIFIED:20250522T172512Z
UID:10000072-1747933200-1747935000@eaglepointseniorliving.com
SUMMARY:Oshibori
DESCRIPTION:
URL:https://eaglepointseniorliving.com/event-calendar/oshibori-20/
CATEGORIES:Memory Care
END:VEVENT
BEGIN:VEVENT
DTSTART;TZID=America/Chicago:20250522T120000
DTEND;TZID=America/Chicago:20250522T123000
DTSTAMP:20260423T183238
CREATED:20250513T170427Z
LAST-MODIFIED:20250522T172512Z
UID:10000071-1747915200-1747917000@eaglepointseniorliving.com
SUMMARY:Oshibori
DESCRIPTION:
URL:https://eaglepointseniorliving.com/event-calendar/oshibori-19/
CATEGORIES:Memory Care
END:VEVENT
BEGIN:VEVENT
DTSTART;TZID=America/Chicago:20250522T100000
DTEND;TZID=America/Chicago:20250522T110000
DTSTAMP:20260423T183238
CREATED:20250513T170427Z
LAST-MODIFIED:20250515T171034Z
UID:10000070-1747908000-1747911600@eaglepointseniorliving.com
SUMMARY:Daily Spirit Spark
DESCRIPTION:Various spiritual topics and activities with Chaplain Peter.
URL:https://eaglepointseniorliving.com/event-calendar/daily-spirit-spark-3/
CATEGORIES:Memory Care
END:VEVENT
BEGIN:VEVENT
DTSTART;TZID=America/Chicago:20250522T080000
DTEND;TZID=America/Chicago:20250522T090000
DTSTAMP:20260423T183238
CREATED:20250513T170427Z
LAST-MODIFIED:20250521T172532Z
UID:10000069-1747900800-1747904400@eaglepointseniorliving.com
SUMMARY:Morning Melodies
DESCRIPTION:
URL:https://eaglepointseniorliving.com/event-calendar/morning-melodies-9/
CATEGORIES:Memory Care
END:VEVENT
BEGIN:VEVENT
DTSTART;TZID=America/Chicago:20250521T190000
DTEND;TZID=America/Chicago:20250521T200000
DTSTAMP:20260423T183238
CREATED:20250513T170427Z
LAST-MODIFIED:20250521T172532Z
UID:10000068-1747854000-1747857600@eaglepointseniorliving.com
SUMMARY:Snack Pass & Reminisce
DESCRIPTION:
URL:https://eaglepointseniorliving.com/event-calendar/snack-pass-reminisce-9/
CATEGORIES:Memory Care
END:VEVENT
BEGIN:VEVENT
DTSTART;TZID=America/Chicago:20250521T180000
DTEND;TZID=America/Chicago:20250521T203000
DTSTAMP:20260423T183238
CREATED:20250513T170426Z
LAST-MODIFIED:20250521T172532Z
UID:10000067-1747850400-1747859400@eaglepointseniorliving.com
SUMMARY:Wednesday Evening Movie - The Sound of Music
DESCRIPTION:
URL:https://eaglepointseniorliving.com/event-calendar/wednesday-evening-movie/
CATEGORIES:Memory Care
END:VEVENT
BEGIN:VEVENT
DTSTART;TZID=America/Chicago:20250521T170000
DTEND;TZID=America/Chicago:20250521T173000
DTSTAMP:20260423T183238
CREATED:20250513T170426Z
LAST-MODIFIED:20250521T172532Z
UID:10000066-1747846800-1747848600@eaglepointseniorliving.com
SUMMARY:Oshibori
DESCRIPTION:
URL:https://eaglepointseniorliving.com/event-calendar/oshibori-18/
CATEGORIES:Memory Care
END:VEVENT
BEGIN:VEVENT
DTSTART;TZID=America/Chicago:20250521T150000
DTEND;TZID=America/Chicago:20250521T160000
DTSTAMP:20260423T183238
CREATED:20250513T170426Z
LAST-MODIFIED:20250521T172532Z
UID:10000065-1747839600-1747843200@eaglepointseniorliving.com
SUMMARY:Wheel of Fortune
DESCRIPTION:
URL:https://eaglepointseniorliving.com/event-calendar/wheel-of-fortune-2/
CATEGORIES:Memory Care
END:VEVENT
END:VCALENDAR