BEGIN:VCALENDAR
VERSION:2.0
PRODID:-//Eagle Point Senior Living - ECPv6.11.2.1//NONSGML v1.0//EN
CALSCALE:GREGORIAN
METHOD:PUBLISH
X-ORIGINAL-URL:https://eaglepointseniorliving.com
X-WR-CALDESC:Events for Eagle Point Senior Living
REFRESH-INTERVAL;VALUE=DURATION:PT1H
X-Robots-Tag:noindex
X-PUBLISHED-TTL:PT1H
BEGIN:VTIMEZONE
TZID:America/Chicago
BEGIN:DAYLIGHT
TZOFFSETFROM:-0600
TZOFFSETTO:-0500
TZNAME:CDT
DTSTART:20250309T080000
END:DAYLIGHT
BEGIN:STANDARD
TZOFFSETFROM:-0500
TZOFFSETTO:-0600
TZNAME:CST
DTSTART:20251102T070000
END:STANDARD
END:VTIMEZONE
BEGIN:VEVENT
DTSTART;TZID=America/Chicago:20250608T143000
DTEND;TZID=America/Chicago:20250608T153000
DTSTAMP:20260423T001754
CREATED:20250525T172426Z
LAST-MODIFIED:20250608T175510Z
UID:10000526-1749393000-1749396600@eaglepointseniorliving.com
SUMMARY:Outside Patio
DESCRIPTION:
URL:https://eaglepointseniorliving.com/event-calendar/outside-patio/
CATEGORIES:Memory Care
END:VEVENT
BEGIN:VEVENT
DTSTART;TZID=America/Chicago:20250608T140000
DTEND;TZID=America/Chicago:20250608T143000
DTSTAMP:20260423T001754
CREATED:20250513T170430Z
LAST-MODIFIED:20250608T175510Z
UID:10000188-1749391200-1749393000@eaglepointseniorliving.com
SUMMARY:Exercise
DESCRIPTION:
URL:https://eaglepointseniorliving.com/event-calendar/exercise-4/
CATEGORIES:Memory Care
END:VEVENT
BEGIN:VEVENT
DTSTART;TZID=America/Chicago:20250608T130000
DTEND;TZID=America/Chicago:20250608T140000
DTSTAMP:20260423T001754
CREATED:20250525T172426Z
LAST-MODIFIED:20250608T175510Z
UID:10000525-1749387600-1749391200@eaglepointseniorliving.com
SUMMARY:Travel to Cologne\, Germany
DESCRIPTION:
URL:https://eaglepointseniorliving.com/event-calendar/travel-to-cologne-germany/
CATEGORIES:Memory Care
END:VEVENT
BEGIN:VEVENT
DTSTART;TZID=America/Chicago:20250608T120000
DTEND;TZID=America/Chicago:20250608T123000
DTSTAMP:20260423T001754
CREATED:20250513T170430Z
LAST-MODIFIED:20250607T175428Z
UID:10000187-1749384000-1749385800@eaglepointseniorliving.com
SUMMARY:Oshibori
DESCRIPTION:
URL:https://eaglepointseniorliving.com/event-calendar/oshibori-53/
CATEGORIES:Memory Care
END:VEVENT
BEGIN:VEVENT
DTSTART;TZID=America/Chicago:20250608T100000
DTEND;TZID=America/Chicago:20250608T110000
DTSTAMP:20260423T001754
CREATED:20250513T170430Z
LAST-MODIFIED:20250607T175428Z
UID:10000186-1749376800-1749380400@eaglepointseniorliving.com
SUMMARY:Manicures
DESCRIPTION:
URL:https://eaglepointseniorliving.com/event-calendar/manicures-4/
CATEGORIES:Memory Care
END:VEVENT
BEGIN:VEVENT
DTSTART;TZID=America/Chicago:20250608T080000
DTEND;TZID=America/Chicago:20250608T090000
DTSTAMP:20260423T001754
CREATED:20250513T170430Z
LAST-MODIFIED:20250607T175428Z
UID:10000185-1749369600-1749373200@eaglepointseniorliving.com
SUMMARY:Morning Melodies
DESCRIPTION:
URL:https://eaglepointseniorliving.com/event-calendar/morning-melodies-26/
CATEGORIES:Memory Care
END:VEVENT
BEGIN:VEVENT
DTSTART;TZID=America/Chicago:20250607T190000
DTEND;TZID=America/Chicago:20250607T200000
DTSTAMP:20260423T001754
CREATED:20250513T170430Z
LAST-MODIFIED:20250607T175428Z
UID:10000184-1749322800-1749326400@eaglepointseniorliving.com
SUMMARY:Snack Pass & Reminisce
DESCRIPTION:
URL:https://eaglepointseniorliving.com/event-calendar/snack-pass-reminisce-26/
CATEGORIES:Memory Care
END:VEVENT
BEGIN:VEVENT
DTSTART;TZID=America/Chicago:20250607T180000
DTEND;TZID=America/Chicago:20250607T190000
DTSTAMP:20260423T001754
CREATED:20250513T170430Z
LAST-MODIFIED:20250607T175428Z
UID:10000183-1749319200-1749322800@eaglepointseniorliving.com
SUMMARY:Movie & A Snack
DESCRIPTION:
URL:https://eaglepointseniorliving.com/event-calendar/movie-a-snack-4/
CATEGORIES:Memory Care
END:VEVENT
BEGIN:VEVENT
DTSTART;TZID=America/Chicago:20250607T170000
DTEND;TZID=America/Chicago:20250607T173000
DTSTAMP:20260423T001754
CREATED:20250513T170430Z
LAST-MODIFIED:20250607T175428Z
UID:10000182-1749315600-1749317400@eaglepointseniorliving.com
SUMMARY:Oshibori
DESCRIPTION:
URL:https://eaglepointseniorliving.com/event-calendar/oshibori-52/
CATEGORIES:Memory Care
END:VEVENT
BEGIN:VEVENT
DTSTART;TZID=America/Chicago:20250607T140000
DTEND;TZID=America/Chicago:20250607T150000
DTSTAMP:20260423T001754
CREATED:20250513T170430Z
LAST-MODIFIED:20250607T175428Z
UID:10000181-1749304800-1749308400@eaglepointseniorliving.com
SUMMARY:Reminisce
DESCRIPTION:
URL:https://eaglepointseniorliving.com/event-calendar/reminisce-8/
CATEGORIES:Memory Care
END:VEVENT
BEGIN:VEVENT
DTSTART;TZID=America/Chicago:20250607T120000
DTEND;TZID=America/Chicago:20250607T123000
DTSTAMP:20260423T001754
CREATED:20250513T170430Z
LAST-MODIFIED:20250606T175540Z
UID:10000180-1749297600-1749299400@eaglepointseniorliving.com
SUMMARY:Oshibori
DESCRIPTION:
URL:https://eaglepointseniorliving.com/event-calendar/oshibori-51/
CATEGORIES:Memory Care
END:VEVENT
BEGIN:VEVENT
DTSTART;TZID=America/Chicago:20250607T090000
DTEND;TZID=America/Chicago:20250607T120000
DTSTAMP:20260423T001754
CREATED:20250513T170430Z
LAST-MODIFIED:20250606T175540Z
UID:10000179-1749286800-1749297600@eaglepointseniorliving.com
SUMMARY:Saturday Morning with Staff
DESCRIPTION:
URL:https://eaglepointseniorliving.com/event-calendar/morning-with-dawn/
CATEGORIES:Memory Care
END:VEVENT
BEGIN:VEVENT
DTSTART;TZID=America/Chicago:20250607T080000
DTEND;TZID=America/Chicago:20250607T090000
DTSTAMP:20260423T001754
CREATED:20250513T170430Z
LAST-MODIFIED:20250606T175540Z
UID:10000178-1749283200-1749286800@eaglepointseniorliving.com
SUMMARY:Morning Melodies
DESCRIPTION:
URL:https://eaglepointseniorliving.com/event-calendar/morning-melodies-25/
CATEGORIES:Memory Care
END:VEVENT
BEGIN:VEVENT
DTSTART;TZID=America/Chicago:20250606T190000
DTEND;TZID=America/Chicago:20250606T200000
DTSTAMP:20260423T001754
CREATED:20250513T170430Z
LAST-MODIFIED:20250606T175540Z
UID:10000177-1749236400-1749240000@eaglepointseniorliving.com
SUMMARY:Snack Pass & Reminisce
DESCRIPTION:
URL:https://eaglepointseniorliving.com/event-calendar/snack-pass-reminisce-25/
CATEGORIES:Memory Care
END:VEVENT
BEGIN:VEVENT
DTSTART;TZID=America/Chicago:20250606T183000
DTEND;TZID=America/Chicago:20250606T223000
DTSTAMP:20260423T001754
CREATED:20250513T170430Z
LAST-MODIFIED:20250606T175540Z
UID:10000176-1749234600-1749249000@eaglepointseniorliving.com
SUMMARY:Friday Night Movie
DESCRIPTION:
URL:https://eaglepointseniorliving.com/event-calendar/friday-night-movie-4/
CATEGORIES:Memory Care
END:VEVENT
BEGIN:VEVENT
DTSTART;TZID=America/Chicago:20250606T170000
DTEND;TZID=America/Chicago:20250606T173000
DTSTAMP:20260423T001754
CREATED:20250513T170430Z
LAST-MODIFIED:20250606T175540Z
UID:10000175-1749229200-1749231000@eaglepointseniorliving.com
SUMMARY:Oshibori
DESCRIPTION:
URL:https://eaglepointseniorliving.com/event-calendar/oshibori-50/
CATEGORIES:Memory Care
END:VEVENT
BEGIN:VEVENT
DTSTART;TZID=America/Chicago:20250606T120000
DTEND;TZID=America/Chicago:20250606T123000
DTSTAMP:20260423T001754
CREATED:20250513T170430Z
LAST-MODIFIED:20250605T175438Z
UID:10000174-1749211200-1749213000@eaglepointseniorliving.com
SUMMARY:Oshibori
DESCRIPTION:
URL:https://eaglepointseniorliving.com/event-calendar/oshibori-49/
CATEGORIES:Memory Care
END:VEVENT
BEGIN:VEVENT
DTSTART;TZID=America/Chicago:20250606T110000
DTEND;TZID=America/Chicago:20250606T114500
DTSTAMP:20260423T001754
CREATED:20250513T170430Z
LAST-MODIFIED:20250605T175438Z
UID:10000173-1749207600-1749210300@eaglepointseniorliving.com
SUMMARY:Cranium Crunches
DESCRIPTION:
URL:https://eaglepointseniorliving.com/event-calendar/graces-crafting-corner-8/
CATEGORIES:Memory Care
END:VEVENT
BEGIN:VEVENT
DTSTART;TZID=America/Chicago:20250606T094500
DTEND;TZID=America/Chicago:20250606T100000
DTSTAMP:20260423T001754
CREATED:20250513T170430Z
LAST-MODIFIED:20250528T172424Z
UID:10000172-1749203100-1749204000@eaglepointseniorliving.com
SUMMARY:Morning Stretch
DESCRIPTION:
URL:https://eaglepointseniorliving.com/event-calendar/morning-stretch-8/
CATEGORIES:Memory Care
END:VEVENT
BEGIN:VEVENT
DTSTART;TZID=America/Chicago:20250606T080000
DTEND;TZID=America/Chicago:20250606T090000
DTSTAMP:20260423T001754
CREATED:20250513T170430Z
LAST-MODIFIED:20250605T175438Z
UID:10000171-1749196800-1749200400@eaglepointseniorliving.com
SUMMARY:Morning Melodies
DESCRIPTION:
URL:https://eaglepointseniorliving.com/event-calendar/morning-melodies-24/
CATEGORIES:Memory Care
END:VEVENT
BEGIN:VEVENT
DTSTART;TZID=America/Chicago:20250605T190000
DTEND;TZID=America/Chicago:20250605T200000
DTSTAMP:20260423T001754
CREATED:20250513T170430Z
LAST-MODIFIED:20250605T175438Z
UID:10000170-1749150000-1749153600@eaglepointseniorliving.com
SUMMARY:Snack Pass & Reminisce
DESCRIPTION:
URL:https://eaglepointseniorliving.com/event-calendar/snack-pass-reminisce-24/
CATEGORIES:Memory Care
END:VEVENT
BEGIN:VEVENT
DTSTART;TZID=America/Chicago:20250605T180000
DTEND;TZID=America/Chicago:20250605T190000
DTSTAMP:20260423T001754
CREATED:20250525T172425Z
LAST-MODIFIED:20250605T175438Z
UID:10000524-1749146400-1749150000@eaglepointseniorliving.com
SUMMARY:Summer Concert Series
DESCRIPTION:
URL:https://eaglepointseniorliving.com/event-calendar/summer-concert-series/
CATEGORIES:Memory Care
END:VEVENT
BEGIN:VEVENT
DTSTART;TZID=America/Chicago:20250605T170000
DTEND;TZID=America/Chicago:20250605T173000
DTSTAMP:20260423T001754
CREATED:20250513T170430Z
LAST-MODIFIED:20250605T175438Z
UID:10000169-1749142800-1749144600@eaglepointseniorliving.com
SUMMARY:Oshibori
DESCRIPTION:
URL:https://eaglepointseniorliving.com/event-calendar/oshibori-48/
CATEGORIES:Memory Care
END:VEVENT
BEGIN:VEVENT
DTSTART;TZID=America/Chicago:20250605T120000
DTEND;TZID=America/Chicago:20250605T123000
DTSTAMP:20260423T001754
CREATED:20250513T170430Z
LAST-MODIFIED:20250604T175507Z
UID:10000168-1749124800-1749126600@eaglepointseniorliving.com
SUMMARY:Oshibori
DESCRIPTION:
URL:https://eaglepointseniorliving.com/event-calendar/oshibori-47/
CATEGORIES:Memory Care
END:VEVENT
BEGIN:VEVENT
DTSTART;TZID=America/Chicago:20250605T100000
DTEND;TZID=America/Chicago:20250605T110000
DTSTAMP:20260423T001754
CREATED:20250513T170430Z
LAST-MODIFIED:20250604T175507Z
UID:10000167-1749117600-1749121200@eaglepointseniorliving.com
SUMMARY:Daily Spirit Spark
DESCRIPTION:Various spiritual topics and activities with Chaplain Peter.
URL:https://eaglepointseniorliving.com/event-calendar/daily-spirit-spark-7/
CATEGORIES:Memory Care
END:VEVENT
BEGIN:VEVENT
DTSTART;TZID=America/Chicago:20250605T080000
DTEND;TZID=America/Chicago:20250605T090000
DTSTAMP:20260423T001754
CREATED:20250513T170430Z
LAST-MODIFIED:20250604T175507Z
UID:10000166-1749110400-1749114000@eaglepointseniorliving.com
SUMMARY:Morning Melodies
DESCRIPTION:
URL:https://eaglepointseniorliving.com/event-calendar/morning-melodies-23/
CATEGORIES:Memory Care
END:VEVENT
BEGIN:VEVENT
DTSTART;TZID=America/Chicago:20250604T190000
DTEND;TZID=America/Chicago:20250604T200000
DTSTAMP:20260423T001754
CREATED:20250513T170430Z
LAST-MODIFIED:20250604T175507Z
UID:10000165-1749063600-1749067200@eaglepointseniorliving.com
SUMMARY:Snack Pass & Reminisce
DESCRIPTION:
URL:https://eaglepointseniorliving.com/event-calendar/snack-pass-reminisce-23/
CATEGORIES:Memory Care
END:VEVENT
BEGIN:VEVENT
DTSTART;TZID=America/Chicago:20250604T180000
DTEND;TZID=America/Chicago:20250604T203000
DTSTAMP:20260423T001754
CREATED:20250513T170430Z
LAST-MODIFIED:20250604T175507Z
UID:10000164-1749060000-1749069000@eaglepointseniorliving.com
SUMMARY:Wednesday Evening Movie
DESCRIPTION:
URL:https://eaglepointseniorliving.com/event-calendar/wednesday-evening-movie-3/
CATEGORIES:Memory Care
END:VEVENT
BEGIN:VEVENT
DTSTART;TZID=America/Chicago:20250604T170000
DTEND;TZID=America/Chicago:20250604T173000
DTSTAMP:20260423T001754
CREATED:20250513T170430Z
LAST-MODIFIED:20250604T175507Z
UID:10000163-1749056400-1749058200@eaglepointseniorliving.com
SUMMARY:Oshibori
DESCRIPTION:
URL:https://eaglepointseniorliving.com/event-calendar/oshibori-46/
CATEGORIES:Memory Care
END:VEVENT
BEGIN:VEVENT
DTSTART;TZID=America/Chicago:20250604T150000
DTEND;TZID=America/Chicago:20250604T160000
DTSTAMP:20260423T001754
CREATED:20250513T170430Z
LAST-MODIFIED:20250528T172424Z
UID:10000161-1749049200-1749052800@eaglepointseniorliving.com
SUMMARY:Wheel of Fortune
DESCRIPTION:
URL:https://eaglepointseniorliving.com/event-calendar/wheel-of-fortune-3/
CATEGORIES:Memory Care
END:VEVENT
END:VCALENDAR