BEGIN:VCALENDAR
VERSION:2.0
PRODID:-//Eagle Point Senior Living - ECPv6.11.2.1//NONSGML v1.0//EN
CALSCALE:GREGORIAN
METHOD:PUBLISH
X-WR-CALNAME:Eagle Point Senior Living
X-ORIGINAL-URL:https://eaglepointseniorliving.com
X-WR-CALDESC:Events for Eagle Point Senior Living
REFRESH-INTERVAL;VALUE=DURATION:PT1H
X-Robots-Tag:noindex
X-PUBLISHED-TTL:PT1H
BEGIN:VTIMEZONE
TZID:America/Chicago
BEGIN:DAYLIGHT
TZOFFSETFROM:-0600
TZOFFSETTO:-0500
TZNAME:CDT
DTSTART:20250309T080000
END:DAYLIGHT
BEGIN:STANDARD
TZOFFSETFROM:-0500
TZOFFSETTO:-0600
TZNAME:CST
DTSTART:20251102T070000
END:STANDARD
END:VTIMEZONE
BEGIN:VEVENT
DTSTART;TZID=America/Chicago:20250618T180000
DTEND;TZID=America/Chicago:20250618T203000
DTSTAMP:20260422T144652
CREATED:20250520T172459Z
LAST-MODIFIED:20250618T014155Z
UID:10000465-1750269600-1750278600@eaglepointseniorliving.com
SUMMARY:Wednesday Evening Movie
DESCRIPTION:
URL:https://eaglepointseniorliving.com/event-calendar/wednesday-evening-movie-5/
CATEGORIES:Memory Care
END:VEVENT
BEGIN:VEVENT
DTSTART;TZID=America/Chicago:20250618T110000
DTEND;TZID=America/Chicago:20250618T113000
DTSTAMP:20260422T144652
CREATED:20250519T172440Z
LAST-MODIFIED:20250618T014155Z
UID:10000447-1750244400-1750246200@eaglepointseniorliving.com
SUMMARY:Resident Wednesday
DESCRIPTION:
URL:https://eaglepointseniorliving.com/event-calendar/resident-wednesday-6/
CATEGORIES:Memory Care
END:VEVENT
BEGIN:VEVENT
DTSTART;TZID=America/Chicago:20250618T080000
DTEND;TZID=America/Chicago:20250618T090000
DTSTAMP:20260422T144652
CREATED:20250519T172440Z
LAST-MODIFIED:20250618T014155Z
UID:10000445-1750233600-1750237200@eaglepointseniorliving.com
SUMMARY:Morning Melodies
DESCRIPTION:
URL:https://eaglepointseniorliving.com/event-calendar/morning-melodies-36/
CATEGORIES:Memory Care
END:VEVENT
BEGIN:VEVENT
DTSTART;TZID=America/Chicago:20250617T190000
DTEND;TZID=America/Chicago:20250617T200000
DTSTAMP:20260422T144652
CREATED:20250519T172440Z
LAST-MODIFIED:20250618T002451Z
UID:10000444-1750186800-1750190400@eaglepointseniorliving.com
SUMMARY:Snack Pass & Reminisce
DESCRIPTION:
URL:https://eaglepointseniorliving.com/event-calendar/snack-pass-reminisce-36/
CATEGORIES:Memory Care
END:VEVENT
BEGIN:VEVENT
DTSTART;TZID=America/Chicago:20250617T150000
DTEND;TZID=America/Chicago:20250617T153000
DTSTAMP:20260422T144652
CREATED:20250519T172439Z
LAST-MODIFIED:20250617T201157Z
UID:10000441-1750172400-1750174200@eaglepointseniorliving.com
SUMMARY:Reminisce
DESCRIPTION:
URL:https://eaglepointseniorliving.com/event-calendar/reminisce-11/
CATEGORIES:Memory Care
END:VEVENT
BEGIN:VEVENT
DTSTART;TZID=America/Chicago:20250617T133000
DTEND;TZID=America/Chicago:20250617T143000
DTSTAMP:20260422T144652
CREATED:20250519T172439Z
LAST-MODIFIED:20250615T181032Z
UID:10000440-1750167000-1750170600@eaglepointseniorliving.com
SUMMARY:Outside on the Patio
DESCRIPTION:
URL:https://eaglepointseniorliving.com/event-calendar/plants-on-the-patio-4/
CATEGORIES:Memory Care
END:VEVENT
BEGIN:VEVENT
DTSTART;TZID=America/Chicago:20250617T110000
DTEND;TZID=America/Chicago:20250617T120000
DTSTAMP:20260422T144652
CREATED:20250518T172538Z
LAST-MODIFIED:20250615T181032Z
UID:10000431-1750158000-1750161600@eaglepointseniorliving.com
SUMMARY:Jeopardy
DESCRIPTION:
URL:https://eaglepointseniorliving.com/event-calendar/jeopardy-5/
CATEGORIES:Memory Care
END:VEVENT
BEGIN:VEVENT
DTSTART;TZID=America/Chicago:20250617T080000
DTEND;TZID=America/Chicago:20250617T090000
DTSTAMP:20260422T144652
CREATED:20250518T172538Z
LAST-MODIFIED:20250615T181032Z
UID:10000430-1750147200-1750150800@eaglepointseniorliving.com
SUMMARY:Morning Melodies
DESCRIPTION:
URL:https://eaglepointseniorliving.com/event-calendar/morning-melodies-35/
CATEGORIES:Memory Care
END:VEVENT
BEGIN:VEVENT
DTSTART;TZID=America/Chicago:20250616T190000
DTEND;TZID=America/Chicago:20250616T200000
DTSTAMP:20260422T144652
CREATED:20250518T172538Z
LAST-MODIFIED:20250615T181032Z
UID:10000429-1750100400-1750104000@eaglepointseniorliving.com
SUMMARY:Snack Pass & Reminisce
DESCRIPTION:
URL:https://eaglepointseniorliving.com/event-calendar/snack-pass-reminisce-35/
CATEGORIES:Memory Care
END:VEVENT
BEGIN:VEVENT
DTSTART;TZID=America/Chicago:20250616T180000
DTEND;TZID=America/Chicago:20250616T190000
DTSTAMP:20260422T144652
CREATED:20250525T172428Z
LAST-MODIFIED:20250615T181032Z
UID:10000529-1750096800-1750100400@eaglepointseniorliving.com
SUMMARY:Hidden Picture- Picture it!
DESCRIPTION:
URL:https://eaglepointseniorliving.com/event-calendar/hidden-picture-picture-it/
CATEGORIES:Memory Care
END:VEVENT
BEGIN:VEVENT
DTSTART;TZID=America/Chicago:20250616T143000
DTEND;TZID=America/Chicago:20250616T150000
DTSTAMP:20260422T144652
CREATED:20250520T172459Z
LAST-MODIFIED:20250615T181032Z
UID:10000461-1750084200-1750086000@eaglepointseniorliving.com
SUMMARY:Remineses
DESCRIPTION:
URL:https://eaglepointseniorliving.com/event-calendar/remineses-3/
CATEGORIES:Memory Care
END:VEVENT
BEGIN:VEVENT
DTSTART;TZID=America/Chicago:20250616T133000
DTEND;TZID=America/Chicago:20250616T143000
DTSTAMP:20260422T144652
CREATED:20250520T172459Z
LAST-MODIFIED:20250615T181032Z
UID:10000460-1750080600-1750084200@eaglepointseniorliving.com
SUMMARY:Outside on The Patio
DESCRIPTION:
URL:https://eaglepointseniorliving.com/event-calendar/outside-on-the-patio-6/
CATEGORIES:Memory Care
END:VEVENT
BEGIN:VEVENT
DTSTART;TZID=America/Chicago:20250616T080000
DTEND;TZID=America/Chicago:20250616T090000
DTSTAMP:20260422T144652
CREATED:20250517T171152Z
LAST-MODIFIED:20250615T181032Z
UID:10000424-1750060800-1750064400@eaglepointseniorliving.com
SUMMARY:Morning Melodies
DESCRIPTION:
URL:https://eaglepointseniorliving.com/event-calendar/morning-melodies-34/
CATEGORIES:Memory Care
END:VEVENT
BEGIN:VEVENT
DTSTART;TZID=America/Chicago:20250615T190000
DTEND;TZID=America/Chicago:20250615T200000
DTSTAMP:20260422T144652
CREATED:20250517T171152Z
LAST-MODIFIED:20250615T181032Z
UID:10000423-1750014000-1750017600@eaglepointseniorliving.com
SUMMARY:Snack Pass & Reminisce
DESCRIPTION:
URL:https://eaglepointseniorliving.com/event-calendar/snack-pass-reminisce-34/
CATEGORIES:Memory Care
END:VEVENT
BEGIN:VEVENT
DTSTART;TZID=America/Chicago:20250615T140000
DTEND;TZID=America/Chicago:20250615T143000
DTSTAMP:20260422T144652
CREATED:20250517T171152Z
LAST-MODIFIED:20250615T181032Z
UID:10000421-1749996000-1749997800@eaglepointseniorliving.com
SUMMARY:Exercise
DESCRIPTION:
URL:https://eaglepointseniorliving.com/event-calendar/exercise-5/
CATEGORIES:Memory Care
END:VEVENT
BEGIN:VEVENT
DTSTART;TZID=America/Chicago:20250615T100000
DTEND;TZID=America/Chicago:20250615T110000
DTSTAMP:20260422T144652
CREATED:20250516T171152Z
LAST-MODIFIED:20250614T181146Z
UID:10000409-1749981600-1749985200@eaglepointseniorliving.com
SUMMARY:Manicures
DESCRIPTION:
URL:https://eaglepointseniorliving.com/event-calendar/manicures-5/
CATEGORIES:Memory Care
END:VEVENT
BEGIN:VEVENT
DTSTART;TZID=America/Chicago:20250615T080000
DTEND;TZID=America/Chicago:20250615T090000
DTSTAMP:20260422T144652
CREATED:20250516T171152Z
LAST-MODIFIED:20250614T181146Z
UID:10000408-1749974400-1749978000@eaglepointseniorliving.com
SUMMARY:Morning Melodies
DESCRIPTION:
URL:https://eaglepointseniorliving.com/event-calendar/morning-melodies-33/
CATEGORIES:Memory Care
END:VEVENT
BEGIN:VEVENT
DTSTART;TZID=America/Chicago:20250614T190000
DTEND;TZID=America/Chicago:20250614T200000
DTSTAMP:20260422T144652
CREATED:20250516T171152Z
LAST-MODIFIED:20250614T181146Z
UID:10000407-1749927600-1749931200@eaglepointseniorliving.com
SUMMARY:Snack Pass & Reminisce
DESCRIPTION:
URL:https://eaglepointseniorliving.com/event-calendar/snack-pass-reminisce-33/
CATEGORIES:Memory Care
END:VEVENT
BEGIN:VEVENT
DTSTART;TZID=America/Chicago:20250614T180000
DTEND;TZID=America/Chicago:20250614T190000
DTSTAMP:20260422T144652
CREATED:20250516T171152Z
LAST-MODIFIED:20250614T181146Z
UID:10000406-1749924000-1749927600@eaglepointseniorliving.com
SUMMARY:Movie & A Snack
DESCRIPTION:
URL:https://eaglepointseniorliving.com/event-calendar/movie-a-snack-5/
CATEGORIES:Memory Care
END:VEVENT
BEGIN:VEVENT
DTSTART;TZID=America/Chicago:20250614T140000
DTEND;TZID=America/Chicago:20250614T150000
DTSTAMP:20260422T144652
CREATED:20250516T171152Z
LAST-MODIFIED:20250614T181146Z
UID:10000404-1749909600-1749913200@eaglepointseniorliving.com
SUMMARY:Reminisce
DESCRIPTION:
URL:https://eaglepointseniorliving.com/event-calendar/reminisce-10/
CATEGORIES:Memory Care
END:VEVENT
BEGIN:VEVENT
DTSTART;TZID=America/Chicago:20250614T090000
DTEND;TZID=America/Chicago:20250614T120000
DTSTAMP:20260422T144652
CREATED:20250515T171039Z
LAST-MODIFIED:20250613T180937Z
UID:10000399-1749891600-1749902400@eaglepointseniorliving.com
SUMMARY:Saturday Morning With Dawn
DESCRIPTION:
URL:https://eaglepointseniorliving.com/event-calendar/saturday-morning-with-grace/
CATEGORIES:Memory Care
END:VEVENT
BEGIN:VEVENT
DTSTART;TZID=America/Chicago:20250614T080000
DTEND;TZID=America/Chicago:20250614T090000
DTSTAMP:20260422T144652
CREATED:20250515T171039Z
LAST-MODIFIED:20250613T180936Z
UID:10000398-1749888000-1749891600@eaglepointseniorliving.com
SUMMARY:Morning Melodies
DESCRIPTION:
URL:https://eaglepointseniorliving.com/event-calendar/morning-melodies-32/
CATEGORIES:Memory Care
END:VEVENT
BEGIN:VEVENT
DTSTART;TZID=America/Chicago:20250613T190000
DTEND;TZID=America/Chicago:20250613T200000
DTSTAMP:20260422T144652
CREATED:20250515T171038Z
LAST-MODIFIED:20250613T180936Z
UID:10000397-1749841200-1749844800@eaglepointseniorliving.com
SUMMARY:Snack Pass & Reminisce
DESCRIPTION:
URL:https://eaglepointseniorliving.com/event-calendar/snack-pass-reminisce-32/
CATEGORIES:Memory Care
END:VEVENT
BEGIN:VEVENT
DTSTART;TZID=America/Chicago:20250613T183000
DTEND;TZID=America/Chicago:20250613T223000
DTSTAMP:20260422T144652
CREATED:20250515T171038Z
LAST-MODIFIED:20250613T180936Z
UID:10000396-1749839400-1749853800@eaglepointseniorliving.com
SUMMARY:Friday Night Movie
DESCRIPTION:
URL:https://eaglepointseniorliving.com/event-calendar/friday-night-movie-5/
CATEGORIES:Memory Care
END:VEVENT
BEGIN:VEVENT
DTSTART;TZID=America/Chicago:20250613T120000
DTEND;TZID=America/Chicago:20250613T123000
DTSTAMP:20260422T144652
CREATED:20250514T171027Z
LAST-MODIFIED:20250612T181112Z
UID:10000381-1749816000-1749817800@eaglepointseniorliving.com
SUMMARY:Oshibori
DESCRIPTION:
URL:https://eaglepointseniorliving.com/event-calendar/oshibori-63/
CATEGORIES:Memory Care
END:VEVENT
BEGIN:VEVENT
DTSTART;TZID=America/Chicago:20250613T100000
DTEND;TZID=America/Chicago:20250613T110000
DTSTAMP:20260422T144652
CREATED:20250514T171027Z
LAST-MODIFIED:20250612T181112Z
UID:10000379-1749808800-1749812400@eaglepointseniorliving.com
SUMMARY:Daily Spirit Spark
DESCRIPTION:Various spiritual topics and activities with Chaplain Peter.
URL:https://eaglepointseniorliving.com/event-calendar/daily-spirit-spark-9/
CATEGORIES:Memory Care
END:VEVENT
BEGIN:VEVENT
DTSTART;TZID=America/Chicago:20250613T094500
DTEND;TZID=America/Chicago:20250613T100000
DTSTAMP:20260422T144652
CREATED:20250514T171027Z
LAST-MODIFIED:20250612T181111Z
UID:10000378-1749807900-1749808800@eaglepointseniorliving.com
SUMMARY:Remineses
DESCRIPTION:
URL:https://eaglepointseniorliving.com/event-calendar/morning-stretch-10/
CATEGORIES:Memory Care
END:VEVENT
BEGIN:VEVENT
DTSTART;TZID=America/Chicago:20250613T080000
DTEND;TZID=America/Chicago:20250613T090000
DTSTAMP:20260422T144652
CREATED:20250514T171027Z
LAST-MODIFIED:20250612T181111Z
UID:10000377-1749801600-1749805200@eaglepointseniorliving.com
SUMMARY:Morning Melodies
DESCRIPTION:
URL:https://eaglepointseniorliving.com/event-calendar/morning-melodies-31/
CATEGORIES:Memory Care
END:VEVENT
BEGIN:VEVENT
DTSTART;TZID=America/Chicago:20250612T190000
DTEND;TZID=America/Chicago:20250612T200000
DTSTAMP:20260422T144652
CREATED:20250514T171027Z
LAST-MODIFIED:20250612T181111Z
UID:10000376-1749754800-1749758400@eaglepointseniorliving.com
SUMMARY:Snack Pass & Reminisce
DESCRIPTION:
URL:https://eaglepointseniorliving.com/event-calendar/snack-pass-reminisce-31/
CATEGORIES:Memory Care
END:VEVENT
BEGIN:VEVENT
DTSTART;TZID=America/Chicago:20250612T180000
DTEND;TZID=America/Chicago:20250612T190000
DTSTAMP:20260422T144652
CREATED:20250525T172427Z
LAST-MODIFIED:20250612T181111Z
UID:10000528-1749751200-1749754800@eaglepointseniorliving.com
SUMMARY:Cooking with Chloe
DESCRIPTION:Applesauce oatmeal muffins
URL:https://eaglepointseniorliving.com/event-calendar/cooking-with-chloe/
CATEGORIES:Memory Care
END:VEVENT
END:VCALENDAR