BEGIN:VCALENDAR
VERSION:2.0
PRODID:-//Eagle Point Senior Living - ECPv6.11.2.1//NONSGML v1.0//EN
CALSCALE:GREGORIAN
METHOD:PUBLISH
X-ORIGINAL-URL:https://eaglepointseniorliving.com
X-WR-CALDESC:Events for Eagle Point Senior Living
REFRESH-INTERVAL;VALUE=DURATION:PT1H
X-Robots-Tag:noindex
X-PUBLISHED-TTL:PT1H
BEGIN:VTIMEZONE
TZID:America/Chicago
BEGIN:DAYLIGHT
TZOFFSETFROM:-0600
TZOFFSETTO:-0500
TZNAME:CDT
DTSTART:20250309T080000
END:DAYLIGHT
BEGIN:STANDARD
TZOFFSETFROM:-0500
TZOFFSETTO:-0600
TZNAME:CST
DTSTART:20251102T070000
END:STANDARD
END:VTIMEZONE
BEGIN:VEVENT
DTSTART;TZID=America/Chicago:20250625T080000
DTEND;TZID=America/Chicago:20250625T090000
DTSTAMP:20260422T083951
CREATED:20250526T172547Z
LAST-MODIFIED:20250625T020924Z
UID:10000551-1750838400-1750842000@eaglepointseniorliving.com
SUMMARY:Morning Melodies
DESCRIPTION:
URL:https://eaglepointseniorliving.com/event-calendar/morning-melodies-43/
CATEGORIES:Memory Care
END:VEVENT
BEGIN:VEVENT
DTSTART;TZID=America/Chicago:20250624T190000
DTEND;TZID=America/Chicago:20250624T200000
DTSTAMP:20260422T083951
CREATED:20250526T172547Z
LAST-MODIFIED:20250624T020943Z
UID:10000550-1750791600-1750795200@eaglepointseniorliving.com
SUMMARY:Snack Pass & Reminisce
DESCRIPTION:
URL:https://eaglepointseniorliving.com/event-calendar/snack-pass-reminisce-43/
CATEGORIES:Memory Care
END:VEVENT
BEGIN:VEVENT
DTSTART;TZID=America/Chicago:20250624T150000
DTEND;TZID=America/Chicago:20250624T153000
DTSTAMP:20260422T083951
CREATED:20250526T172547Z
LAST-MODIFIED:20250624T020943Z
UID:10000547-1750777200-1750779000@eaglepointseniorliving.com
SUMMARY:Reminisce
DESCRIPTION:
URL:https://eaglepointseniorliving.com/event-calendar/reminisce-13/
CATEGORIES:Memory Care
END:VEVENT
BEGIN:VEVENT
DTSTART;TZID=America/Chicago:20250624T140000
DTEND;TZID=America/Chicago:20250624T143000
DTSTAMP:20260422T083951
CREATED:20250526T172547Z
LAST-MODIFIED:20250624T020943Z
UID:10000546-1750773600-1750775400@eaglepointseniorliving.com
SUMMARY:Hagar the Comfort Dog
DESCRIPTION:Hagar makes a stop to visit with everyone to bring comfort and joy!
URL:https://eaglepointseniorliving.com/event-calendar/hagar-the-comfort-dog-2/
CATEGORIES:Memory Care
END:VEVENT
BEGIN:VEVENT
DTSTART;TZID=America/Chicago:20250624T133000
DTEND;TZID=America/Chicago:20250624T143000
DTSTAMP:20260422T083951
CREATED:20250526T172546Z
LAST-MODIFIED:20250624T020943Z
UID:10000545-1750771800-1750775400@eaglepointseniorliving.com
SUMMARY:Outside on the Patio
DESCRIPTION:
URL:https://eaglepointseniorliving.com/event-calendar/plants-on-the-patio-5/
CATEGORIES:Memory Care
END:VEVENT
BEGIN:VEVENT
DTSTART;TZID=America/Chicago:20250624T120000
DTEND;TZID=America/Chicago:20250624T123000
DTSTAMP:20260422T083951
CREATED:20250617T181058Z
LAST-MODIFIED:20250624T020943Z
UID:10000854-1750766400-1750768200@eaglepointseniorliving.com
SUMMARY:Oshibori
DESCRIPTION:
URL:https://eaglepointseniorliving.com/event-calendar/oshibori-121/
CATEGORIES:Memory Care
END:VEVENT
BEGIN:VEVENT
DTSTART;TZID=America/Chicago:20250624T110000
DTEND;TZID=America/Chicago:20250624T120000
DTSTAMP:20260422T083951
CREATED:20250525T172429Z
LAST-MODIFIED:20250624T020943Z
UID:10000539-1750762800-1750766400@eaglepointseniorliving.com
SUMMARY:Jeopardy
DESCRIPTION:
URL:https://eaglepointseniorliving.com/event-calendar/jeopardy-6/
CATEGORIES:Memory Care
END:VEVENT
BEGIN:VEVENT
DTSTART;TZID=America/Chicago:20250624T080000
DTEND;TZID=America/Chicago:20250624T090000
DTSTAMP:20260422T083951
CREATED:20250525T172429Z
LAST-MODIFIED:20250624T020943Z
UID:10000538-1750752000-1750755600@eaglepointseniorliving.com
SUMMARY:Morning Melodies
DESCRIPTION:
URL:https://eaglepointseniorliving.com/event-calendar/morning-melodies-42/
CATEGORIES:Memory Care
END:VEVENT
BEGIN:VEVENT
DTSTART;TZID=America/Chicago:20250623T190000
DTEND;TZID=America/Chicago:20250623T200000
DTSTAMP:20260422T083951
CREATED:20250525T172429Z
LAST-MODIFIED:20250623T020925Z
UID:10000537-1750705200-1750708800@eaglepointseniorliving.com
SUMMARY:Snack Pass & Reminisce
DESCRIPTION:
URL:https://eaglepointseniorliving.com/event-calendar/snack-pass-reminisce-42/
CATEGORIES:Memory Care
END:VEVENT
BEGIN:VEVENT
DTSTART;TZID=America/Chicago:20250623T180000
DTEND;TZID=America/Chicago:20250623T190000
DTSTAMP:20260422T083951
CREATED:20250525T172429Z
LAST-MODIFIED:20250623T020925Z
UID:10000536-1750701600-1750705200@eaglepointseniorliving.com
SUMMARY:Drive it\, dig it\, drink it
DESCRIPTION:Game
URL:https://eaglepointseniorliving.com/event-calendar/drive-it-dig-it-drink-it/
CATEGORIES:Memory Care
END:VEVENT
BEGIN:VEVENT
DTSTART;TZID=America/Chicago:20250623T143000
DTEND;TZID=America/Chicago:20250623T150000
DTSTAMP:20260422T083951
CREATED:20250525T172429Z
LAST-MODIFIED:20250623T020925Z
UID:10000534-1750689000-1750690800@eaglepointseniorliving.com
SUMMARY:Remineses
DESCRIPTION:
URL:https://eaglepointseniorliving.com/event-calendar/remineses-4/
CATEGORIES:Memory Care
END:VEVENT
BEGIN:VEVENT
DTSTART;TZID=America/Chicago:20250623T133000
DTEND;TZID=America/Chicago:20250623T143000
DTSTAMP:20260422T083952
CREATED:20250525T172429Z
LAST-MODIFIED:20250623T020925Z
UID:10000533-1750685400-1750689000@eaglepointseniorliving.com
SUMMARY:Outside on The Patio
DESCRIPTION:
URL:https://eaglepointseniorliving.com/event-calendar/outside-on-the-patio-10/
CATEGORIES:Memory Care
END:VEVENT
BEGIN:VEVENT
DTSTART;TZID=America/Chicago:20250623T120000
DTEND;TZID=America/Chicago:20250623T123000
DTSTAMP:20260422T083952
CREATED:20250617T181058Z
LAST-MODIFIED:20250623T020925Z
UID:10000853-1750680000-1750681800@eaglepointseniorliving.com
SUMMARY:Oshibori
DESCRIPTION:
URL:https://eaglepointseniorliving.com/event-calendar/oshibori-120/
CATEGORIES:Memory Care
END:VEVENT
BEGIN:VEVENT
DTSTART;TZID=America/Chicago:20250623T080000
DTEND;TZID=America/Chicago:20250623T090000
DTSTAMP:20260422T083952
CREATED:20250524T172451Z
LAST-MODIFIED:20250623T020925Z
UID:10000518-1750665600-1750669200@eaglepointseniorliving.com
SUMMARY:Morning Melodies
DESCRIPTION:
URL:https://eaglepointseniorliving.com/event-calendar/morning-melodies-41/
CATEGORIES:Memory Care
END:VEVENT
BEGIN:VEVENT
DTSTART;TZID=America/Chicago:20250622T190000
DTEND;TZID=America/Chicago:20250622T200000
DTSTAMP:20260422T083952
CREATED:20250524T172451Z
LAST-MODIFIED:20250622T021123Z
UID:10000517-1750618800-1750622400@eaglepointseniorliving.com
SUMMARY:Snack Pass & Reminisce
DESCRIPTION:
URL:https://eaglepointseniorliving.com/event-calendar/snack-pass-reminisce-41/
CATEGORIES:Memory Care
END:VEVENT
BEGIN:VEVENT
DTSTART;TZID=America/Chicago:20250622T143000
DTEND;TZID=America/Chicago:20250622T153000
DTSTAMP:20260422T083952
CREATED:20250525T172429Z
LAST-MODIFIED:20250622T021123Z
UID:10000532-1750602600-1750606200@eaglepointseniorliving.com
SUMMARY:Outside Patio
DESCRIPTION:
URL:https://eaglepointseniorliving.com/event-calendar/outside-patio-2/
CATEGORIES:Memory Care
END:VEVENT
BEGIN:VEVENT
DTSTART;TZID=America/Chicago:20250622T140000
DTEND;TZID=America/Chicago:20250622T143000
DTSTAMP:20260422T083952
CREATED:20250524T172451Z
LAST-MODIFIED:20250622T021123Z
UID:10000515-1750600800-1750602600@eaglepointseniorliving.com
SUMMARY:Exercise
DESCRIPTION:
URL:https://eaglepointseniorliving.com/event-calendar/exercise-6/
CATEGORIES:Memory Care
END:VEVENT
BEGIN:VEVENT
DTSTART;TZID=America/Chicago:20250622T133000
DTEND;TZID=America/Chicago:20250622T141500
DTSTAMP:20260422T083952
CREATED:20250525T172429Z
LAST-MODIFIED:20250622T021123Z
UID:10000531-1750599000-1750601700@eaglepointseniorliving.com
SUMMARY:Just peachy
DESCRIPTION:Join us as we explore the fascinating history of peaches and treat yourself to some delicious\, fresh ones!
URL:https://eaglepointseniorliving.com/event-calendar/just-peachy/
CATEGORIES:Memory Care
END:VEVENT
BEGIN:VEVENT
DTSTART;TZID=America/Chicago:20250622T131500
DTEND;TZID=America/Chicago:20250622T133000
DTSTAMP:20260422T083952
CREATED:20250525T172429Z
LAST-MODIFIED:20250622T021123Z
UID:10000530-1750598100-1750599000@eaglepointseniorliving.com
SUMMARY:Table Talk
DESCRIPTION:
URL:https://eaglepointseniorliving.com/event-calendar/table-talk/
CATEGORIES:Memory Care
END:VEVENT
BEGIN:VEVENT
DTSTART;TZID=America/Chicago:20250622T100000
DTEND;TZID=America/Chicago:20250622T110000
DTSTAMP:20260422T083952
CREATED:20250523T172429Z
LAST-MODIFIED:20250622T021123Z
UID:10000506-1750586400-1750590000@eaglepointseniorliving.com
SUMMARY:Manicures
DESCRIPTION:
URL:https://eaglepointseniorliving.com/event-calendar/manicures-6/
CATEGORIES:Memory Care
END:VEVENT
BEGIN:VEVENT
DTSTART;TZID=America/Chicago:20250622T080000
DTEND;TZID=America/Chicago:20250622T090000
DTSTAMP:20260422T083952
CREATED:20250523T172429Z
LAST-MODIFIED:20250622T021123Z
UID:10000505-1750579200-1750582800@eaglepointseniorliving.com
SUMMARY:Morning Melodies
DESCRIPTION:
URL:https://eaglepointseniorliving.com/event-calendar/morning-melodies-40/
CATEGORIES:Memory Care
END:VEVENT
BEGIN:VEVENT
DTSTART;TZID=America/Chicago:20250621T190000
DTEND;TZID=America/Chicago:20250621T200000
DTSTAMP:20260422T083952
CREATED:20250523T172429Z
LAST-MODIFIED:20250621T015454Z
UID:10000504-1750532400-1750536000@eaglepointseniorliving.com
SUMMARY:Snack Pass & Reminisce
DESCRIPTION:
URL:https://eaglepointseniorliving.com/event-calendar/snack-pass-reminisce-40/
CATEGORIES:Memory Care
END:VEVENT
BEGIN:VEVENT
DTSTART;TZID=America/Chicago:20250621T180000
DTEND;TZID=America/Chicago:20250621T190000
DTSTAMP:20260422T083952
CREATED:20250523T172429Z
LAST-MODIFIED:20250621T015454Z
UID:10000503-1750528800-1750532400@eaglepointseniorliving.com
SUMMARY:Movie & A Snack
DESCRIPTION:
URL:https://eaglepointseniorliving.com/event-calendar/movie-a-snack-6/
CATEGORIES:Memory Care
END:VEVENT
BEGIN:VEVENT
DTSTART;TZID=America/Chicago:20250621T140000
DTEND;TZID=America/Chicago:20250621T150000
DTSTAMP:20260422T083952
CREATED:20250523T172429Z
LAST-MODIFIED:20250621T015454Z
UID:10000501-1750514400-1750518000@eaglepointseniorliving.com
SUMMARY:Reminisce
DESCRIPTION:
URL:https://eaglepointseniorliving.com/event-calendar/reminisce-12/
CATEGORIES:Memory Care
END:VEVENT
BEGIN:VEVENT
DTSTART;TZID=America/Chicago:20250621T080000
DTEND;TZID=America/Chicago:20250621T090000
DTSTAMP:20260422T083952
CREATED:20250522T172516Z
LAST-MODIFIED:20250621T015454Z
UID:10000494-1750492800-1750496400@eaglepointseniorliving.com
SUMMARY:Morning Melodies
DESCRIPTION:
URL:https://eaglepointseniorliving.com/event-calendar/morning-melodies-39/
CATEGORIES:Memory Care
END:VEVENT
BEGIN:VEVENT
DTSTART;TZID=America/Chicago:20250620T190000
DTEND;TZID=America/Chicago:20250620T200000
DTSTAMP:20260422T083952
CREATED:20250522T172516Z
LAST-MODIFIED:20250620T015425Z
UID:10000493-1750446000-1750449600@eaglepointseniorliving.com
SUMMARY:Snack Pass & Reminisce
DESCRIPTION:
URL:https://eaglepointseniorliving.com/event-calendar/snack-pass-reminisce-39/
CATEGORIES:Memory Care
END:VEVENT
BEGIN:VEVENT
DTSTART;TZID=America/Chicago:20250620T183000
DTEND;TZID=America/Chicago:20250620T223000
DTSTAMP:20260422T083952
CREATED:20250522T172516Z
LAST-MODIFIED:20250621T015454Z
UID:10000492-1750444200-1750458600@eaglepointseniorliving.com
SUMMARY:Friday Night Movie
DESCRIPTION:
URL:https://eaglepointseniorliving.com/event-calendar/friday-night-movie-6/
CATEGORIES:Memory Care
END:VEVENT
BEGIN:VEVENT
DTSTART;TZID=America/Chicago:20250620T120000
DTEND;TZID=America/Chicago:20250620T123000
DTSTAMP:20260422T083952
CREATED:20250617T181058Z
LAST-MODIFIED:20250620T015425Z
UID:10000852-1750420800-1750422600@eaglepointseniorliving.com
SUMMARY:Oshibori
DESCRIPTION:
URL:https://eaglepointseniorliving.com/event-calendar/oshibori-119/
CATEGORIES:Memory Care
END:VEVENT
BEGIN:VEVENT
DTSTART;TZID=America/Chicago:20250620T100000
DTEND;TZID=America/Chicago:20250620T110000
DTSTAMP:20260422T083952
CREATED:20250521T172536Z
LAST-MODIFIED:20250620T015425Z
UID:10000480-1750413600-1750417200@eaglepointseniorliving.com
SUMMARY:Daily Spirit Spark
DESCRIPTION:Various spiritual topics and activities with Chaplain Peter.
URL:https://eaglepointseniorliving.com/event-calendar/daily-spirit-spark-11/
CATEGORIES:Memory Care
END:VEVENT
BEGIN:VEVENT
DTSTART;TZID=America/Chicago:20250620T094500
DTEND;TZID=America/Chicago:20250620T100000
DTSTAMP:20260422T083952
CREATED:20250521T172536Z
LAST-MODIFIED:20250620T015425Z
UID:10000479-1750412700-1750413600@eaglepointseniorliving.com
SUMMARY:Ball Exercise
DESCRIPTION:
URL:https://eaglepointseniorliving.com/event-calendar/morning-stretch-12/
CATEGORIES:Memory Care
END:VEVENT
END:VCALENDAR