BEGIN:VCALENDAR
VERSION:2.0
PRODID:-//Eagle Point Senior Living - ECPv6.11.2.1//NONSGML v1.0//EN
CALSCALE:GREGORIAN
METHOD:PUBLISH
X-WR-CALNAME:Eagle Point Senior Living
X-ORIGINAL-URL:https://eaglepointseniorliving.com
X-WR-CALDESC:Events for Eagle Point Senior Living
REFRESH-INTERVAL;VALUE=DURATION:PT1H
X-Robots-Tag:noindex
X-PUBLISHED-TTL:PT1H
BEGIN:VTIMEZONE
TZID:America/Chicago
BEGIN:DAYLIGHT
TZOFFSETFROM:-0600
TZOFFSETTO:-0500
TZNAME:CDT
DTSTART:20250309T080000
END:DAYLIGHT
BEGIN:STANDARD
TZOFFSETFROM:-0500
TZOFFSETTO:-0600
TZNAME:CST
DTSTART:20251102T070000
END:STANDARD
END:VTIMEZONE
BEGIN:VEVENT
DTSTART;TZID=America/Chicago:20250702T190000
DTEND;TZID=America/Chicago:20250702T200000
DTSTAMP:20260419T222645
CREATED:20250603T174046Z
LAST-MODIFIED:20250702T022546Z
UID:10000658-1751482800-1751486400@eaglepointseniorliving.com
SUMMARY:Snack Pass & Reminisce
DESCRIPTION:
URL:https://eaglepointseniorliving.com/event-calendar/snack-pass-reminisce-51/
CATEGORIES:Memory Care
END:VEVENT
BEGIN:VEVENT
DTSTART;TZID=America/Chicago:20250702T180000
DTEND;TZID=America/Chicago:20250702T203000
DTSTAMP:20260419T222645
CREATED:20250603T174046Z
LAST-MODIFIED:20250702T022546Z
UID:10000657-1751479200-1751488200@eaglepointseniorliving.com
SUMMARY:Wednesday Evening Movie
DESCRIPTION:
URL:https://eaglepointseniorliving.com/event-calendar/wednesday-evening-movie-7/
CATEGORIES:Memory Care
END:VEVENT
BEGIN:VEVENT
DTSTART;TZID=America/Chicago:20250702T140000
DTEND;TZID=America/Chicago:20250702T150000
DTSTAMP:20260419T222645
CREATED:20250603T174046Z
LAST-MODIFIED:20250702T022546Z
UID:10000654-1751464800-1751468400@eaglepointseniorliving.com
SUMMARY:Outside on The Patio
DESCRIPTION:
URL:https://eaglepointseniorliving.com/event-calendar/outside-on-the-patio-14/
CATEGORIES:Memory Care
END:VEVENT
BEGIN:VEVENT
DTSTART;TZID=America/Chicago:20250702T120000
DTEND;TZID=America/Chicago:20250702T123000
DTSTAMP:20260419T222645
CREATED:20250617T181100Z
LAST-MODIFIED:20250702T022546Z
UID:10000860-1751457600-1751459400@eaglepointseniorliving.com
SUMMARY:Oshibori
DESCRIPTION:
URL:https://eaglepointseniorliving.com/event-calendar/oshibori-127/
CATEGORIES:Memory Care
END:VEVENT
BEGIN:VEVENT
DTSTART;TZID=America/Chicago:20250702T110000
DTEND;TZID=America/Chicago:20250702T113000
DTSTAMP:20260419T222645
CREATED:20250602T174013Z
LAST-MODIFIED:20250702T022546Z
UID:10000646-1751454000-1751455800@eaglepointseniorliving.com
SUMMARY:Resident Wednesday
DESCRIPTION:
URL:https://eaglepointseniorliving.com/event-calendar/resident-wednesday-8/
CATEGORIES:Memory Care
END:VEVENT
BEGIN:VEVENT
DTSTART;TZID=America/Chicago:20250702T100000
DTEND;TZID=America/Chicago:20250702T103000
DTSTAMP:20260419T222645
CREATED:20250627T020923Z
LAST-MODIFIED:20250702T022546Z
UID:10001040-1751450400-1751452200@eaglepointseniorliving.com
SUMMARY:Weekly Worship
DESCRIPTION:Christian worship service with communion led by Chaplain Peter.
URL:https://eaglepointseniorliving.com/event-calendar/weekly-worship/
CATEGORIES:Memory Care
END:VEVENT
BEGIN:VEVENT
DTSTART;TZID=America/Chicago:20250702T090000
DTEND;TZID=America/Chicago:20250702T093000
DTSTAMP:20260419T222645
CREATED:20250624T020944Z
LAST-MODIFIED:20250702T022546Z
UID:10000984-1751446800-1751448600@eaglepointseniorliving.com
SUMMARY:Morning Exercise
DESCRIPTION:
URL:https://eaglepointseniorliving.com/event-calendar/morning-exercise-3/
CATEGORIES:Memory Care
END:VEVENT
BEGIN:VEVENT
DTSTART;TZID=America/Chicago:20250702T080000
DTEND;TZID=America/Chicago:20250702T090000
DTSTAMP:20260419T222645
CREATED:20250602T174013Z
LAST-MODIFIED:20250702T022546Z
UID:10000644-1751443200-1751446800@eaglepointseniorliving.com
SUMMARY:Morning Melodies
DESCRIPTION:
URL:https://eaglepointseniorliving.com/event-calendar/morning-melodies-50/
CATEGORIES:Memory Care
END:VEVENT
BEGIN:VEVENT
DTSTART;TZID=America/Chicago:20250701T190000
DTEND;TZID=America/Chicago:20250701T200000
DTSTAMP:20260419T222645
CREATED:20250602T174013Z
LAST-MODIFIED:20250701T020937Z
UID:10000643-1751396400-1751400000@eaglepointseniorliving.com
SUMMARY:Snack Pass & Reminisce
DESCRIPTION:
URL:https://eaglepointseniorliving.com/event-calendar/snack-pass-reminisce-50/
CATEGORIES:Memory Care
END:VEVENT
BEGIN:VEVENT
DTSTART;TZID=America/Chicago:20250701T150000
DTEND;TZID=America/Chicago:20250701T153000
DTSTAMP:20260419T222645
CREATED:20250602T174013Z
LAST-MODIFIED:20250701T020937Z
UID:10000640-1751382000-1751383800@eaglepointseniorliving.com
SUMMARY:Reminisce
DESCRIPTION:
URL:https://eaglepointseniorliving.com/event-calendar/reminisce-15/
CATEGORIES:Memory Care
END:VEVENT
BEGIN:VEVENT
DTSTART;TZID=America/Chicago:20250701T133000
DTEND;TZID=America/Chicago:20250701T143000
DTSTAMP:20260419T222645
CREATED:20250602T174013Z
LAST-MODIFIED:20250701T020937Z
UID:10000639-1751376600-1751380200@eaglepointseniorliving.com
SUMMARY:Outside on the Patio
DESCRIPTION:
URL:https://eaglepointseniorliving.com/event-calendar/outside-on-the-patio-13/
CATEGORIES:Memory Care
END:VEVENT
BEGIN:VEVENT
DTSTART;TZID=America/Chicago:20250701T120000
DTEND;TZID=America/Chicago:20250701T123000
DTSTAMP:20260419T222645
CREATED:20250617T181100Z
LAST-MODIFIED:20250701T020937Z
UID:10000859-1751371200-1751373000@eaglepointseniorliving.com
SUMMARY:Oshibori
DESCRIPTION:
URL:https://eaglepointseniorliving.com/event-calendar/oshibori-126/
CATEGORIES:Memory Care
END:VEVENT
BEGIN:VEVENT
DTSTART;TZID=America/Chicago:20250701T110000
DTEND;TZID=America/Chicago:20250701T114500
DTSTAMP:20260419T222645
CREATED:20250627T020922Z
LAST-MODIFIED:20250701T020937Z
UID:10001039-1751367600-1751370300@eaglepointseniorliving.com
SUMMARY:Today's Special- Happy Birthday Canada
DESCRIPTION:
URL:https://eaglepointseniorliving.com/event-calendar/todays-special-happy-birthday-canada/
CATEGORIES:Memory Care
END:VEVENT
BEGIN:VEVENT
DTSTART;TZID=America/Chicago:20250701T100000
DTEND;TZID=America/Chicago:20250701T110000
DTSTAMP:20260419T222645
CREATED:20250627T020922Z
LAST-MODIFIED:20250701T020937Z
UID:10001038-1751364000-1751367600@eaglepointseniorliving.com
SUMMARY:Daily Spirit Spark
DESCRIPTION:Various spiritual topics and activities with Chaplain Peter.
URL:https://eaglepointseniorliving.com/event-calendar/daily-spirit-spark-23/
CATEGORIES:Memory Care
END:VEVENT
BEGIN:VEVENT
DTSTART;TZID=America/Chicago:20250701T093000
DTEND;TZID=America/Chicago:20250701T100000
DTSTAMP:20260419T222645
CREATED:20250627T020922Z
LAST-MODIFIED:20250701T020937Z
UID:10001037-1751362200-1751364000@eaglepointseniorliving.com
SUMMARY:National Day Recognition-US Postage Stamp
DESCRIPTION:Postal Worker Day\nAC Postal Trivia/What am I
URL:https://eaglepointseniorliving.com/event-calendar/national-day-recognition-us-postage-stamp/
CATEGORIES:Memory Care
END:VEVENT
BEGIN:VEVENT
DTSTART;TZID=America/Chicago:20250701T090000
DTEND;TZID=America/Chicago:20250701T093000
DTSTAMP:20260419T222645
CREATED:20250624T020944Z
LAST-MODIFIED:20250701T020937Z
UID:10000983-1751360400-1751362200@eaglepointseniorliving.com
SUMMARY:Morning Exercise
DESCRIPTION:
URL:https://eaglepointseniorliving.com/event-calendar/morning-exercise-2/
CATEGORIES:Memory Care
END:VEVENT
BEGIN:VEVENT
DTSTART;TZID=America/Chicago:20250701T080000
DTEND;TZID=America/Chicago:20250701T090000
DTSTAMP:20260419T222645
CREATED:20250601T173937Z
LAST-MODIFIED:20250701T020937Z
UID:10000633-1751356800-1751360400@eaglepointseniorliving.com
SUMMARY:Morning Melodies
DESCRIPTION:
URL:https://eaglepointseniorliving.com/event-calendar/morning-melodies-49/
CATEGORIES:Memory Care
END:VEVENT
BEGIN:VEVENT
DTSTART;TZID=America/Chicago:20250630T190000
DTEND;TZID=America/Chicago:20250630T200000
DTSTAMP:20260419T222645
CREATED:20250601T173937Z
LAST-MODIFIED:20250630T020952Z
UID:10000632-1751310000-1751313600@eaglepointseniorliving.com
SUMMARY:Snack Pass & Reminisce
DESCRIPTION:
URL:https://eaglepointseniorliving.com/event-calendar/snack-pass-reminisce-49/
CATEGORIES:Memory Care
END:VEVENT
BEGIN:VEVENT
DTSTART;TZID=America/Chicago:20250630T180000
DTEND;TZID=America/Chicago:20250630T190000
DTSTAMP:20260419T222645
CREATED:20250601T173937Z
LAST-MODIFIED:20250630T020952Z
UID:10000631-1751306400-1751310000@eaglepointseniorliving.com
SUMMARY:Nature's Masked Bandits- Racoons
DESCRIPTION:
URL:https://eaglepointseniorliving.com/event-calendar/natures-masked-bandits-racoons/
CATEGORIES:Memory Care
END:VEVENT
BEGIN:VEVENT
DTSTART;TZID=America/Chicago:20250630T143000
DTEND;TZID=America/Chicago:20250630T150000
DTSTAMP:20260419T222645
CREATED:20250601T173937Z
LAST-MODIFIED:20250630T020952Z
UID:10000629-1751293800-1751295600@eaglepointseniorliving.com
SUMMARY:Remineses
DESCRIPTION:
URL:https://eaglepointseniorliving.com/event-calendar/remineses-5/
CATEGORIES:Memory Care
END:VEVENT
BEGIN:VEVENT
DTSTART;TZID=America/Chicago:20250630T133000
DTEND;TZID=America/Chicago:20250630T143000
DTSTAMP:20260419T222645
CREATED:20250601T173937Z
LAST-MODIFIED:20250630T020952Z
UID:10000628-1751290200-1751293800@eaglepointseniorliving.com
SUMMARY:Outside on The Patio
DESCRIPTION:
URL:https://eaglepointseniorliving.com/event-calendar/outside-on-the-patio-12/
CATEGORIES:Memory Care
END:VEVENT
BEGIN:VEVENT
DTSTART;TZID=America/Chicago:20250630T120000
DTEND;TZID=America/Chicago:20250630T123000
DTSTAMP:20260419T222645
CREATED:20250617T181100Z
LAST-MODIFIED:20250630T020952Z
UID:10000858-1751284800-1751286600@eaglepointseniorliving.com
SUMMARY:Oshibori
DESCRIPTION:
URL:https://eaglepointseniorliving.com/event-calendar/oshibori-125/
CATEGORIES:Memory Care
END:VEVENT
BEGIN:VEVENT
DTSTART;TZID=America/Chicago:20250630T110000
DTEND;TZID=America/Chicago:20250630T114500
DTSTAMP:20260419T222645
CREATED:20250627T020922Z
LAST-MODIFIED:20250630T020952Z
UID:10001036-1751281200-1751283900@eaglepointseniorliving.com
SUMMARY:Today's Special-Gone Fishing Day
DESCRIPTION:
URL:https://eaglepointseniorliving.com/event-calendar/todays-special-gone-fishing-day/
CATEGORIES:Memory Care
END:VEVENT
BEGIN:VEVENT
DTSTART;TZID=America/Chicago:20250630T100000
DTEND;TZID=America/Chicago:20250630T110000
DTSTAMP:20260419T222645
CREATED:20250627T020922Z
LAST-MODIFIED:20250630T020952Z
UID:10001035-1751277600-1751281200@eaglepointseniorliving.com
SUMMARY:Daily Spirit Spark
DESCRIPTION:Various spiritual topics and activities with Chaplain Peter.
URL:https://eaglepointseniorliving.com/event-calendar/daily-spirit-spark-22/
CATEGORIES:Memory Care
END:VEVENT
BEGIN:VEVENT
DTSTART;TZID=America/Chicago:20250630T093000
DTEND;TZID=America/Chicago:20250630T100000
DTSTAMP:20260419T222645
CREATED:20250627T020922Z
LAST-MODIFIED:20250630T020952Z
UID:10001034-1751275800-1751277600@eaglepointseniorliving.com
SUMMARY:Today in History-Food and Drug Administration
DESCRIPTION:
URL:https://eaglepointseniorliving.com/event-calendar/today-in-history-food-and-drug-administration/
CATEGORIES:Memory Care
END:VEVENT
BEGIN:VEVENT
DTSTART;TZID=America/Chicago:20250630T090000
DTEND;TZID=America/Chicago:20250630T093000
DTSTAMP:20260419T222645
CREATED:20250624T020943Z
LAST-MODIFIED:20250630T020952Z
UID:10000982-1751274000-1751275800@eaglepointseniorliving.com
SUMMARY:Morning Exercise
DESCRIPTION:
URL:https://eaglepointseniorliving.com/event-calendar/morning-exercise/
CATEGORIES:Memory Care
END:VEVENT
BEGIN:VEVENT
DTSTART;TZID=America/Chicago:20250630T080000
DTEND;TZID=America/Chicago:20250630T090000
DTSTAMP:20260419T222645
CREATED:20250531T174021Z
LAST-MODIFIED:20250630T020952Z
UID:10000623-1751270400-1751274000@eaglepointseniorliving.com
SUMMARY:Morning Melodies
DESCRIPTION:
URL:https://eaglepointseniorliving.com/event-calendar/morning-melodies-48/
CATEGORIES:Memory Care
END:VEVENT
BEGIN:VEVENT
DTSTART;TZID=America/Chicago:20250629T190000
DTEND;TZID=America/Chicago:20250629T200000
DTSTAMP:20260419T222645
CREATED:20250531T174021Z
LAST-MODIFIED:20250629T021008Z
UID:10000622-1751223600-1751227200@eaglepointseniorliving.com
SUMMARY:Snack Pass & Reminisce
DESCRIPTION:
URL:https://eaglepointseniorliving.com/event-calendar/snack-pass-reminisce-48/
CATEGORIES:Memory Care
END:VEVENT
BEGIN:VEVENT
DTSTART;TZID=America/Chicago:20250629T150000
DTEND;TZID=America/Chicago:20250629T160000
DTSTAMP:20260419T222645
CREATED:20250531T174021Z
LAST-MODIFIED:20250629T021008Z
UID:10000620-1751209200-1751212800@eaglepointseniorliving.com
SUMMARY:Who am I?
DESCRIPTION:
URL:https://eaglepointseniorliving.com/event-calendar/who-am-i/
CATEGORIES:Memory Care
END:VEVENT
BEGIN:VEVENT
DTSTART;TZID=America/Chicago:20250629T140000
DTEND;TZID=America/Chicago:20250629T150000
DTSTAMP:20260419T222645
CREATED:20250531T174021Z
LAST-MODIFIED:20250629T021008Z
UID:10000619-1751205600-1751209200@eaglepointseniorliving.com
SUMMARY:Outside Patio
DESCRIPTION:
URL:https://eaglepointseniorliving.com/event-calendar/outside-patio-3/
CATEGORIES:Memory Care
END:VEVENT
END:VCALENDAR