BEGIN:VCALENDAR
VERSION:2.0
PRODID:-//Eagle Point Senior Living - ECPv6.11.2.1//NONSGML v1.0//EN
CALSCALE:GREGORIAN
METHOD:PUBLISH
X-ORIGINAL-URL:https://eaglepointseniorliving.com
X-WR-CALDESC:Events for Eagle Point Senior Living
REFRESH-INTERVAL;VALUE=DURATION:PT1H
X-Robots-Tag:noindex
X-PUBLISHED-TTL:PT1H
BEGIN:VTIMEZONE
TZID:America/Chicago
BEGIN:DAYLIGHT
TZOFFSETFROM:-0600
TZOFFSETTO:-0500
TZNAME:CDT
DTSTART:20250309T080000
END:DAYLIGHT
BEGIN:STANDARD
TZOFFSETFROM:-0500
TZOFFSETTO:-0600
TZNAME:CST
DTSTART:20251102T070000
END:STANDARD
END:VTIMEZONE
BEGIN:VEVENT
DTSTART;TZID=America/Chicago:20250706T130000
DTEND;TZID=America/Chicago:20250706T133000
DTSTAMP:20260419T193544
CREATED:20250623T020927Z
LAST-MODIFIED:20250706T025549Z
UID:10000959-1751806800-1751808600@eaglepointseniorliving.com
SUMMARY:Finish the song lyric
DESCRIPTION:
URL:https://eaglepointseniorliving.com/event-calendar/finish-the-song-lyric/
CATEGORIES:Memory Care
END:VEVENT
BEGIN:VEVENT
DTSTART;TZID=America/Chicago:20250706T100000
DTEND;TZID=America/Chicago:20250706T110000
DTSTAMP:20260419T193544
CREATED:20250606T175546Z
LAST-MODIFIED:20250706T025549Z
UID:10000701-1751796000-1751799600@eaglepointseniorliving.com
SUMMARY:Manicures
DESCRIPTION:
URL:https://eaglepointseniorliving.com/event-calendar/manicures-8/
CATEGORIES:Memory Care
END:VEVENT
BEGIN:VEVENT
DTSTART;TZID=America/Chicago:20250706T080000
DTEND;TZID=America/Chicago:20250706T090000
DTSTAMP:20260419T193544
CREATED:20250606T175546Z
LAST-MODIFIED:20250706T025549Z
UID:10000700-1751788800-1751792400@eaglepointseniorliving.com
SUMMARY:Morning Melodies
DESCRIPTION:
URL:https://eaglepointseniorliving.com/event-calendar/morning-melodies-54/
CATEGORIES:Memory Care
END:VEVENT
BEGIN:VEVENT
DTSTART;TZID=America/Chicago:20250705T190000
DTEND;TZID=America/Chicago:20250705T200000
DTSTAMP:20260419T193544
CREATED:20250606T175546Z
LAST-MODIFIED:20250705T025453Z
UID:10000699-1751742000-1751745600@eaglepointseniorliving.com
SUMMARY:Snack Pass & Reminisce
DESCRIPTION:
URL:https://eaglepointseniorliving.com/event-calendar/snack-pass-reminisce-54/
CATEGORIES:Memory Care
END:VEVENT
BEGIN:VEVENT
DTSTART;TZID=America/Chicago:20250705T180000
DTEND;TZID=America/Chicago:20250705T190000
DTSTAMP:20260419T193544
CREATED:20250606T175546Z
LAST-MODIFIED:20250705T025453Z
UID:10000698-1751738400-1751742000@eaglepointseniorliving.com
SUMMARY:Movie & A Snack
DESCRIPTION:
URL:https://eaglepointseniorliving.com/event-calendar/movie-a-snack-8/
CATEGORIES:Memory Care
END:VEVENT
BEGIN:VEVENT
DTSTART;TZID=America/Chicago:20250705T140000
DTEND;TZID=America/Chicago:20250705T150000
DTSTAMP:20260419T193544
CREATED:20250606T175546Z
LAST-MODIFIED:20250705T025453Z
UID:10000696-1751724000-1751727600@eaglepointseniorliving.com
SUMMARY:Reminisce
DESCRIPTION:
URL:https://eaglepointseniorliving.com/event-calendar/reminisce-16/
CATEGORIES:Memory Care
END:VEVENT
BEGIN:VEVENT
DTSTART;TZID=America/Chicago:20250705T080000
DTEND;TZID=America/Chicago:20250705T090000
DTSTAMP:20260419T193544
CREATED:20250605T175443Z
LAST-MODIFIED:20250705T025453Z
UID:10000688-1751702400-1751706000@eaglepointseniorliving.com
SUMMARY:Morning Melodies
DESCRIPTION:
URL:https://eaglepointseniorliving.com/event-calendar/morning-melodies-53/
CATEGORIES:Memory Care
END:VEVENT
BEGIN:VEVENT
DTSTART;TZID=America/Chicago:20250704T190000
DTEND;TZID=America/Chicago:20250704T200000
DTSTAMP:20260419T193544
CREATED:20250605T175443Z
LAST-MODIFIED:20250704T023935Z
UID:10000687-1751655600-1751659200@eaglepointseniorliving.com
SUMMARY:Snack Pass & Reminisce
DESCRIPTION:
URL:https://eaglepointseniorliving.com/event-calendar/snack-pass-reminisce-53/
CATEGORIES:Memory Care
END:VEVENT
BEGIN:VEVENT
DTSTART;TZID=America/Chicago:20250704T183000
DTEND;TZID=America/Chicago:20250704T193000
DTSTAMP:20260419T193544
CREATED:20250605T175443Z
LAST-MODIFIED:20250704T023935Z
UID:10000686-1751653800-1751657400@eaglepointseniorliving.com
SUMMARY:Fireworks on Televsion
DESCRIPTION:
URL:https://eaglepointseniorliving.com/event-calendar/friday-night-movie-8/
CATEGORIES:Memory Care
END:VEVENT
BEGIN:VEVENT
DTSTART;TZID=America/Chicago:20250704T133000
DTEND;TZID=America/Chicago:20250704T163000
DTSTAMP:20260419T193544
CREATED:20250627T020923Z
LAST-MODIFIED:20250704T023935Z
UID:10001043-1751635800-1751646600@eaglepointseniorliving.com
SUMMARY:National Day-Independence Day
DESCRIPTION:
URL:https://eaglepointseniorliving.com/event-calendar/national-day-independence-day/
CATEGORIES:Memory Care
END:VEVENT
BEGIN:VEVENT
DTSTART;TZID=America/Chicago:20250704T120000
DTEND;TZID=America/Chicago:20250704T123000
DTSTAMP:20260419T193544
CREATED:20250617T181100Z
LAST-MODIFIED:20250704T023935Z
UID:10000862-1751630400-1751632200@eaglepointseniorliving.com
SUMMARY:Oshibori
DESCRIPTION:
URL:https://eaglepointseniorliving.com/event-calendar/oshibori-129/
CATEGORIES:Memory Care
END:VEVENT
BEGIN:VEVENT
DTSTART;TZID=America/Chicago:20250704T080000
DTEND;TZID=America/Chicago:20250704T090000
DTSTAMP:20260419T193544
CREATED:20250604T175514Z
LAST-MODIFIED:20250704T023935Z
UID:10000671-1751616000-1751619600@eaglepointseniorliving.com
SUMMARY:Morning Melodies
DESCRIPTION:
URL:https://eaglepointseniorliving.com/event-calendar/morning-melodies-52/
CATEGORIES:Memory Care
END:VEVENT
BEGIN:VEVENT
DTSTART;TZID=America/Chicago:20250703T190000
DTEND;TZID=America/Chicago:20250703T200000
DTSTAMP:20260419T193544
CREATED:20250604T175514Z
LAST-MODIFIED:20250703T022437Z
UID:10000670-1751569200-1751572800@eaglepointseniorliving.com
SUMMARY:Snack Pass & Reminisce
DESCRIPTION:
URL:https://eaglepointseniorliving.com/event-calendar/snack-pass-reminisce-52/
CATEGORIES:Memory Care
END:VEVENT
BEGIN:VEVENT
DTSTART;TZID=America/Chicago:20250703T180000
DTEND;TZID=America/Chicago:20250703T190000
DTSTAMP:20260419T193544
CREATED:20250611T180954Z
LAST-MODIFIED:20250703T022437Z
UID:10000768-1751565600-1751569200@eaglepointseniorliving.com
SUMMARY:Summer Concert Series
DESCRIPTION:
URL:https://eaglepointseniorliving.com/event-calendar/summer-concert-series-2/
CATEGORIES:Memory Care
END:VEVENT
BEGIN:VEVENT
DTSTART;TZID=America/Chicago:20250703T140000
DTEND;TZID=America/Chicago:20250703T150000
DTSTAMP:20260419T193544
CREATED:20250604T175514Z
LAST-MODIFIED:20250703T022437Z
UID:10000668-1751551200-1751554800@eaglepointseniorliving.com
SUMMARY:Music With Dave Ross
DESCRIPTION:
URL:https://eaglepointseniorliving.com/event-calendar/music-with-dave-ross/
CATEGORIES:Memory Care
END:VEVENT
BEGIN:VEVENT
DTSTART;TZID=America/Chicago:20250703T120000
DTEND;TZID=America/Chicago:20250703T123000
DTSTAMP:20260419T193544
CREATED:20250617T181100Z
LAST-MODIFIED:20250703T022437Z
UID:10000861-1751544000-1751545800@eaglepointseniorliving.com
SUMMARY:Oshibori
DESCRIPTION:
URL:https://eaglepointseniorliving.com/event-calendar/oshibori-128/
CATEGORIES:Memory Care
END:VEVENT
BEGIN:VEVENT
DTSTART;TZID=America/Chicago:20250703T103000
DTEND;TZID=America/Chicago:20250703T113000
DTSTAMP:20260419T193544
CREATED:20250627T020923Z
LAST-MODIFIED:20250703T022437Z
UID:10001042-1751538600-1751542200@eaglepointseniorliving.com
SUMMARY:Today's Special is Jeopardy
DESCRIPTION:
URL:https://eaglepointseniorliving.com/event-calendar/todays-special-is-jeopardy/
CATEGORIES:Memory Care
END:VEVENT
BEGIN:VEVENT
DTSTART;TZID=America/Chicago:20250703T093000
DTEND;TZID=America/Chicago:20250703T103000
DTSTAMP:20260419T193544
CREATED:20250627T020923Z
LAST-MODIFIED:20250703T022437Z
UID:10001041-1751535000-1751538600@eaglepointseniorliving.com
SUMMARY:National Day Calendar-Happy Birthday Quebec
DESCRIPTION:
URL:https://eaglepointseniorliving.com/event-calendar/national-day-calendar-happy-birthday-quebec/
CATEGORIES:Memory Care
END:VEVENT
BEGIN:VEVENT
DTSTART;TZID=America/Chicago:20250703T090000
DTEND;TZID=America/Chicago:20250703T093000
DTSTAMP:20260419T193544
CREATED:20250624T020944Z
LAST-MODIFIED:20250703T022437Z
UID:10000985-1751533200-1751535000@eaglepointseniorliving.com
SUMMARY:Morning Exercise
DESCRIPTION:
URL:https://eaglepointseniorliving.com/event-calendar/morning-exercise-4/
CATEGORIES:Memory Care
END:VEVENT
BEGIN:VEVENT
DTSTART;TZID=America/Chicago:20250703T080000
DTEND;TZID=America/Chicago:20250703T090000
DTSTAMP:20260419T193544
CREATED:20250603T174046Z
LAST-MODIFIED:20250703T022437Z
UID:10000659-1751529600-1751533200@eaglepointseniorliving.com
SUMMARY:Morning Melodies
DESCRIPTION:
URL:https://eaglepointseniorliving.com/event-calendar/morning-melodies-51/
CATEGORIES:Memory Care
END:VEVENT
BEGIN:VEVENT
DTSTART;TZID=America/Chicago:20250702T190000
DTEND;TZID=America/Chicago:20250702T200000
DTSTAMP:20260419T193544
CREATED:20250603T174046Z
LAST-MODIFIED:20250702T022546Z
UID:10000658-1751482800-1751486400@eaglepointseniorliving.com
SUMMARY:Snack Pass & Reminisce
DESCRIPTION:
URL:https://eaglepointseniorliving.com/event-calendar/snack-pass-reminisce-51/
CATEGORIES:Memory Care
END:VEVENT
BEGIN:VEVENT
DTSTART;TZID=America/Chicago:20250702T180000
DTEND;TZID=America/Chicago:20250702T203000
DTSTAMP:20260419T193544
CREATED:20250603T174046Z
LAST-MODIFIED:20250702T022546Z
UID:10000657-1751479200-1751488200@eaglepointseniorliving.com
SUMMARY:Wednesday Evening Movie
DESCRIPTION:
URL:https://eaglepointseniorliving.com/event-calendar/wednesday-evening-movie-7/
CATEGORIES:Memory Care
END:VEVENT
BEGIN:VEVENT
DTSTART;TZID=America/Chicago:20250702T140000
DTEND;TZID=America/Chicago:20250702T150000
DTSTAMP:20260419T193544
CREATED:20250603T174046Z
LAST-MODIFIED:20250702T022546Z
UID:10000654-1751464800-1751468400@eaglepointseniorliving.com
SUMMARY:Outside on The Patio
DESCRIPTION:
URL:https://eaglepointseniorliving.com/event-calendar/outside-on-the-patio-14/
CATEGORIES:Memory Care
END:VEVENT
BEGIN:VEVENT
DTSTART;TZID=America/Chicago:20250702T120000
DTEND;TZID=America/Chicago:20250702T123000
DTSTAMP:20260419T193544
CREATED:20250617T181100Z
LAST-MODIFIED:20250702T022546Z
UID:10000860-1751457600-1751459400@eaglepointseniorliving.com
SUMMARY:Oshibori
DESCRIPTION:
URL:https://eaglepointseniorliving.com/event-calendar/oshibori-127/
CATEGORIES:Memory Care
END:VEVENT
BEGIN:VEVENT
DTSTART;TZID=America/Chicago:20250702T110000
DTEND;TZID=America/Chicago:20250702T113000
DTSTAMP:20260419T193544
CREATED:20250602T174013Z
LAST-MODIFIED:20250702T022546Z
UID:10000646-1751454000-1751455800@eaglepointseniorliving.com
SUMMARY:Resident Wednesday
DESCRIPTION:
URL:https://eaglepointseniorliving.com/event-calendar/resident-wednesday-8/
CATEGORIES:Memory Care
END:VEVENT
BEGIN:VEVENT
DTSTART;TZID=America/Chicago:20250702T100000
DTEND;TZID=America/Chicago:20250702T103000
DTSTAMP:20260419T193544
CREATED:20250627T020923Z
LAST-MODIFIED:20250702T022546Z
UID:10001040-1751450400-1751452200@eaglepointseniorliving.com
SUMMARY:Weekly Worship
DESCRIPTION:Christian worship service with communion led by Chaplain Peter.
URL:https://eaglepointseniorliving.com/event-calendar/weekly-worship/
CATEGORIES:Memory Care
END:VEVENT
BEGIN:VEVENT
DTSTART;TZID=America/Chicago:20250702T090000
DTEND;TZID=America/Chicago:20250702T093000
DTSTAMP:20260419T193544
CREATED:20250624T020944Z
LAST-MODIFIED:20250702T022546Z
UID:10000984-1751446800-1751448600@eaglepointseniorliving.com
SUMMARY:Morning Exercise
DESCRIPTION:
URL:https://eaglepointseniorliving.com/event-calendar/morning-exercise-3/
CATEGORIES:Memory Care
END:VEVENT
BEGIN:VEVENT
DTSTART;TZID=America/Chicago:20250702T080000
DTEND;TZID=America/Chicago:20250702T090000
DTSTAMP:20260419T193544
CREATED:20250602T174013Z
LAST-MODIFIED:20250702T022546Z
UID:10000644-1751443200-1751446800@eaglepointseniorliving.com
SUMMARY:Morning Melodies
DESCRIPTION:
URL:https://eaglepointseniorliving.com/event-calendar/morning-melodies-50/
CATEGORIES:Memory Care
END:VEVENT
BEGIN:VEVENT
DTSTART;TZID=America/Chicago:20250701T190000
DTEND;TZID=America/Chicago:20250701T200000
DTSTAMP:20260419T193544
CREATED:20250602T174013Z
LAST-MODIFIED:20250701T020937Z
UID:10000643-1751396400-1751400000@eaglepointseniorliving.com
SUMMARY:Snack Pass & Reminisce
DESCRIPTION:
URL:https://eaglepointseniorliving.com/event-calendar/snack-pass-reminisce-50/
CATEGORIES:Memory Care
END:VEVENT
BEGIN:VEVENT
DTSTART;TZID=America/Chicago:20250701T150000
DTEND;TZID=America/Chicago:20250701T153000
DTSTAMP:20260419T193544
CREATED:20250602T174013Z
LAST-MODIFIED:20250701T020937Z
UID:10000640-1751382000-1751383800@eaglepointseniorliving.com
SUMMARY:Reminisce
DESCRIPTION:
URL:https://eaglepointseniorliving.com/event-calendar/reminisce-15/
CATEGORIES:Memory Care
END:VEVENT
END:VCALENDAR