BEGIN:VCALENDAR
VERSION:2.0
PRODID:-//Eagle Point Senior Living - ECPv6.11.2.1//NONSGML v1.0//EN
CALSCALE:GREGORIAN
METHOD:PUBLISH
X-ORIGINAL-URL:https://eaglepointseniorliving.com
X-WR-CALDESC:Events for Eagle Point Senior Living
REFRESH-INTERVAL;VALUE=DURATION:PT1H
X-Robots-Tag:noindex
X-PUBLISHED-TTL:PT1H
BEGIN:VTIMEZONE
TZID:America/Chicago
BEGIN:DAYLIGHT
TZOFFSETFROM:-0600
TZOFFSETTO:-0500
TZNAME:CDT
DTSTART:20250309T080000
END:DAYLIGHT
BEGIN:STANDARD
TZOFFSETFROM:-0500
TZOFFSETTO:-0600
TZNAME:CST
DTSTART:20251102T070000
END:STANDARD
END:VTIMEZONE
BEGIN:VEVENT
DTSTART;TZID=America/Chicago:20250711T190000
DTEND;TZID=America/Chicago:20250711T200000
DTSTAMP:20260419T141125
CREATED:20250612T181113Z
LAST-MODIFIED:20250711T035504Z
UID:10000786-1752260400-1752264000@eaglepointseniorliving.com
SUMMARY:Snack Pass & Reminisce
DESCRIPTION:
URL:https://eaglepointseniorliving.com/event-calendar/snack-pass-reminisce-60/
CATEGORIES:Memory Care
END:VEVENT
BEGIN:VEVENT
DTSTART;TZID=America/Chicago:20250711T130000
DTEND;TZID=America/Chicago:20250711T150000
DTSTAMP:20260419T141125
CREATED:20250611T180955Z
LAST-MODIFIED:20250711T035504Z
UID:10000773-1752238800-1752246000@eaglepointseniorliving.com
SUMMARY:Music & Ice Cream Social at Point
DESCRIPTION:
URL:https://eaglepointseniorliving.com/event-calendar/music-ice-cream-social-at-point/
CATEGORIES:Memory Care
END:VEVENT
BEGIN:VEVENT
DTSTART;TZID=America/Chicago:20250711T120000
DTEND;TZID=America/Chicago:20250711T123000
DTSTAMP:20260419T141125
CREATED:20250617T181102Z
LAST-MODIFIED:20250711T035504Z
UID:10000867-1752235200-1752237000@eaglepointseniorliving.com
SUMMARY:Oshibori
DESCRIPTION:
URL:https://eaglepointseniorliving.com/event-calendar/oshibori-134/
CATEGORIES:Memory Care
END:VEVENT
BEGIN:VEVENT
DTSTART;TZID=America/Chicago:20250711T100000
DTEND;TZID=America/Chicago:20250711T110000
DTSTAMP:20260419T141125
CREATED:20250611T180955Z
LAST-MODIFIED:20250711T035504Z
UID:10000772-1752228000-1752231600@eaglepointseniorliving.com
SUMMARY:Daily Spirit Spark
DESCRIPTION:Various spiritual topics and activities with Chaplain Peter.
URL:https://eaglepointseniorliving.com/event-calendar/daily-spirit-spark-17/
CATEGORIES:Memory Care
END:VEVENT
BEGIN:VEVENT
DTSTART;TZID=America/Chicago:20250711T090000
DTEND;TZID=America/Chicago:20250711T093000
DTSTAMP:20260419T141125
CREATED:20250710T032536Z
LAST-MODIFIED:20250711T035504Z
UID:10001235-1752224400-1752226200@eaglepointseniorliving.com
SUMMARY:Morning Exercise
DESCRIPTION:
URL:https://eaglepointseniorliving.com/event-calendar/morning-exercise-30/
CATEGORIES:Memory Care
END:VEVENT
BEGIN:VEVENT
DTSTART;TZID=America/Chicago:20250711T080000
DTEND;TZID=America/Chicago:20250711T090000
DTSTAMP:20260419T141125
CREATED:20250611T180955Z
LAST-MODIFIED:20250711T035504Z
UID:10000770-1752220800-1752224400@eaglepointseniorliving.com
SUMMARY:Morning Melodies
DESCRIPTION:
URL:https://eaglepointseniorliving.com/event-calendar/morning-melodies-59/
CATEGORIES:Memory Care
END:VEVENT
BEGIN:VEVENT
DTSTART;TZID=America/Chicago:20250710T190000
DTEND;TZID=America/Chicago:20250710T200000
DTSTAMP:20260419T141125
CREATED:20250611T180955Z
LAST-MODIFIED:20250710T034224Z
UID:10000769-1752174000-1752177600@eaglepointseniorliving.com
SUMMARY:Snack Pass & Reminisce
DESCRIPTION:
URL:https://eaglepointseniorliving.com/event-calendar/snack-pass-reminisce-59/
CATEGORIES:Memory Care
END:VEVENT
BEGIN:VEVENT
DTSTART;TZID=America/Chicago:20250710T120000
DTEND;TZID=America/Chicago:20250710T123000
DTSTAMP:20260419T141125
CREATED:20250617T181102Z
LAST-MODIFIED:20250710T034224Z
UID:10000866-1752148800-1752150600@eaglepointseniorliving.com
SUMMARY:Oshibori
DESCRIPTION:
URL:https://eaglepointseniorliving.com/event-calendar/oshibori-133/
CATEGORIES:Memory Care
END:VEVENT
BEGIN:VEVENT
DTSTART;TZID=America/Chicago:20250710T100000
DTEND;TZID=America/Chicago:20250710T110000
DTSTAMP:20260419T141125
CREATED:20250610T181037Z
LAST-MODIFIED:20250710T034224Z
UID:10000756-1752141600-1752145200@eaglepointseniorliving.com
SUMMARY:Daily Spirit Spark
DESCRIPTION:Various spiritual topics and activities with Chaplain Peter.
URL:https://eaglepointseniorliving.com/event-calendar/daily-spirit-spark-16/
CATEGORIES:Memory Care
END:VEVENT
BEGIN:VEVENT
DTSTART;TZID=America/Chicago:20250710T093000
DTEND;TZID=America/Chicago:20250710T100000
DTSTAMP:20260419T141125
CREATED:20250627T020924Z
LAST-MODIFIED:20250710T034224Z
UID:10001047-1752139800-1752141600@eaglepointseniorliving.com
SUMMARY:Current Events
DESCRIPTION:
URL:https://eaglepointseniorliving.com/event-calendar/national-day-calendar/
CATEGORIES:Memory Care
END:VEVENT
BEGIN:VEVENT
DTSTART;TZID=America/Chicago:20250710T080000
DTEND;TZID=America/Chicago:20250710T090000
DTSTAMP:20260419T141125
CREATED:20250610T181037Z
LAST-MODIFIED:20250710T034224Z
UID:10000755-1752134400-1752138000@eaglepointseniorliving.com
SUMMARY:Morning Melodies
DESCRIPTION:
URL:https://eaglepointseniorliving.com/event-calendar/morning-melodies-58/
CATEGORIES:Memory Care
END:VEVENT
BEGIN:VEVENT
DTSTART;TZID=America/Chicago:20250709T190000
DTEND;TZID=America/Chicago:20250709T200000
DTSTAMP:20260419T141125
CREATED:20250610T181037Z
LAST-MODIFIED:20250709T032424Z
UID:10000754-1752087600-1752091200@eaglepointseniorliving.com
SUMMARY:Snack Pass & Reminisce
DESCRIPTION:
URL:https://eaglepointseniorliving.com/event-calendar/snack-pass-reminisce-58/
CATEGORIES:Memory Care
END:VEVENT
BEGIN:VEVENT
DTSTART;TZID=America/Chicago:20250709T180000
DTEND;TZID=America/Chicago:20250709T203000
DTSTAMP:20260419T141125
CREATED:20250610T181037Z
LAST-MODIFIED:20250709T032424Z
UID:10000753-1752084000-1752093000@eaglepointseniorliving.com
SUMMARY:Wednesday Evening Movie
DESCRIPTION:
URL:https://eaglepointseniorliving.com/event-calendar/wednesday-evening-movie-8/
CATEGORIES:Memory Care
END:VEVENT
BEGIN:VEVENT
DTSTART;TZID=America/Chicago:20250709T140000
DTEND;TZID=America/Chicago:20250709T150000
DTSTAMP:20260419T141125
CREATED:20250610T181037Z
LAST-MODIFIED:20250709T032424Z
UID:10000751-1752069600-1752073200@eaglepointseniorliving.com
SUMMARY:Outside on The Patio
DESCRIPTION:
URL:https://eaglepointseniorliving.com/event-calendar/outside-on-the-patio-17/
CATEGORIES:Memory Care
END:VEVENT
BEGIN:VEVENT
DTSTART;TZID=America/Chicago:20250709T120000
DTEND;TZID=America/Chicago:20250709T123000
DTSTAMP:20260419T141125
CREATED:20250617T181101Z
LAST-MODIFIED:20250709T032424Z
UID:10000865-1752062400-1752064200@eaglepointseniorliving.com
SUMMARY:Oshibori
DESCRIPTION:
URL:https://eaglepointseniorliving.com/event-calendar/oshibori-132/
CATEGORIES:Memory Care
END:VEVENT
BEGIN:VEVENT
DTSTART;TZID=America/Chicago:20250709T110000
DTEND;TZID=America/Chicago:20250709T113000
DTSTAMP:20260419T141125
CREATED:20250609T180930Z
LAST-MODIFIED:20250709T032424Z
UID:10000741-1752058800-1752060600@eaglepointseniorliving.com
SUMMARY:Resident Wednesday
DESCRIPTION:
URL:https://eaglepointseniorliving.com/event-calendar/resident-wednesday-9/
CATEGORIES:Memory Care
END:VEVENT
BEGIN:VEVENT
DTSTART;TZID=America/Chicago:20250709T100000
DTEND;TZID=America/Chicago:20250709T103000
DTSTAMP:20260419T141125
CREATED:20250627T020924Z
LAST-MODIFIED:20250709T032424Z
UID:10001046-1752055200-1752057000@eaglepointseniorliving.com
SUMMARY:Weekly Worship
DESCRIPTION:Christian worship service with communion led by Chaplain Peter.
URL:https://eaglepointseniorliving.com/event-calendar/weekly-worship-2/
CATEGORIES:Memory Care
END:VEVENT
BEGIN:VEVENT
DTSTART;TZID=America/Chicago:20250709T093000
DTEND;TZID=America/Chicago:20250709T100000
DTSTAMP:20260419T141125
CREATED:20250624T020945Z
LAST-MODIFIED:20250709T032424Z
UID:10000989-1752053400-1752055200@eaglepointseniorliving.com
SUMMARY:Morning Exercise
DESCRIPTION:
URL:https://eaglepointseniorliving.com/event-calendar/morning-exercise-8/
CATEGORIES:Memory Care
END:VEVENT
BEGIN:VEVENT
DTSTART;TZID=America/Chicago:20250709T080000
DTEND;TZID=America/Chicago:20250709T090000
DTSTAMP:20260419T141125
CREATED:20250609T180930Z
LAST-MODIFIED:20250709T032424Z
UID:10000739-1752048000-1752051600@eaglepointseniorliving.com
SUMMARY:Morning Melodies
DESCRIPTION:
URL:https://eaglepointseniorliving.com/event-calendar/morning-melodies-57/
CATEGORIES:Memory Care
END:VEVENT
BEGIN:VEVENT
DTSTART;TZID=America/Chicago:20250708T190000
DTEND;TZID=America/Chicago:20250708T200000
DTSTAMP:20260419T141125
CREATED:20250609T180930Z
LAST-MODIFIED:20250708T032433Z
UID:10000738-1752001200-1752004800@eaglepointseniorliving.com
SUMMARY:Snack Pass & Reminisce
DESCRIPTION:
URL:https://eaglepointseniorliving.com/event-calendar/snack-pass-reminisce-57/
CATEGORIES:Memory Care
END:VEVENT
BEGIN:VEVENT
DTSTART;TZID=America/Chicago:20250708T150000
DTEND;TZID=America/Chicago:20250708T153000
DTSTAMP:20260419T141125
CREATED:20250609T180929Z
LAST-MODIFIED:20250708T032433Z
UID:10000735-1751986800-1751988600@eaglepointseniorliving.com
SUMMARY:Reminisce
DESCRIPTION:
URL:https://eaglepointseniorliving.com/event-calendar/reminisce-17/
CATEGORIES:Memory Care
END:VEVENT
BEGIN:VEVENT
DTSTART;TZID=America/Chicago:20250708T133000
DTEND;TZID=America/Chicago:20250708T143000
DTSTAMP:20260419T141125
CREATED:20250609T180929Z
LAST-MODIFIED:20250708T032433Z
UID:10000734-1751981400-1751985000@eaglepointseniorliving.com
SUMMARY:Outside on the Patio
DESCRIPTION:
URL:https://eaglepointseniorliving.com/event-calendar/outside-on-the-patio-16/
CATEGORIES:Memory Care
END:VEVENT
BEGIN:VEVENT
DTSTART;TZID=America/Chicago:20250708T120000
DTEND;TZID=America/Chicago:20250708T123000
DTSTAMP:20260419T141125
CREATED:20250617T181101Z
LAST-MODIFIED:20250708T032433Z
UID:10000864-1751976000-1751977800@eaglepointseniorliving.com
SUMMARY:Oshibori
DESCRIPTION:
URL:https://eaglepointseniorliving.com/event-calendar/oshibori-131/
CATEGORIES:Memory Care
END:VEVENT
BEGIN:VEVENT
DTSTART;TZID=America/Chicago:20250708T110000
DTEND;TZID=America/Chicago:20250708T114500
DTSTAMP:20260419T141125
CREATED:20250608T175513Z
LAST-MODIFIED:20250708T032433Z
UID:10000728-1751972400-1751975100@eaglepointseniorliving.com
SUMMARY:Current Events
DESCRIPTION:
URL:https://eaglepointseniorliving.com/event-calendar/jeopardy-8/
CATEGORIES:Memory Care
END:VEVENT
BEGIN:VEVENT
DTSTART;TZID=America/Chicago:20250708T100000
DTEND;TZID=America/Chicago:20250708T110000
DTSTAMP:20260419T141125
CREATED:20250627T020924Z
LAST-MODIFIED:20250708T032433Z
UID:10001045-1751968800-1751972400@eaglepointseniorliving.com
SUMMARY:Daily Spirit Spark
DESCRIPTION:Various spiritual topics and activities with Chaplain Peter.
URL:https://eaglepointseniorliving.com/event-calendar/daily-spirit-spark-24/
CATEGORIES:Memory Care
END:VEVENT
BEGIN:VEVENT
DTSTART;TZID=America/Chicago:20250708T093000
DTEND;TZID=America/Chicago:20250708T100000
DTSTAMP:20260419T141125
CREATED:20250627T020924Z
LAST-MODIFIED:20250708T032433Z
UID:10001044-1751967000-1751968800@eaglepointseniorliving.com
SUMMARY:National Day- Passport Day
DESCRIPTION:
URL:https://eaglepointseniorliving.com/event-calendar/national-day-calendar-national-blueberry-day/
CATEGORIES:Memory Care
END:VEVENT
BEGIN:VEVENT
DTSTART;TZID=America/Chicago:20250708T090000
DTEND;TZID=America/Chicago:20250708T093000
DTSTAMP:20260419T141125
CREATED:20250624T020945Z
LAST-MODIFIED:20250708T032433Z
UID:10000988-1751965200-1751967000@eaglepointseniorliving.com
SUMMARY:Morning Exercise
DESCRIPTION:
URL:https://eaglepointseniorliving.com/event-calendar/morning-exercise-7/
CATEGORIES:Memory Care
END:VEVENT
BEGIN:VEVENT
DTSTART;TZID=America/Chicago:20250708T080000
DTEND;TZID=America/Chicago:20250708T090000
DTSTAMP:20260419T141125
CREATED:20250608T175513Z
LAST-MODIFIED:20250708T032433Z
UID:10000727-1751961600-1751965200@eaglepointseniorliving.com
SUMMARY:Morning Melodies
DESCRIPTION:
URL:https://eaglepointseniorliving.com/event-calendar/morning-melodies-56/
CATEGORIES:Memory Care
END:VEVENT
BEGIN:VEVENT
DTSTART;TZID=America/Chicago:20250707T190000
DTEND;TZID=America/Chicago:20250707T200000
DTSTAMP:20260419T141125
CREATED:20250608T175513Z
LAST-MODIFIED:20250707T032533Z
UID:10000726-1751914800-1751918400@eaglepointseniorliving.com
SUMMARY:Snack Pass & Reminisce
DESCRIPTION:
URL:https://eaglepointseniorliving.com/event-calendar/snack-pass-reminisce-56/
CATEGORIES:Memory Care
END:VEVENT
BEGIN:VEVENT
DTSTART;TZID=America/Chicago:20250707T180000
DTEND;TZID=America/Chicago:20250707T190000
DTSTAMP:20260419T141125
CREATED:20250623T020927Z
LAST-MODIFIED:20250707T032533Z
UID:10000962-1751911200-1751914800@eaglepointseniorliving.com
SUMMARY:Which Picture Fits?
DESCRIPTION:
URL:https://eaglepointseniorliving.com/event-calendar/which-picture-fits/
CATEGORIES:Memory Care
END:VEVENT
END:VCALENDAR