BEGIN:VCALENDAR
VERSION:2.0
PRODID:-//Eagle Point Senior Living - ECPv6.11.2.1//NONSGML v1.0//EN
CALSCALE:GREGORIAN
METHOD:PUBLISH
X-ORIGINAL-URL:https://eaglepointseniorliving.com
X-WR-CALDESC:Events for Eagle Point Senior Living
REFRESH-INTERVAL;VALUE=DURATION:PT1H
X-Robots-Tag:noindex
X-PUBLISHED-TTL:PT1H
BEGIN:VTIMEZONE
TZID:America/Chicago
BEGIN:DAYLIGHT
TZOFFSETFROM:-0600
TZOFFSETTO:-0500
TZNAME:CDT
DTSTART:20260308T080000
END:DAYLIGHT
BEGIN:STANDARD
TZOFFSETFROM:-0500
TZOFFSETTO:-0600
TZNAME:CST
DTSTART:20261101T070000
END:STANDARD
END:VTIMEZONE
BEGIN:VEVENT
DTSTART;TZID=America/Chicago:20260519T090000
DTEND;TZID=America/Chicago:20260519T100000
DTSTAMP:20260420T234550
CREATED:20260420T075456Z
LAST-MODIFIED:20260420T075456Z
UID:10005562-1779181200-1779184800@eaglepointseniorliving.com
SUMMARY:Chair Yoga Dance
DESCRIPTION:
URL:https://eaglepointseniorliving.com/event-calendar/chair-yoga-dance-11/
CATEGORIES:Memory Care
END:VEVENT
BEGIN:VEVENT
DTSTART;TZID=America/Chicago:20260519T100000
DTEND;TZID=America/Chicago:20260519T110000
DTSTAMP:20260420T234550
CREATED:20260420T075456Z
LAST-MODIFIED:20260420T075456Z
UID:10005563-1779184800-1779188400@eaglepointseniorliving.com
SUMMARY:Spirit Spark
DESCRIPTION:Various spiritual topics and activities with Chaplain Peter.
URL:https://eaglepointseniorliving.com/event-calendar/spirit-spark-10/
LOCATION:Activity room
CATEGORIES:Memory Care
END:VEVENT
BEGIN:VEVENT
DTSTART;TZID=America/Chicago:20260519T110000
DTEND;TZID=America/Chicago:20260519T120000
DTSTAMP:20260420T234550
CREATED:20260420T075456Z
LAST-MODIFIED:20260420T075456Z
UID:10005564-1779188400-1779192000@eaglepointseniorliving.com
SUMMARY:Morning Crafter
DESCRIPTION:
URL:https://eaglepointseniorliving.com/event-calendar/morning-crafter-9/
LOCATION:Activity room
CATEGORIES:Memory Care
END:VEVENT
BEGIN:VEVENT
DTSTART;TZID=America/Chicago:20260519T133000
DTEND;TZID=America/Chicago:20260519T143000
DTSTAMP:20260420T234550
CREATED:20260420T075457Z
LAST-MODIFIED:20260420T075457Z
UID:10005565-1779197400-1779201000@eaglepointseniorliving.com
SUMMARY:Outside/Gardening
DESCRIPTION:
URL:https://eaglepointseniorliving.com/event-calendar/outside-gardening-3/
LOCATION:Activity room
CATEGORIES:Memory Care
END:VEVENT
BEGIN:VEVENT
DTSTART;TZID=America/Chicago:20260519T150000
DTEND;TZID=America/Chicago:20260519T160000
DTSTAMP:20260420T234550
CREATED:20260420T075457Z
LAST-MODIFIED:20260420T075457Z
UID:10005566-1779202800-1779206400@eaglepointseniorliving.com
SUMMARY:Game Time
DESCRIPTION:
URL:https://eaglepointseniorliving.com/event-calendar/game-time-33/
LOCATION:Activity room
CATEGORIES:Memory Care
END:VEVENT
BEGIN:VEVENT
DTSTART;TZID=America/Chicago:20260519T190000
DTEND;TZID=America/Chicago:20260519T191500
DTSTAMP:20260420T234550
CREATED:20260420T075457Z
LAST-MODIFIED:20260420T075457Z
UID:10005567-1779217200-1779218100@eaglepointseniorliving.com
SUMMARY:Snack Pass
DESCRIPTION:
URL:https://eaglepointseniorliving.com/event-calendar/snack-pass-269/
LOCATION:Dining Room
CATEGORIES:Memory Care
END:VEVENT
END:VCALENDAR