BEGIN:VCALENDAR
VERSION:2.0
PRODID:-//Eagle Point Senior Living - ECPv6.11.2.1//NONSGML v1.0//EN
CALSCALE:GREGORIAN
METHOD:PUBLISH
X-ORIGINAL-URL:https://eaglepointseniorliving.com
X-WR-CALDESC:Events for Eagle Point Senior Living
REFRESH-INTERVAL;VALUE=DURATION:PT1H
X-Robots-Tag:noindex
X-PUBLISHED-TTL:PT1H
BEGIN:VTIMEZONE
TZID:America/Chicago
BEGIN:DAYLIGHT
TZOFFSETFROM:-0600
TZOFFSETTO:-0500
TZNAME:CDT
DTSTART:20260308T080000
END:DAYLIGHT
BEGIN:STANDARD
TZOFFSETFROM:-0500
TZOFFSETTO:-0600
TZNAME:CST
DTSTART:20261101T070000
END:STANDARD
END:VTIMEZONE
BEGIN:VEVENT
DTSTART;TZID=America/Chicago:20260513T090000
DTEND;TZID=America/Chicago:20260513T100000
DTSTAMP:20260420T234650
CREATED:20260417T075440Z
LAST-MODIFIED:20260420T075454Z
UID:10005533-1778662800-1778666400@eaglepointseniorliving.com
SUMMARY:Theme of Day
DESCRIPTION:
URL:https://eaglepointseniorliving.com/event-calendar/theme-of-day/
LOCATION:Activity room
CATEGORIES:Memory Care
END:VEVENT
BEGIN:VEVENT
DTSTART;TZID=America/Chicago:20260513T090000
DTEND;TZID=America/Chicago:20260513T100000
DTSTAMP:20260420T234650
CREATED:20260417T075440Z
LAST-MODIFIED:20260420T075454Z
UID:10005534-1778662800-1778666400@eaglepointseniorliving.com
SUMMARY:Morning bowling & Yard Games
DESCRIPTION:
URL:https://eaglepointseniorliving.com/event-calendar/morning-stretches-4/
LOCATION:Activity room
CATEGORIES:Memory Care
END:VEVENT
BEGIN:VEVENT
DTSTART;TZID=America/Chicago:20260513T100000
DTEND;TZID=America/Chicago:20260513T103000
DTSTAMP:20260420T234650
CREATED:20260414T073936Z
LAST-MODIFIED:20260420T075454Z
UID:10005478-1778666400-1778668200@eaglepointseniorliving.com
SUMMARY:Weekly Worship
DESCRIPTION:Christian worship service with communion led by Chaplain Peter.
URL:https://eaglepointseniorliving.com/event-calendar/weekly-worship-48/
LOCATION:Activity room
CATEGORIES:Memory Care
END:VEVENT
BEGIN:VEVENT
DTSTART;TZID=America/Chicago:20260513T110000
DTEND;TZID=America/Chicago:20260513T120000
DTSTAMP:20260420T234650
CREATED:20260417T075440Z
LAST-MODIFIED:20260420T075454Z
UID:10005535-1778670000-1778673600@eaglepointseniorliving.com
SUMMARY:Morning Crafter
DESCRIPTION:
URL:https://eaglepointseniorliving.com/event-calendar/morning-crafter-8/
LOCATION:Activity room
CATEGORIES:Memory Care
END:VEVENT
BEGIN:VEVENT
DTSTART;TZID=America/Chicago:20260513T173000
DTEND;TZID=America/Chicago:20260513T180000
DTSTAMP:20260420T234650
CREATED:20260414T073936Z
LAST-MODIFIED:20260420T075454Z
UID:10005479-1778693400-1778695200@eaglepointseniorliving.com
SUMMARY:Tabletop Games-Puzzles-Art Coloring
DESCRIPTION:
URL:https://eaglepointseniorliving.com/event-calendar/tabletop-games-puzzles-art-coloring-12/
LOCATION:Dining Room
CATEGORIES:Memory Care
END:VEVENT
BEGIN:VEVENT
DTSTART;TZID=America/Chicago:20260513T190000
DTEND;TZID=America/Chicago:20260513T191500
DTSTAMP:20260420T234650
CREATED:20260414T073936Z
LAST-MODIFIED:20260420T075455Z
UID:10005481-1778698800-1778699700@eaglepointseniorliving.com
SUMMARY:Snack Pass
DESCRIPTION:
URL:https://eaglepointseniorliving.com/event-calendar/snack-pass-263/
LOCATION:Dining Room
CATEGORIES:Memory Care
END:VEVENT
END:VCALENDAR