BEGIN:VCALENDAR
VERSION:2.0
PRODID:-//Eagle Point Senior Living - ECPv6.11.2.1//NONSGML v1.0//EN
CALSCALE:GREGORIAN
METHOD:PUBLISH
X-WR-CALNAME:Eagle Point Senior Living
X-ORIGINAL-URL:https://eaglepointseniorliving.com
X-WR-CALDESC:Events for Eagle Point Senior Living
REFRESH-INTERVAL;VALUE=DURATION:PT1H
X-Robots-Tag:noindex
X-PUBLISHED-TTL:PT1H
BEGIN:VTIMEZONE
TZID:America/Chicago
BEGIN:DAYLIGHT
TZOFFSETFROM:-0600
TZOFFSETTO:-0500
TZNAME:CDT
DTSTART:20260308T080000
END:DAYLIGHT
BEGIN:STANDARD
TZOFFSETFROM:-0500
TZOFFSETTO:-0600
TZNAME:CST
DTSTART:20261101T070000
END:STANDARD
END:VTIMEZONE
BEGIN:VEVENT
DTSTART;TZID=America/Chicago:20260505T090000
DTEND;TZID=America/Chicago:20260505T100000
DTSTAMP:20260420T234444
CREATED:20260417T075436Z
LAST-MODIFIED:20260420T075451Z
UID:10005520-1777971600-1777975200@eaglepointseniorliving.com
SUMMARY:Chair Yoga Dance
DESCRIPTION:
URL:https://eaglepointseniorliving.com/event-calendar/chair-yoga-dance-9/
CATEGORIES:Memory Care
END:VEVENT
BEGIN:VEVENT
DTSTART;TZID=America/Chicago:20260505T100000
DTEND;TZID=America/Chicago:20260505T110000
DTSTAMP:20260420T234444
CREATED:20260406T070934Z
LAST-MODIFIED:20260420T075451Z
UID:10005393-1777975200-1777978800@eaglepointseniorliving.com
SUMMARY:Spirit Spark
DESCRIPTION:Various spiritual topics and activities with Chaplain Peter.
URL:https://eaglepointseniorliving.com/event-calendar/spirit-spark-2/
LOCATION:Activity room
CATEGORIES:Memory Care
END:VEVENT
BEGIN:VEVENT
DTSTART;TZID=America/Chicago:20260505T110000
DTEND;TZID=America/Chicago:20260505T120000
DTSTAMP:20260420T234444
CREATED:20260417T075436Z
LAST-MODIFIED:20260420T075451Z
UID:10005521-1777978800-1777982400@eaglepointseniorliving.com
SUMMARY:Morning Crafter
DESCRIPTION:
URL:https://eaglepointseniorliving.com/event-calendar/morning-crafter-5/
LOCATION:Activity room
CATEGORIES:Memory Care
END:VEVENT
BEGIN:VEVENT
DTSTART;TZID=America/Chicago:20260505T133000
DTEND;TZID=America/Chicago:20260505T143000
DTSTAMP:20260420T234444
CREATED:20260418T075428Z
LAST-MODIFIED:20260420T075451Z
UID:10005544-1777987800-1777991400@eaglepointseniorliving.com
SUMMARY:Outside/Gardening
DESCRIPTION:
URL:https://eaglepointseniorliving.com/event-calendar/outside-gardening/
LOCATION:Activity room
CATEGORIES:Memory Care
END:VEVENT
BEGIN:VEVENT
DTSTART;TZID=America/Chicago:20260505T140000
DTEND;TZID=America/Chicago:20260505T153000
DTSTAMP:20260420T234444
CREATED:20260406T070935Z
LAST-MODIFIED:20260420T075451Z
UID:10005397-1777989600-1777995000@eaglepointseniorliving.com
SUMMARY:Monthly Theme Social & Chat
DESCRIPTION:
URL:https://eaglepointseniorliving.com/event-calendar/monthly-theme-social-chat/
LOCATION:Activity room
CATEGORIES:Memory Care
END:VEVENT
BEGIN:VEVENT
DTSTART;TZID=America/Chicago:20260505T150000
DTEND;TZID=America/Chicago:20260505T160000
DTSTAMP:20260420T234444
CREATED:20260418T075429Z
LAST-MODIFIED:20260420T075451Z
UID:10005545-1777993200-1777996800@eaglepointseniorliving.com
SUMMARY:Game Time
DESCRIPTION:
URL:https://eaglepointseniorliving.com/event-calendar/game-time-31/
LOCATION:Activity room
CATEGORIES:Memory Care
END:VEVENT
BEGIN:VEVENT
DTSTART;TZID=America/Chicago:20260505T190000
DTEND;TZID=America/Chicago:20260505T191500
DTSTAMP:20260420T234444
CREATED:20260406T070935Z
LAST-MODIFIED:20260420T075451Z
UID:10005399-1778007600-1778008500@eaglepointseniorliving.com
SUMMARY:Snack Pass
DESCRIPTION:
URL:https://eaglepointseniorliving.com/event-calendar/snack-pass-255/
LOCATION:Dining Room
CATEGORIES:Memory Care
END:VEVENT
END:VCALENDAR