BEGIN:VCALENDAR
VERSION:2.0
PRODID:-//Eagle Point Senior Living - ECPv6.11.2.1//NONSGML v1.0//EN
CALSCALE:GREGORIAN
METHOD:PUBLISH
X-WR-CALNAME:Eagle Point Senior Living
X-ORIGINAL-URL:https://eaglepointseniorliving.com
X-WR-CALDESC:Events for Eagle Point Senior Living
REFRESH-INTERVAL;VALUE=DURATION:PT1H
X-Robots-Tag:noindex
X-PUBLISHED-TTL:PT1H
BEGIN:VTIMEZONE
TZID:America/Chicago
BEGIN:DAYLIGHT
TZOFFSETFROM:-0600
TZOFFSETTO:-0500
TZNAME:CDT
DTSTART:20260308T080000
END:DAYLIGHT
BEGIN:STANDARD
TZOFFSETFROM:-0500
TZOFFSETTO:-0600
TZNAME:CST
DTSTART:20261101T070000
END:STANDARD
END:VTIMEZONE
BEGIN:VEVENT
DTSTART;TZID=America/Chicago:20260501T090000
DTEND;TZID=America/Chicago:20260501T100000
DTSTAMP:20260420T223046
CREATED:20260417T075435Z
LAST-MODIFIED:20260420T075449Z
UID:10005515-1777626000-1777629600@eaglepointseniorliving.com
SUMMARY:Morning Balloon and Noodles Toss
DESCRIPTION:
URL:https://eaglepointseniorliving.com/event-calendar/monday-morning-balloon-and-noodles-toss-4/
LOCATION:Activity room
CATEGORIES:Memory Care
END:VEVENT
BEGIN:VEVENT
DTSTART;TZID=America/Chicago:20260501T100000
DTEND;TZID=America/Chicago:20260501T110000
DTSTAMP:20260420T223046
CREATED:20260420T075449Z
LAST-MODIFIED:20260420T075449Z
UID:10005561-1777629600-1777633200@eaglepointseniorliving.com
SUMMARY:Spring Craft
DESCRIPTION:
URL:https://eaglepointseniorliving.com/event-calendar/spring-craft/
LOCATION:Dining Room
CATEGORIES:Memory Care
END:VEVENT
BEGIN:VEVENT
DTSTART;TZID=America/Chicago:20260501T110000
DTEND;TZID=America/Chicago:20260501T120000
DTSTAMP:20260420T223046
CREATED:20260417T075435Z
LAST-MODIFIED:20260420T075450Z
UID:10005516-1777633200-1777636800@eaglepointseniorliving.com
SUMMARY:Morning Bingo
DESCRIPTION:
URL:https://eaglepointseniorliving.com/event-calendar/morning-bingo-4/
LOCATION:Dining Room
CATEGORIES:Memory Care
END:VEVENT
BEGIN:VEVENT
DTSTART;TZID=America/Chicago:20260501T133000
DTEND;TZID=America/Chicago:20260501T140000
DTSTAMP:20260420T223046
CREATED:20260402T065438Z
LAST-MODIFIED:20260420T075450Z
UID:10005357-1777642200-1777644000@eaglepointseniorliving.com
SUMMARY:Today's Special-
DESCRIPTION:
URL:https://eaglepointseniorliving.com/event-calendar/todays-special-28/
LOCATION:Activity room
CATEGORIES:Memory Care
END:VEVENT
BEGIN:VEVENT
DTSTART;TZID=America/Chicago:20260501T143000
DTEND;TZID=America/Chicago:20260501T153000
DTSTAMP:20260420T223046
CREATED:20260402T065438Z
LAST-MODIFIED:20260420T075450Z
UID:10005359-1777645800-1777649400@eaglepointseniorliving.com
SUMMARY:Friday Fun Day
DESCRIPTION:
URL:https://eaglepointseniorliving.com/event-calendar/friday-fun-day-29/
LOCATION:Activity room
CATEGORIES:Memory Care
END:VEVENT
BEGIN:VEVENT
DTSTART;TZID=America/Chicago:20260501T153000
DTEND;TZID=America/Chicago:20260501T163000
DTSTAMP:20260420T223046
CREATED:20260402T065438Z
LAST-MODIFIED:20260420T075450Z
UID:10005360-1777649400-1777653000@eaglepointseniorliving.com
SUMMARY:Friday Afternoon Sing A Long
DESCRIPTION:
URL:https://eaglepointseniorliving.com/event-calendar/friday-afternoon-sing-a-long-11/
LOCATION:Activity room
CATEGORIES:Memory Care
END:VEVENT
BEGIN:VEVENT
DTSTART;TZID=America/Chicago:20260501T180000
DTEND;TZID=America/Chicago:20260501T200000
DTSTAMP:20260420T223046
CREATED:20260411T073957Z
LAST-MODIFIED:20260420T075450Z
UID:10005453-1777658400-1777665600@eaglepointseniorliving.com
SUMMARY:Classic Friday Evening Movie-"Fluffy"
DESCRIPTION:Stars: Tony Randall • Shirley Jones • Edward Andrews • Howard Morris\nFluffy the lion is the main attraction in this comedy. He is the subject of an ambitious experiment done by Daniel Potter (TONY RANDALL)\, a scientist trying to prove that even a wild animal like a lion can be made into a pet with proper training. Youtube
URL:https://eaglepointseniorliving.com/event-calendar/friday-evening-movie-3/
LOCATION:Dining Room
CATEGORIES:Memory Care
END:VEVENT
BEGIN:VEVENT
DTSTART;TZID=America/Chicago:20260501T190000
DTEND;TZID=America/Chicago:20260501T191500
DTSTAMP:20260420T223046
CREATED:20260402T065438Z
LAST-MODIFIED:20260420T075450Z
UID:10005361-1777662000-1777662900@eaglepointseniorliving.com
SUMMARY:Snack Pass
DESCRIPTION:
URL:https://eaglepointseniorliving.com/event-calendar/snack-pass-251/
LOCATION:Dining Room
CATEGORIES:Memory Care
END:VEVENT
END:VCALENDAR