BEGIN:VCALENDAR
VERSION:2.0
PRODID:-//Eagle Point Senior Living - ECPv6.11.2.1//NONSGML v1.0//EN
CALSCALE:GREGORIAN
METHOD:PUBLISH
X-ORIGINAL-URL:https://eaglepointseniorliving.com
X-WR-CALDESC:Events for Eagle Point Senior Living
REFRESH-INTERVAL;VALUE=DURATION:PT1H
X-Robots-Tag:noindex
X-PUBLISHED-TTL:PT1H
BEGIN:VTIMEZONE
TZID:America/Chicago
BEGIN:DAYLIGHT
TZOFFSETFROM:-0600
TZOFFSETTO:-0500
TZNAME:CDT
DTSTART:20260308T080000
END:DAYLIGHT
BEGIN:STANDARD
TZOFFSETFROM:-0500
TZOFFSETTO:-0600
TZNAME:CST
DTSTART:20261101T070000
END:STANDARD
END:VTIMEZONE
BEGIN:VEVENT
DTSTART;TZID=America/Chicago:20260331T080000
DTEND;TZID=America/Chicago:20260331T090000
DTSTAMP:20260420T223057
CREATED:20260302T043934Z
LAST-MODIFIED:20260331T065430Z
UID:10004940-1774944000-1774947600@eaglepointseniorliving.com
SUMMARY:Morning Melodies
DESCRIPTION:
URL:https://eaglepointseniorliving.com/event-calendar/morning-melodies-337/
CATEGORIES:Memory Care
END:VEVENT
BEGIN:VEVENT
DTSTART;TZID=America/Chicago:20260331T100000
DTEND;TZID=America/Chicago:20260331T110000
DTSTAMP:20260420T223057
CREATED:20260302T043934Z
LAST-MODIFIED:20260331T065430Z
UID:10004942-1774951200-1774954800@eaglepointseniorliving.com
SUMMARY:Daily Spirit Spark
DESCRIPTION:Various spiritual topics and activities with Chaplain Peter.
URL:https://eaglepointseniorliving.com/event-calendar/daily-spirit-spark-121/
CATEGORIES:Memory Care
END:VEVENT
BEGIN:VEVENT
DTSTART;TZID=America/Chicago:20260331T103000
DTEND;TZID=America/Chicago:20260331T110000
DTSTAMP:20260420T223057
CREATED:20260302T043934Z
LAST-MODIFIED:20260331T065430Z
UID:10004941-1774953000-1774954800@eaglepointseniorliving.com
SUMMARY:Fit While You Sit- Chair Exercise
DESCRIPTION:
URL:https://eaglepointseniorliving.com/event-calendar/fit-while-you-sit-chair-exercise-51/
CATEGORIES:Memory Care
END:VEVENT
BEGIN:VEVENT
DTSTART;TZID=America/Chicago:20260331T110000
DTEND;TZID=America/Chicago:20260331T114500
DTSTAMP:20260420T223057
CREATED:20260302T043934Z
LAST-MODIFIED:20260331T065430Z
UID:10004943-1774954800-1774957500@eaglepointseniorliving.com
SUMMARY:Trivia Tuesday
DESCRIPTION:
URL:https://eaglepointseniorliving.com/event-calendar/trivia-tuesday-14/
CATEGORIES:Memory Care
END:VEVENT
BEGIN:VEVENT
DTSTART;TZID=America/Chicago:20260331T120000
DTEND;TZID=America/Chicago:20260331T123000
DTSTAMP:20260420T223057
CREATED:20260302T043934Z
LAST-MODIFIED:20260331T065430Z
UID:10004944-1774958400-1774960200@eaglepointseniorliving.com
SUMMARY:Oshibori
DESCRIPTION:
URL:https://eaglepointseniorliving.com/event-calendar/oshibori-321/
CATEGORIES:Memory Care
END:VEVENT
BEGIN:VEVENT
DTSTART;TZID=America/Chicago:20260331T131500
DTEND;TZID=America/Chicago:20260331T141500
DTSTAMP:20260420T223057
CREATED:20260302T043934Z
LAST-MODIFIED:20260331T065430Z
UID:10004945-1774962900-1774966500@eaglepointseniorliving.com
SUMMARY:Strawberry Planters
DESCRIPTION:
URL:https://eaglepointseniorliving.com/event-calendar/strawberry-planters/
CATEGORIES:Memory Care
END:VEVENT
BEGIN:VEVENT
DTSTART;TZID=America/Chicago:20260331T143000
DTEND;TZID=America/Chicago:20260331T153000
DTSTAMP:20260420T223057
CREATED:20260302T043934Z
LAST-MODIFIED:20260331T065430Z
UID:10004946-1774967400-1774971000@eaglepointseniorliving.com
SUMMARY:Time-Slips
DESCRIPTION:
URL:https://eaglepointseniorliving.com/event-calendar/time-slips/
LOCATION:Activity room
CATEGORIES:Memory Care
END:VEVENT
BEGIN:VEVENT
DTSTART;TZID=America/Chicago:20260331T143000
DTEND;TZID=America/Chicago:20260401T150000
DTSTAMP:20260420T223057
CREATED:20260401T065451Z
LAST-MODIFIED:20260401T065451Z
UID:10005334-1774967400-1775055600@eaglepointseniorliving.com
SUMMARY:Friday Easter Remembering and Games
DESCRIPTION:
URL:https://eaglepointseniorliving.com/event-calendar/friday-easter-remembering-and-games/
LOCATION:Activity room
CATEGORIES:Memory Care
END:VEVENT
BEGIN:VEVENT
DTSTART;TZID=America/Chicago:20260331T153000
DTEND;TZID=America/Chicago:20260331T160000
DTSTAMP:20260420T223057
CREATED:20260302T043934Z
LAST-MODIFIED:20260331T065430Z
UID:10004947-1774971000-1774972800@eaglepointseniorliving.com
SUMMARY:Game Time
DESCRIPTION:
URL:https://eaglepointseniorliving.com/event-calendar/game-time-21/
CATEGORIES:Memory Care
END:VEVENT
BEGIN:VEVENT
DTSTART;TZID=America/Chicago:20260331T190000
DTEND;TZID=America/Chicago:20260331T191500
DTSTAMP:20260420T223057
CREATED:20260302T043934Z
LAST-MODIFIED:20260331T065430Z
UID:10004948-1774983600-1774984500@eaglepointseniorliving.com
SUMMARY:Snack Pass
DESCRIPTION:
URL:https://eaglepointseniorliving.com/event-calendar/snack-pass-220/
LOCATION:Dining Room
CATEGORIES:Memory Care
END:VEVENT
END:VCALENDAR