BEGIN:VCALENDAR
VERSION:2.0
PRODID:-//Eagle Point Senior Living - ECPv6.11.2.1//NONSGML v1.0//EN
CALSCALE:GREGORIAN
METHOD:PUBLISH
X-WR-CALNAME:Eagle Point Senior Living
X-ORIGINAL-URL:https://eaglepointseniorliving.com
X-WR-CALDESC:Events for Eagle Point Senior Living
REFRESH-INTERVAL;VALUE=DURATION:PT1H
X-Robots-Tag:noindex
X-PUBLISHED-TTL:PT1H
BEGIN:VTIMEZONE
TZID:America/Chicago
BEGIN:DAYLIGHT
TZOFFSETFROM:-0600
TZOFFSETTO:-0500
TZNAME:CDT
DTSTART:20260308T080000
END:DAYLIGHT
BEGIN:STANDARD
TZOFFSETFROM:-0500
TZOFFSETTO:-0600
TZNAME:CST
DTSTART:20261101T070000
END:STANDARD
END:VTIMEZONE
BEGIN:VEVENT
DTSTART;TZID=America/Chicago:20260320T080000
DTEND;TZID=America/Chicago:20260320T090000
DTSTAMP:20260420T235111
CREATED:20260219T043933Z
LAST-MODIFIED:20260320T055425Z
UID:10004775-1773993600-1773997200@eaglepointseniorliving.com
SUMMARY:Morning Melodies
DESCRIPTION:
URL:https://eaglepointseniorliving.com/event-calendar/morning-melodies-326/
CATEGORIES:Memory Care
END:VEVENT
BEGIN:VEVENT
DTSTART;TZID=America/Chicago:20260320T100000
DTEND;TZID=America/Chicago:20260320T103000
DTSTAMP:20260420T235111
CREATED:20260219T043933Z
LAST-MODIFIED:20260320T055426Z
UID:10004776-1774000800-1774002600@eaglepointseniorliving.com
SUMMARY:Fit While You Sit- Chair Exercise
DESCRIPTION:
URL:https://eaglepointseniorliving.com/event-calendar/fit-while-you-sit-chair-exercise-45/
CATEGORIES:Memory Care
END:VEVENT
BEGIN:VEVENT
DTSTART;TZID=America/Chicago:20260320T110000
DTEND;TZID=America/Chicago:20260320T114500
DTSTAMP:20260420T235111
CREATED:20260219T043933Z
LAST-MODIFIED:20260320T055426Z
UID:10004778-1774004400-1774007100@eaglepointseniorliving.com
SUMMARY:Coffee & Chats
DESCRIPTION:
URL:https://eaglepointseniorliving.com/event-calendar/coffee-chats-2/
CATEGORIES:Memory Care
END:VEVENT
BEGIN:VEVENT
DTSTART;TZID=America/Chicago:20260320T110000
DTEND;TZID=America/Chicago:20260320T114500
DTSTAMP:20260420T235111
CREATED:20260219T043933Z
LAST-MODIFIED:20260320T055427Z
UID:10004777-1774004400-1774007100@eaglepointseniorliving.com
SUMMARY:Puzzle Palooza
DESCRIPTION:
URL:https://eaglepointseniorliving.com/event-calendar/puzzle-palooza-11/
CATEGORIES:Memory Care
END:VEVENT
BEGIN:VEVENT
DTSTART;TZID=America/Chicago:20260320T120000
DTEND;TZID=America/Chicago:20260320T123000
DTSTAMP:20260420T235111
CREATED:20260219T043934Z
LAST-MODIFIED:20260320T055428Z
UID:10004779-1774008000-1774009800@eaglepointseniorliving.com
SUMMARY:Oshibori
DESCRIPTION:
URL:https://eaglepointseniorliving.com/event-calendar/oshibori-314/
CATEGORIES:Memory Care
END:VEVENT
BEGIN:VEVENT
DTSTART;TZID=America/Chicago:20260320T133000
DTEND;TZID=America/Chicago:20260320T153000
DTSTAMP:20260420T235111
CREATED:20260224T043959Z
LAST-MODIFIED:20260320T055428Z
UID:10004848-1774013400-1774020600@eaglepointseniorliving.com
SUMMARY:Today's Special-March Word Puzzles
DESCRIPTION:
URL:https://eaglepointseniorliving.com/event-calendar/todays-special-23/
LOCATION:Activity room
CATEGORIES:Memory Care
END:VEVENT
BEGIN:VEVENT
DTSTART;TZID=America/Chicago:20260320T140000
DTEND;TZID=America/Chicago:20260320T150000
DTSTAMP:20260420T235111
CREATED:20260219T043934Z
LAST-MODIFIED:20260320T055429Z
UID:10004781-1774015200-1774018800@eaglepointseniorliving.com
SUMMARY:Friday Fun Day-The One and Only Ivan
DESCRIPTION:
URL:https://eaglepointseniorliving.com/event-calendar/friday-fun-day-24/
LOCATION:Activity room
CATEGORIES:Memory Care
END:VEVENT
BEGIN:VEVENT
DTSTART;TZID=America/Chicago:20260320T153000
DTEND;TZID=America/Chicago:20260320T163000
DTSTAMP:20260420T235111
CREATED:20260306T044035Z
LAST-MODIFIED:20260320T055430Z
UID:10005018-1774020600-1774024200@eaglepointseniorliving.com
SUMMARY:What Am I
DESCRIPTION:
URL:https://eaglepointseniorliving.com/event-calendar/who-am-i-6/
LOCATION:Activity room
CATEGORIES:Memory Care
END:VEVENT
BEGIN:VEVENT
DTSTART;TZID=America/Chicago:20260320T190000
DTEND;TZID=America/Chicago:20260320T191500
DTSTAMP:20260420T235111
CREATED:20260219T043934Z
LAST-MODIFIED:20260320T055431Z
UID:10004783-1774033200-1774034100@eaglepointseniorliving.com
SUMMARY:Snack Pass
DESCRIPTION:
URL:https://eaglepointseniorliving.com/event-calendar/snack-pass-209/
LOCATION:Dining Room
CATEGORIES:Memory Care
END:VEVENT
END:VCALENDAR