BEGIN:VCALENDAR
VERSION:2.0
PRODID:-//Eagle Point Senior Living - ECPv6.11.2.1//NONSGML v1.0//EN
CALSCALE:GREGORIAN
METHOD:PUBLISH
X-ORIGINAL-URL:https://eaglepointseniorliving.com
X-WR-CALDESC:Events for Eagle Point Senior Living
REFRESH-INTERVAL;VALUE=DURATION:PT1H
X-Robots-Tag:noindex
X-PUBLISHED-TTL:PT1H
BEGIN:VTIMEZONE
TZID:America/Chicago
BEGIN:DAYLIGHT
TZOFFSETFROM:-0600
TZOFFSETTO:-0500
TZNAME:CDT
DTSTART:20260308T080000
END:DAYLIGHT
BEGIN:STANDARD
TZOFFSETFROM:-0500
TZOFFSETTO:-0600
TZNAME:CST
DTSTART:20261101T070000
END:STANDARD
END:VTIMEZONE
BEGIN:VEVENT
DTSTART;TZID=America/Chicago:20260318T080000
DTEND;TZID=America/Chicago:20260318T090000
DTSTAMP:20260420T235228
CREATED:20260217T043955Z
LAST-MODIFIED:20260318T055423Z
UID:10004742-1773820800-1773824400@eaglepointseniorliving.com
SUMMARY:Morning Melodies
DESCRIPTION:
URL:https://eaglepointseniorliving.com/event-calendar/morning-melodies-324/
CATEGORIES:Memory Care
END:VEVENT
BEGIN:VEVENT
DTSTART;TZID=America/Chicago:20260318T100000
DTEND;TZID=America/Chicago:20260318T103000
DTSTAMP:20260420T235228
CREATED:20260217T043955Z
LAST-MODIFIED:20260318T055423Z
UID:10004743-1773828000-1773829800@eaglepointseniorliving.com
SUMMARY:Fit While You Sit- Chair Exercise
DESCRIPTION:
URL:https://eaglepointseniorliving.com/event-calendar/fit-while-you-sit-chair-exercise-44/
CATEGORIES:Memory Care
END:VEVENT
BEGIN:VEVENT
DTSTART;TZID=America/Chicago:20260318T120000
DTEND;TZID=America/Chicago:20260318T123000
DTSTAMP:20260420T235228
CREATED:20260217T043956Z
LAST-MODIFIED:20260318T055423Z
UID:10004745-1773835200-1773837000@eaglepointseniorliving.com
SUMMARY:Oshibori
DESCRIPTION:
URL:https://eaglepointseniorliving.com/event-calendar/oshibori-312/
CATEGORIES:Memory Care
END:VEVENT
BEGIN:VEVENT
DTSTART;TZID=America/Chicago:20260318T130000
DTEND;TZID=America/Chicago:20260318T140000
DTSTAMP:20260420T235228
CREATED:20260317T055423Z
LAST-MODIFIED:20260318T055423Z
UID:10005189-1773838800-1773842400@eaglepointseniorliving.com
SUMMARY:New-Voices
DESCRIPTION:
URL:https://eaglepointseniorliving.com/event-calendar/new-voices/
CATEGORIES:Memory Care
END:VEVENT
BEGIN:VEVENT
DTSTART;TZID=America/Chicago:20260318T140000
DTEND;TZID=America/Chicago:20260318T144500
DTSTAMP:20260420T235228
CREATED:20260217T043956Z
LAST-MODIFIED:20260318T055423Z
UID:10004746-1773842400-1773845100@eaglepointseniorliving.com
SUMMARY:Active Games & Phyical Movement Activity
DESCRIPTION:
URL:https://eaglepointseniorliving.com/event-calendar/active-games-phyical-movement-activity-25/
LOCATION:Activity room
CATEGORIES:Memory Care
END:VEVENT
BEGIN:VEVENT
DTSTART;TZID=America/Chicago:20260318T150000
DTEND;TZID=America/Chicago:20260318T154500
DTSTAMP:20260420T235228
CREATED:20260217T043956Z
LAST-MODIFIED:20260318T055423Z
UID:10004747-1773846000-1773848700@eaglepointseniorliving.com
SUMMARY:Short Stories-Chicken Soup for the Soul
DESCRIPTION:
URL:https://eaglepointseniorliving.com/event-calendar/short-stories-chicken-soup-for-the-soul-3/
LOCATION:Fireplace Room
CATEGORIES:Memory Care
END:VEVENT
BEGIN:VEVENT
DTSTART;TZID=America/Chicago:20260318T160000
DTEND;TZID=America/Chicago:20260318T164500
DTSTAMP:20260420T235228
CREATED:20260217T043956Z
LAST-MODIFIED:20260318T055424Z
UID:10004748-1773849600-1773852300@eaglepointseniorliving.com
SUMMARY:St. Patrick's Day Games/Puzzles
DESCRIPTION:
URL:https://eaglepointseniorliving.com/event-calendar/st-patricks-day-games-puzzles/
LOCATION:Activity room
CATEGORIES:Memory Care
END:VEVENT
BEGIN:VEVENT
DTSTART;TZID=America/Chicago:20260318T173000
DTEND;TZID=America/Chicago:20260318T183000
DTSTAMP:20260420T235228
CREATED:20260217T043956Z
LAST-MODIFIED:20260318T055424Z
UID:10004749-1773855000-1773858600@eaglepointseniorliving.com
SUMMARY:Tabletop Games-Puzzles-Art Coloring
DESCRIPTION:
URL:https://eaglepointseniorliving.com/event-calendar/tabletop-games-puzzles-art-coloring-5/
LOCATION:Dining Room
CATEGORIES:Memory Care
END:VEVENT
BEGIN:VEVENT
DTSTART;TZID=America/Chicago:20260318T183000
DTEND;TZID=America/Chicago:20260318T190000
DTSTAMP:20260420T235228
CREATED:20260217T043956Z
LAST-MODIFIED:20260318T055424Z
UID:10004750-1773858600-1773860400@eaglepointseniorliving.com
SUMMARY:Comedy Hour
DESCRIPTION:
URL:https://eaglepointseniorliving.com/event-calendar/comedy-hour/
LOCATION:Dining Room
CATEGORIES:Memory Care
END:VEVENT
BEGIN:VEVENT
DTSTART;TZID=America/Chicago:20260318T190000
DTEND;TZID=America/Chicago:20260318T191500
DTSTAMP:20260420T235228
CREATED:20260217T043956Z
LAST-MODIFIED:20260318T055424Z
UID:10004751-1773860400-1773861300@eaglepointseniorliving.com
SUMMARY:Snack Pass
DESCRIPTION:
URL:https://eaglepointseniorliving.com/event-calendar/snack-pass-207/
LOCATION:Dining Room
CATEGORIES:Memory Care
END:VEVENT
END:VCALENDAR