BEGIN:VCALENDAR
VERSION:2.0
PRODID:-//Eagle Point Senior Living - ECPv6.11.2.1//NONSGML v1.0//EN
CALSCALE:GREGORIAN
METHOD:PUBLISH
X-ORIGINAL-URL:https://eaglepointseniorliving.com
X-WR-CALDESC:Events for Eagle Point Senior Living
REFRESH-INTERVAL;VALUE=DURATION:PT1H
X-Robots-Tag:noindex
X-PUBLISHED-TTL:PT1H
BEGIN:VTIMEZONE
TZID:America/Chicago
BEGIN:DAYLIGHT
TZOFFSETFROM:-0600
TZOFFSETTO:-0500
TZNAME:CDT
DTSTART:20260308T080000
END:DAYLIGHT
BEGIN:STANDARD
TZOFFSETFROM:-0500
TZOFFSETTO:-0600
TZNAME:CST
DTSTART:20261101T070000
END:STANDARD
END:VTIMEZONE
BEGIN:VEVENT
DTSTART;TZID=America/Chicago:20260317T080000
DTEND;TZID=America/Chicago:20260317T090000
DTSTAMP:20260420T235125
CREATED:20260216T043932Z
LAST-MODIFIED:20260317T055425Z
UID:10004727-1773734400-1773738000@eaglepointseniorliving.com
SUMMARY:Morning Melodies
DESCRIPTION:
URL:https://eaglepointseniorliving.com/event-calendar/morning-melodies-323/
CATEGORIES:Memory Care
END:VEVENT
BEGIN:VEVENT
DTSTART;TZID=America/Chicago:20260317T100000
DTEND;TZID=America/Chicago:20260317T103000
DTSTAMP:20260420T235125
CREATED:20260216T043932Z
LAST-MODIFIED:20260317T055425Z
UID:10004728-1773741600-1773743400@eaglepointseniorliving.com
SUMMARY:Fit While You Sit- Chair Exercise
DESCRIPTION:
URL:https://eaglepointseniorliving.com/event-calendar/fit-while-you-sit-chair-exercise-43/
CATEGORIES:Memory Care
END:VEVENT
BEGIN:VEVENT
DTSTART;TZID=America/Chicago:20260317T110000
DTEND;TZID=America/Chicago:20260317T114500
DTSTAMP:20260420T235125
CREATED:20260216T043932Z
LAST-MODIFIED:20260317T055425Z
UID:10004730-1773745200-1773747900@eaglepointseniorliving.com
SUMMARY:Trivia Tuesday
DESCRIPTION:
URL:https://eaglepointseniorliving.com/event-calendar/trivia-tuesday-12/
CATEGORIES:Memory Care
END:VEVENT
BEGIN:VEVENT
DTSTART;TZID=America/Chicago:20260317T120000
DTEND;TZID=America/Chicago:20260317T123000
DTSTAMP:20260420T235125
CREATED:20260216T043932Z
LAST-MODIFIED:20260317T055425Z
UID:10004731-1773748800-1773750600@eaglepointseniorliving.com
SUMMARY:Oshibori
DESCRIPTION:
URL:https://eaglepointseniorliving.com/event-calendar/oshibori-311/
CATEGORIES:Memory Care
END:VEVENT
BEGIN:VEVENT
DTSTART;TZID=America/Chicago:20260317T131500
DTEND;TZID=America/Chicago:20260317T140000
DTSTAMP:20260420T235125
CREATED:20260221T043932Z
LAST-MODIFIED:20260317T055425Z
UID:10004801-1773753300-1773756000@eaglepointseniorliving.com
SUMMARY:Art activity
DESCRIPTION:
URL:https://eaglepointseniorliving.com/event-calendar/group-paint-a-long-clover/
LOCATION:Activity room
CATEGORIES:Memory Care
END:VEVENT
BEGIN:VEVENT
DTSTART;TZID=America/Chicago:20260317T143000
DTEND;TZID=America/Chicago:20260317T150000
DTSTAMP:20260420T235125
CREATED:20260221T043932Z
LAST-MODIFIED:20260317T055425Z
UID:10004803-1773757800-1773759600@eaglepointseniorliving.com
SUMMARY:A Wee Bit of Humor - St. Patrick's Day Funnies
DESCRIPTION:St. Patrick’s Day humor
URL:https://eaglepointseniorliving.com/event-calendar/a-wee-bit-of-humor-st-patricks-day-funnies/
LOCATION:Activity room
CATEGORIES:Memory Care
END:VEVENT
BEGIN:VEVENT
DTSTART;TZID=America/Chicago:20260317T150000
DTEND;TZID=America/Chicago:20260317T153000
DTSTAMP:20260420T235125
CREATED:20260221T043932Z
LAST-MODIFIED:20260317T055425Z
UID:10004802-1773759600-1773761400@eaglepointseniorliving.com
SUMMARY:St. Patrick's Day Word Puzzles
DESCRIPTION:
URL:https://eaglepointseniorliving.com/event-calendar/st-patricks-day-word-puzzles/
LOCATION:Activity room
CATEGORIES:Memory Care
END:VEVENT
BEGIN:VEVENT
DTSTART;TZID=America/Chicago:20260317T153000
DTEND;TZID=America/Chicago:20260317T160000
DTSTAMP:20260420T235125
CREATED:20260225T043941Z
LAST-MODIFIED:20260317T055425Z
UID:10004868-1773761400-1773763200@eaglepointseniorliving.com
SUMMARY:Game Time
DESCRIPTION:
URL:https://eaglepointseniorliving.com/event-calendar/game-time-19/
CATEGORIES:Memory Care
END:VEVENT
BEGIN:VEVENT
DTSTART;TZID=America/Chicago:20260317T190000
DTEND;TZID=America/Chicago:20260317T191500
DTSTAMP:20260420T235125
CREATED:20260216T043932Z
LAST-MODIFIED:20260317T055425Z
UID:10004734-1773774000-1773774900@eaglepointseniorliving.com
SUMMARY:Snack Pass
DESCRIPTION:
URL:https://eaglepointseniorliving.com/event-calendar/snack-pass-206/
LOCATION:Dining Room
CATEGORIES:Memory Care
END:VEVENT
END:VCALENDAR