BEGIN:VCALENDAR
VERSION:2.0
PRODID:-//Eagle Point Senior Living - ECPv6.11.2.1//NONSGML v1.0//EN
CALSCALE:GREGORIAN
METHOD:PUBLISH
X-ORIGINAL-URL:https://eaglepointseniorliving.com
X-WR-CALDESC:Events for Eagle Point Senior Living
REFRESH-INTERVAL;VALUE=DURATION:PT1H
X-Robots-Tag:noindex
X-PUBLISHED-TTL:PT1H
BEGIN:VTIMEZONE
TZID:America/Chicago
BEGIN:DAYLIGHT
TZOFFSETFROM:-0600
TZOFFSETTO:-0500
TZNAME:CDT
DTSTART:20260308T080000
END:DAYLIGHT
BEGIN:STANDARD
TZOFFSETFROM:-0500
TZOFFSETTO:-0600
TZNAME:CST
DTSTART:20261101T070000
END:STANDARD
END:VTIMEZONE
BEGIN:VEVENT
DTSTART;TZID=America/Chicago:20260316T080000
DTEND;TZID=America/Chicago:20260316T090000
DTSTAMP:20260420T235206
CREATED:20260215T043932Z
LAST-MODIFIED:20260316T055524Z
UID:10004711-1773648000-1773651600@eaglepointseniorliving.com
SUMMARY:Morning Melodies
DESCRIPTION:
URL:https://eaglepointseniorliving.com/event-calendar/morning-melodies-322/
CATEGORIES:Memory Care
END:VEVENT
BEGIN:VEVENT
DTSTART;TZID=America/Chicago:20260316T100000
DTEND;TZID=America/Chicago:20260316T103000
DTSTAMP:20260420T235206
CREATED:20260215T043932Z
LAST-MODIFIED:20260316T055524Z
UID:10004712-1773655200-1773657000@eaglepointseniorliving.com
SUMMARY:Fit While You Sit- Chair Exercise
DESCRIPTION:
URL:https://eaglepointseniorliving.com/event-calendar/fit-while-you-sit-chair-exercise-42/
CATEGORIES:Memory Care
END:VEVENT
BEGIN:VEVENT
DTSTART;TZID=America/Chicago:20260316T110000
DTEND;TZID=America/Chicago:20260316T114500
DTSTAMP:20260420T235206
CREATED:20260215T043932Z
LAST-MODIFIED:20260316T055524Z
UID:10004713-1773658800-1773661500@eaglepointseniorliving.com
SUMMARY:Wheel Of Fortune
DESCRIPTION:
URL:https://eaglepointseniorliving.com/event-calendar/wheel-of-fortune-40/
CATEGORIES:Memory Care
END:VEVENT
BEGIN:VEVENT
DTSTART;TZID=America/Chicago:20260316T120000
DTEND;TZID=America/Chicago:20260316T123000
DTSTAMP:20260420T235206
CREATED:20260215T043932Z
LAST-MODIFIED:20260316T055524Z
UID:10004714-1773662400-1773664200@eaglepointseniorliving.com
SUMMARY:Oshibori
DESCRIPTION:
URL:https://eaglepointseniorliving.com/event-calendar/oshibori-310/
CATEGORIES:Memory Care
END:VEVENT
BEGIN:VEVENT
DTSTART;TZID=America/Chicago:20260316T133000
DTEND;TZID=America/Chicago:20260316T143000
DTSTAMP:20260420T235206
CREATED:20260215T043932Z
LAST-MODIFIED:20260316T055524Z
UID:10004715-1773667800-1773671400@eaglepointseniorliving.com
SUMMARY:NEWVoices Choir Group
DESCRIPTION:
URL:https://eaglepointseniorliving.com/event-calendar/newvoices-choir-group/
CATEGORIES:Memory Care
END:VEVENT
BEGIN:VEVENT
DTSTART;TZID=America/Chicago:20260316T173000
DTEND;TZID=America/Chicago:20260316T183000
DTSTAMP:20260420T235206
CREATED:20260215T043932Z
LAST-MODIFIED:20260316T055524Z
UID:10004717-1773682200-1773685800@eaglepointseniorliving.com
SUMMARY:Game Night
DESCRIPTION:
URL:https://eaglepointseniorliving.com/event-calendar/game-night-6/
LOCATION:Activity room
CATEGORIES:Memory Care
END:VEVENT
BEGIN:VEVENT
DTSTART;TZID=America/Chicago:20260316T190000
DTEND;TZID=America/Chicago:20260316T191500
DTSTAMP:20260420T235206
CREATED:20260215T043932Z
LAST-MODIFIED:20260316T055524Z
UID:10004718-1773687600-1773688500@eaglepointseniorliving.com
SUMMARY:Snack Pass
DESCRIPTION:
URL:https://eaglepointseniorliving.com/event-calendar/snack-pass-205/
LOCATION:Dining Room
CATEGORIES:Memory Care
END:VEVENT
END:VCALENDAR