BEGIN:VCALENDAR
VERSION:2.0
PRODID:-//Eagle Point Senior Living - ECPv6.11.2.1//NONSGML v1.0//EN
CALSCALE:GREGORIAN
METHOD:PUBLISH
X-WR-CALNAME:Eagle Point Senior Living
X-ORIGINAL-URL:https://eaglepointseniorliving.com
X-WR-CALDESC:Events for Eagle Point Senior Living
REFRESH-INTERVAL;VALUE=DURATION:PT1H
X-Robots-Tag:noindex
X-PUBLISHED-TTL:PT1H
BEGIN:VTIMEZONE
TZID:America/Chicago
BEGIN:DAYLIGHT
TZOFFSETFROM:-0600
TZOFFSETTO:-0500
TZNAME:CDT
DTSTART:20260308T080000
END:DAYLIGHT
BEGIN:STANDARD
TZOFFSETFROM:-0500
TZOFFSETTO:-0600
TZNAME:CST
DTSTART:20261101T070000
END:STANDARD
END:VTIMEZONE
BEGIN:VEVENT
DTSTART;TZID=America/Chicago:20260313T080000
DTEND;TZID=America/Chicago:20260313T090000
DTSTAMP:20260420T235110
CREATED:20260212T043931Z
LAST-MODIFIED:20260313T053925Z
UID:10004677-1773388800-1773392400@eaglepointseniorliving.com
SUMMARY:Morning Melodies
DESCRIPTION:
URL:https://eaglepointseniorliving.com/event-calendar/morning-melodies-319/
CATEGORIES:Memory Care
END:VEVENT
BEGIN:VEVENT
DTSTART;TZID=America/Chicago:20260313T093000
DTEND;TZID=America/Chicago:20260313T100000
DTSTAMP:20260420T235110
CREATED:20260212T043931Z
LAST-MODIFIED:20260313T053926Z
UID:10004678-1773394200-1773396000@eaglepointseniorliving.com
SUMMARY:Fit While You Sit- Chair Exercise
DESCRIPTION:
URL:https://eaglepointseniorliving.com/event-calendar/fit-while-you-sit-chair-exercise-41/
CATEGORIES:Memory Care
END:VEVENT
BEGIN:VEVENT
DTSTART;TZID=America/Chicago:20260313T110000
DTEND;TZID=America/Chicago:20260313T114500
DTSTAMP:20260420T235110
CREATED:20260212T043931Z
LAST-MODIFIED:20260313T053926Z
UID:10004680-1773399600-1773402300@eaglepointseniorliving.com
SUMMARY:Coffee & Chats
DESCRIPTION:
URL:https://eaglepointseniorliving.com/event-calendar/coffee-chats/
CATEGORIES:Memory Care
END:VEVENT
BEGIN:VEVENT
DTSTART;TZID=America/Chicago:20260313T110000
DTEND;TZID=America/Chicago:20260313T114500
DTSTAMP:20260420T235110
CREATED:20260212T043931Z
LAST-MODIFIED:20260313T053927Z
UID:10004679-1773399600-1773402300@eaglepointseniorliving.com
SUMMARY:Puzzle Palooza
DESCRIPTION:
URL:https://eaglepointseniorliving.com/event-calendar/puzzle-palooza-10/
CATEGORIES:Memory Care
END:VEVENT
BEGIN:VEVENT
DTSTART;TZID=America/Chicago:20260313T120000
DTEND;TZID=America/Chicago:20260313T123000
DTSTAMP:20260420T235110
CREATED:20260212T043931Z
LAST-MODIFIED:20260313T053928Z
UID:10004681-1773403200-1773405000@eaglepointseniorliving.com
SUMMARY:Oshibori
DESCRIPTION:
URL:https://eaglepointseniorliving.com/event-calendar/oshibori-309/
CATEGORIES:Memory Care
END:VEVENT
BEGIN:VEVENT
DTSTART;TZID=America/Chicago:20260313T133000
DTEND;TZID=America/Chicago:20260313T140000
DTSTAMP:20260420T235110
CREATED:20260224T043957Z
LAST-MODIFIED:20260313T053929Z
UID:10004846-1773408600-1773410400@eaglepointseniorliving.com
SUMMARY:Today's Special   K-9 Veterans Day
DESCRIPTION:
URL:https://eaglepointseniorliving.com/event-calendar/todays-special-k-9-veterans-day/
LOCATION:Activity room
CATEGORIES:Memory Care
END:VEVENT
BEGIN:VEVENT
DTSTART;TZID=America/Chicago:20260313T140000
DTEND;TZID=America/Chicago:20260313T150000
DTSTAMP:20260420T235110
CREATED:20260212T043931Z
LAST-MODIFIED:20260313T053930Z
UID:10004682-1773410400-1773414000@eaglepointseniorliving.com
SUMMARY:Jeopardy
DESCRIPTION:
URL:https://eaglepointseniorliving.com/event-calendar/jeopardy-31/
LOCATION:Activity room
CATEGORIES:Memory Care
END:VEVENT
BEGIN:VEVENT
DTSTART;TZID=America/Chicago:20260313T150000
DTEND;TZID=America/Chicago:20260313T163000
DTSTAMP:20260420T235110
CREATED:20260212T043931Z
LAST-MODIFIED:20260313T053931Z
UID:10004683-1773414000-1773419400@eaglepointseniorliving.com
SUMMARY:Friday Fun Day-Gene Siskel and Roger Ebert made film criticism fun.
DESCRIPTION:
URL:https://eaglepointseniorliving.com/event-calendar/friday-fun-day-23/
LOCATION:Activity room
CATEGORIES:Memory Care
END:VEVENT
BEGIN:VEVENT
DTSTART;TZID=America/Chicago:20260313T153000
DTEND;TZID=America/Chicago:20260313T163000
DTSTAMP:20260420T235110
CREATED:20260306T044032Z
LAST-MODIFIED:20260313T053932Z
UID:10005017-1773415800-1773419400@eaglepointseniorliving.com
SUMMARY:Who Am I
DESCRIPTION:
URL:https://eaglepointseniorliving.com/event-calendar/who-am-i-5/
LOCATION:Activity room
CATEGORIES:Memory Care
END:VEVENT
BEGIN:VEVENT
DTSTART;TZID=America/Chicago:20260313T190000
DTEND;TZID=America/Chicago:20260313T191500
DTSTAMP:20260420T235110
CREATED:20260212T043932Z
LAST-MODIFIED:20260313T053933Z
UID:10004685-1773428400-1773429300@eaglepointseniorliving.com
SUMMARY:Snack Pass
DESCRIPTION:
URL:https://eaglepointseniorliving.com/event-calendar/snack-pass-202/
LOCATION:Dining Room
CATEGORIES:Memory Care
END:VEVENT
END:VCALENDAR