BEGIN:VCALENDAR
VERSION:2.0
PRODID:-//Eagle Point Senior Living - ECPv6.11.2.1//NONSGML v1.0//EN
CALSCALE:GREGORIAN
METHOD:PUBLISH
X-ORIGINAL-URL:https://eaglepointseniorliving.com
X-WR-CALDESC:Events for Eagle Point Senior Living
REFRESH-INTERVAL;VALUE=DURATION:PT1H
X-Robots-Tag:noindex
X-PUBLISHED-TTL:PT1H
BEGIN:VTIMEZONE
TZID:America/Chicago
BEGIN:DAYLIGHT
TZOFFSETFROM:-0600
TZOFFSETTO:-0500
TZNAME:CDT
DTSTART:20260308T080000
END:DAYLIGHT
BEGIN:STANDARD
TZOFFSETFROM:-0500
TZOFFSETTO:-0600
TZNAME:CST
DTSTART:20261101T070000
END:STANDARD
END:VTIMEZONE
BEGIN:VEVENT
DTSTART;TZID=America/Chicago:20260312T080000
DTEND;TZID=America/Chicago:20260312T090000
DTSTAMP:20260420T235228
CREATED:20260211T043933Z
LAST-MODIFIED:20260312T052423Z
UID:10004656-1773302400-1773306000@eaglepointseniorliving.com
SUMMARY:Morning Melodies
DESCRIPTION:
URL:https://eaglepointseniorliving.com/event-calendar/morning-melodies-318/
CATEGORIES:Memory Care
END:VEVENT
BEGIN:VEVENT
DTSTART;TZID=America/Chicago:20260312T093000
DTEND;TZID=America/Chicago:20260312T100000
DTSTAMP:20260420T235228
CREATED:20260211T043933Z
LAST-MODIFIED:20260312T052423Z
UID:10004657-1773307800-1773309600@eaglepointseniorliving.com
SUMMARY:News Currents-“Survival of the Slowest”
DESCRIPTION:
URL:https://eaglepointseniorliving.com/event-calendar/news-currents-33/
LOCATION:Activity room
CATEGORIES:Memory Care
END:VEVENT
BEGIN:VEVENT
DTSTART;TZID=America/Chicago:20260312T100000
DTEND;TZID=America/Chicago:20260312T110000
DTSTAMP:20260420T235228
CREATED:20260211T043933Z
LAST-MODIFIED:20260312T052423Z
UID:10004658-1773309600-1773313200@eaglepointseniorliving.com
SUMMARY:Daily Spirit Spark
DESCRIPTION:Various spiritual topics and activities with Chaplain Peter.
URL:https://eaglepointseniorliving.com/event-calendar/daily-spirit-spark-116/
CATEGORIES:Memory Care
END:VEVENT
BEGIN:VEVENT
DTSTART;TZID=America/Chicago:20260312T110000
DTEND;TZID=America/Chicago:20260312T233000
DTSTAMP:20260420T235228
CREATED:20260312T052422Z
LAST-MODIFIED:20260312T052424Z
UID:10005100-1773313200-1773358200@eaglepointseniorliving.com
SUMMARY:Today is Special-World Kidney Day
DESCRIPTION:
URL:https://eaglepointseniorliving.com/event-calendar/today-is-special-world-kidney-day/
LOCATION:Activity room
CATEGORIES:Memory Care
END:VEVENT
BEGIN:VEVENT
DTSTART;TZID=America/Chicago:20260312T120000
DTEND;TZID=America/Chicago:20260312T123000
DTSTAMP:20260420T235228
CREATED:20260211T043933Z
LAST-MODIFIED:20260312T052424Z
UID:10004660-1773316800-1773318600@eaglepointseniorliving.com
SUMMARY:Oshibori
DESCRIPTION:
URL:https://eaglepointseniorliving.com/event-calendar/oshibori-308/
CATEGORIES:Memory Care
END:VEVENT
BEGIN:VEVENT
DTSTART;TZID=America/Chicago:20260312T143000
DTEND;TZID=America/Chicago:20260312T153000
DTSTAMP:20260420T235228
CREATED:20260211T043933Z
LAST-MODIFIED:20260312T052424Z
UID:10004661-1773325800-1773329400@eaglepointseniorliving.com
SUMMARY:Spin the Wheel and Solve
DESCRIPTION:
URL:https://eaglepointseniorliving.com/event-calendar/spin-the-wheel-and-solve-3/
LOCATION:Activity room
CATEGORIES:Memory Care
END:VEVENT
BEGIN:VEVENT
DTSTART;TZID=America/Chicago:20260312T153000
DTEND;TZID=America/Chicago:20260312T163000
DTSTAMP:20260420T235228
CREATED:20260211T043933Z
LAST-MODIFIED:20260312T052424Z
UID:10004662-1773329400-1773333000@eaglepointseniorliving.com
SUMMARY:Animal of the Month-Bottlenose Dolphin
DESCRIPTION:
URL:https://eaglepointseniorliving.com/event-calendar/read-a-long-2/
LOCATION:Activity room
CATEGORIES:Memory Care
END:VEVENT
BEGIN:VEVENT
DTSTART;TZID=America/Chicago:20260312T173000
DTEND;TZID=America/Chicago:20260312T183000
DTSTAMP:20260420T235228
CREATED:20260211T043933Z
LAST-MODIFIED:20260312T052424Z
UID:10004663-1773336600-1773340200@eaglepointseniorliving.com
SUMMARY:Bingo with B!
DESCRIPTION:
URL:https://eaglepointseniorliving.com/event-calendar/bingo-with-b-6/
LOCATION:Activity room
CATEGORIES:Memory Care
END:VEVENT
BEGIN:VEVENT
DTSTART;TZID=America/Chicago:20260312T183000
DTEND;TZID=America/Chicago:20260312T191500
DTSTAMP:20260420T235228
CREATED:20260211T043933Z
LAST-MODIFIED:20260312T052424Z
UID:10004664-1773340200-1773342900@eaglepointseniorliving.com
SUMMARY:Creative Coloring
DESCRIPTION:
URL:https://eaglepointseniorliving.com/event-calendar/creative-coloring-13/
CATEGORIES:Memory Care
END:VEVENT
BEGIN:VEVENT
DTSTART;TZID=America/Chicago:20260312T190000
DTEND;TZID=America/Chicago:20260312T191500
DTSTAMP:20260420T235228
CREATED:20260211T043933Z
LAST-MODIFIED:20260312T052424Z
UID:10004665-1773342000-1773342900@eaglepointseniorliving.com
SUMMARY:Snack Pass
DESCRIPTION:
URL:https://eaglepointseniorliving.com/event-calendar/snack-pass-201/
LOCATION:Dining Room
CATEGORIES:Memory Care
END:VEVENT
END:VCALENDAR