BEGIN:VCALENDAR
VERSION:2.0
PRODID:-//Eagle Point Senior Living - ECPv6.11.2.1//NONSGML v1.0//EN
CALSCALE:GREGORIAN
METHOD:PUBLISH
X-WR-CALNAME:Eagle Point Senior Living
X-ORIGINAL-URL:https://eaglepointseniorliving.com
X-WR-CALDESC:Events for Eagle Point Senior Living
REFRESH-INTERVAL;VALUE=DURATION:PT1H
X-Robots-Tag:noindex
X-PUBLISHED-TTL:PT1H
BEGIN:VTIMEZONE
TZID:America/Chicago
BEGIN:DAYLIGHT
TZOFFSETFROM:-0600
TZOFFSETTO:-0500
TZNAME:CDT
DTSTART:20260308T080000
END:DAYLIGHT
BEGIN:STANDARD
TZOFFSETFROM:-0500
TZOFFSETTO:-0600
TZNAME:CST
DTSTART:20261101T070000
END:STANDARD
END:VTIMEZONE
BEGIN:VEVENT
DTSTART;TZID=America/Chicago:20260309T080000
DTEND;TZID=America/Chicago:20260309T090000
DTSTAMP:20260420T235049
CREATED:20260208T040946Z
LAST-MODIFIED:20260309T051022Z
UID:10004605-1773043200-1773046800@eaglepointseniorliving.com
SUMMARY:Morning Melodies
DESCRIPTION:
URL:https://eaglepointseniorliving.com/event-calendar/morning-melodies-315/
CATEGORIES:Memory Care
END:VEVENT
BEGIN:VEVENT
DTSTART;TZID=America/Chicago:20260309T093000
DTEND;TZID=America/Chicago:20260309T100000
DTSTAMP:20260420T235049
CREATED:20260208T040946Z
LAST-MODIFIED:20260309T051022Z
UID:10004606-1773048600-1773050400@eaglepointseniorliving.com
SUMMARY:Fit While You Sit- Chair Exercise
DESCRIPTION:
URL:https://eaglepointseniorliving.com/event-calendar/fit-while-you-sit-chair-exercise-38/
CATEGORIES:Memory Care
END:VEVENT
BEGIN:VEVENT
DTSTART;TZID=America/Chicago:20260309T110000
DTEND;TZID=America/Chicago:20260309T114500
DTSTAMP:20260420T235049
CREATED:20260208T040946Z
LAST-MODIFIED:20260309T051022Z
UID:10004607-1773054000-1773056700@eaglepointseniorliving.com
SUMMARY:Wheel Of Fortune
DESCRIPTION:
URL:https://eaglepointseniorliving.com/event-calendar/wheel-of-fortune-39/
CATEGORIES:Memory Care
END:VEVENT
BEGIN:VEVENT
DTSTART;TZID=America/Chicago:20260309T120000
DTEND;TZID=America/Chicago:20260309T123000
DTSTAMP:20260420T235049
CREATED:20260208T040946Z
LAST-MODIFIED:20260309T051022Z
UID:10004608-1773057600-1773059400@eaglepointseniorliving.com
SUMMARY:Oshibori
DESCRIPTION:
URL:https://eaglepointseniorliving.com/event-calendar/oshibori-305/
CATEGORIES:Memory Care
END:VEVENT
BEGIN:VEVENT
DTSTART;TZID=America/Chicago:20260309T140000
DTEND;TZID=America/Chicago:20260309T150000
DTSTAMP:20260420T235049
CREATED:20260221T043929Z
LAST-MODIFIED:20260309T051022Z
UID:10004800-1773064800-1773068400@eaglepointseniorliving.com
SUMMARY:Piano Music with Vicki
DESCRIPTION:
URL:https://eaglepointseniorliving.com/event-calendar/piano-music-with-vicki-3/
CATEGORIES:Memory Care
END:VEVENT
BEGIN:VEVENT
DTSTART;TZID=America/Chicago:20260309T173000
DTEND;TZID=America/Chicago:20260309T183000
DTSTAMP:20260420T235049
CREATED:20260208T040946Z
LAST-MODIFIED:20260309T051022Z
UID:10004612-1773077400-1773081000@eaglepointseniorliving.com
SUMMARY:Game Night
DESCRIPTION:
URL:https://eaglepointseniorliving.com/event-calendar/game-night-5/
LOCATION:Activity room
CATEGORIES:Memory Care
END:VEVENT
BEGIN:VEVENT
DTSTART;TZID=America/Chicago:20260309T190000
DTEND;TZID=America/Chicago:20260309T191500
DTSTAMP:20260420T235049
CREATED:20260208T040946Z
LAST-MODIFIED:20260309T051022Z
UID:10004613-1773082800-1773083700@eaglepointseniorliving.com
SUMMARY:Snack Pass
DESCRIPTION:
URL:https://eaglepointseniorliving.com/event-calendar/snack-pass-198/
LOCATION:Dining Room
CATEGORIES:Memory Care
END:VEVENT
END:VCALENDAR