BEGIN:VCALENDAR
VERSION:2.0
PRODID:-//Eagle Point Senior Living - ECPv6.11.2.1//NONSGML v1.0//EN
CALSCALE:GREGORIAN
METHOD:PUBLISH
X-WR-CALNAME:Eagle Point Senior Living
X-ORIGINAL-URL:https://eaglepointseniorliving.com
X-WR-CALDESC:Events for Eagle Point Senior Living
REFRESH-INTERVAL;VALUE=DURATION:PT1H
X-Robots-Tag:noindex
X-PUBLISHED-TTL:PT1H
BEGIN:VTIMEZONE
TZID:America/Chicago
BEGIN:DAYLIGHT
TZOFFSETFROM:-0600
TZOFFSETTO:-0500
TZNAME:CDT
DTSTART:20260308T080000
END:DAYLIGHT
BEGIN:STANDARD
TZOFFSETFROM:-0500
TZOFFSETTO:-0600
TZNAME:CST
DTSTART:20261101T070000
END:STANDARD
END:VTIMEZONE
BEGIN:VEVENT
DTSTART;TZID=America/Chicago:20260306T080000
DTEND;TZID=America/Chicago:20260306T090000
DTSTAMP:20260420T234957
CREATED:20260205T034342Z
LAST-MODIFIED:20260306T044029Z
UID:10004569-1772784000-1772787600@eaglepointseniorliving.com
SUMMARY:Morning Melodies
DESCRIPTION:
URL:https://eaglepointseniorliving.com/event-calendar/morning-melodies-312/
CATEGORIES:Memory Care
END:VEVENT
BEGIN:VEVENT
DTSTART;TZID=America/Chicago:20260306T093000
DTEND;TZID=America/Chicago:20260306T100000
DTSTAMP:20260420T234957
CREATED:20260205T034342Z
LAST-MODIFIED:20260306T044029Z
UID:10004570-1772789400-1772791200@eaglepointseniorliving.com
SUMMARY:Fit While You Sit- Chair Exercise
DESCRIPTION:
URL:https://eaglepointseniorliving.com/event-calendar/fit-while-you-sit-chair-exercise-37/
CATEGORIES:Memory Care
END:VEVENT
BEGIN:VEVENT
DTSTART;TZID=America/Chicago:20260306T110000
DTEND;TZID=America/Chicago:20260306T114500
DTSTAMP:20260420T234957
CREATED:20260205T034342Z
LAST-MODIFIED:20260306T044029Z
UID:10004571-1772794800-1772797500@eaglepointseniorliving.com
SUMMARY:Puzzle Palooza
DESCRIPTION:
URL:https://eaglepointseniorliving.com/event-calendar/puzzle-palooza-9/
CATEGORIES:Memory Care
END:VEVENT
BEGIN:VEVENT
DTSTART;TZID=America/Chicago:20260306T110000
DTEND;TZID=America/Chicago:20260306T114500
DTSTAMP:20260420T234957
CREATED:20260205T034342Z
LAST-MODIFIED:20260306T044029Z
UID:10004572-1772794800-1772797500@eaglepointseniorliving.com
SUMMARY:Coffee & Chats
DESCRIPTION:
URL:https://eaglepointseniorliving.com/event-calendar/social-coffee-chats-5/
CATEGORIES:Memory Care
END:VEVENT
BEGIN:VEVENT
DTSTART;TZID=America/Chicago:20260306T120000
DTEND;TZID=America/Chicago:20260306T123000
DTSTAMP:20260420T234957
CREATED:20260205T034342Z
LAST-MODIFIED:20260306T044029Z
UID:10004573-1772798400-1772800200@eaglepointseniorliving.com
SUMMARY:Oshibori
DESCRIPTION:
URL:https://eaglepointseniorliving.com/event-calendar/oshibori-304/
CATEGORIES:Memory Care
END:VEVENT
BEGIN:VEVENT
DTSTART;TZID=America/Chicago:20260306T133000
DTEND;TZID=America/Chicago:20260306T143000
DTSTAMP:20260420T234957
CREATED:20260306T044026Z
LAST-MODIFIED:20260306T044029Z
UID:10005015-1772803800-1772807400@eaglepointseniorliving.com
SUMMARY:An Afternoon with Wayne Newton
DESCRIPTION:
URL:https://eaglepointseniorliving.com/event-calendar/an-afternoon-with-wayne-newton/
LOCATION:Activity room
CATEGORIES:Memory Care
END:VEVENT
BEGIN:VEVENT
DTSTART;TZID=America/Chicago:20260306T143000
DTEND;TZID=America/Chicago:20260306T153000
DTSTAMP:20260420T234957
CREATED:20260205T034342Z
LAST-MODIFIED:20260306T044029Z
UID:10004574-1772807400-1772811000@eaglepointseniorliving.com
SUMMARY:Jeopardy
DESCRIPTION:
URL:https://eaglepointseniorliving.com/event-calendar/jeopardy-30/
LOCATION:Activity room
CATEGORIES:Memory Care
END:VEVENT
BEGIN:VEVENT
DTSTART;TZID=America/Chicago:20260306T153000
DTEND;TZID=America/Chicago:20260306T163000
DTSTAMP:20260420T234957
CREATED:20260306T044027Z
LAST-MODIFIED:20260306T044030Z
UID:10005016-1772811000-1772814600@eaglepointseniorliving.com
SUMMARY:Who Am I
DESCRIPTION:
URL:https://eaglepointseniorliving.com/event-calendar/who-am-i-4/
LOCATION:Activity room
CATEGORIES:Memory Care
END:VEVENT
BEGIN:VEVENT
DTSTART;TZID=America/Chicago:20260306T190000
DTEND;TZID=America/Chicago:20260306T191500
DTSTAMP:20260420T234957
CREATED:20260205T034342Z
LAST-MODIFIED:20260306T044030Z
UID:10004576-1772823600-1772824500@eaglepointseniorliving.com
SUMMARY:Snack Pass
DESCRIPTION:
URL:https://eaglepointseniorliving.com/event-calendar/snack-pass-195/
LOCATION:Dining Room
CATEGORIES:Memory Care
END:VEVENT
END:VCALENDAR