BEGIN:VCALENDAR
VERSION:2.0
PRODID:-//Eagle Point Senior Living - ECPv6.11.2.1//NONSGML v1.0//EN
CALSCALE:GREGORIAN
METHOD:PUBLISH
X-WR-CALNAME:Eagle Point Senior Living
X-ORIGINAL-URL:https://eaglepointseniorliving.com
X-WR-CALDESC:Events for Eagle Point Senior Living
REFRESH-INTERVAL;VALUE=DURATION:PT1H
X-Robots-Tag:noindex
X-PUBLISHED-TTL:PT1H
BEGIN:VTIMEZONE
TZID:America/Chicago
BEGIN:DAYLIGHT
TZOFFSETFROM:-0600
TZOFFSETTO:-0500
TZNAME:CDT
DTSTART:20260308T080000
END:DAYLIGHT
BEGIN:STANDARD
TZOFFSETFROM:-0500
TZOFFSETTO:-0600
TZNAME:CST
DTSTART:20261101T070000
END:STANDARD
END:VTIMEZONE
BEGIN:VEVENT
DTSTART;TZID=America/Chicago:20260304T080000
DTEND;TZID=America/Chicago:20260304T090000
DTSTAMP:20260420T234957
CREATED:20260203T030937Z
LAST-MODIFIED:20260304T043923Z
UID:10004510-1772611200-1772614800@eaglepointseniorliving.com
SUMMARY:Morning Melodies
DESCRIPTION:
URL:https://eaglepointseniorliving.com/event-calendar/morning-melodies-310/
CATEGORIES:Memory Care
END:VEVENT
BEGIN:VEVENT
DTSTART;TZID=America/Chicago:20260304T093000
DTEND;TZID=America/Chicago:20260304T100000
DTSTAMP:20260420T234957
CREATED:20260203T030938Z
LAST-MODIFIED:20260304T043923Z
UID:10004512-1772616600-1772618400@eaglepointseniorliving.com
SUMMARY:Fit While You Sit- Chair Exercise
DESCRIPTION:
URL:https://eaglepointseniorliving.com/event-calendar/fit-while-you-sit-chair-exercise-36/
CATEGORIES:Memory Care
END:VEVENT
BEGIN:VEVENT
DTSTART;TZID=America/Chicago:20260304T100000
DTEND;TZID=America/Chicago:20260304T103000
DTSTAMP:20260420T234957
CREATED:20260203T030938Z
LAST-MODIFIED:20260304T043923Z
UID:10004511-1772618400-1772620200@eaglepointseniorliving.com
SUMMARY:Weekly Worship
DESCRIPTION:Christian worship service with communion led by Chaplain Peter.
URL:https://eaglepointseniorliving.com/event-calendar/weekly-worship-38/
CATEGORIES:Memory Care
END:VEVENT
BEGIN:VEVENT
DTSTART;TZID=America/Chicago:20260304T120000
DTEND;TZID=America/Chicago:20260304T123000
DTSTAMP:20260420T234957
CREATED:20260203T030938Z
LAST-MODIFIED:20260304T043923Z
UID:10004513-1772625600-1772627400@eaglepointseniorliving.com
SUMMARY:Oshibori
DESCRIPTION:
URL:https://eaglepointseniorliving.com/event-calendar/oshibori-302/
CATEGORIES:Memory Care
END:VEVENT
BEGIN:VEVENT
DTSTART;TZID=America/Chicago:20260304T133000
DTEND;TZID=America/Chicago:20260304T141500
DTSTAMP:20260420T234957
CREATED:20260203T030938Z
LAST-MODIFIED:20260304T043923Z
UID:10004514-1772631000-1772633700@eaglepointseniorliving.com
SUMMARY:Active Games & Phyical Movement Activity
DESCRIPTION:
URL:https://eaglepointseniorliving.com/event-calendar/active-games-phyical-movement-activity-23/
LOCATION:Activity room
CATEGORIES:Memory Care
END:VEVENT
BEGIN:VEVENT
DTSTART;TZID=America/Chicago:20260304T143000
DTEND;TZID=America/Chicago:20260304T151500
DTSTAMP:20260420T234957
CREATED:20260203T030938Z
LAST-MODIFIED:20260304T043923Z
UID:10004515-1772634600-1772637300@eaglepointseniorliving.com
SUMMARY:Short Stories-Chicken Soup for the Soul
DESCRIPTION:
URL:https://eaglepointseniorliving.com/event-calendar/short-stories-chicken-soup-for-the-soul/
LOCATION:Fireplace Room
CATEGORIES:Memory Care
END:VEVENT
BEGIN:VEVENT
DTSTART;TZID=America/Chicago:20260304T151500
DTEND;TZID=America/Chicago:20260304T160000
DTSTAMP:20260420T234957
CREATED:20260203T030938Z
LAST-MODIFIED:20260304T043923Z
UID:10004516-1772637300-1772640000@eaglepointseniorliving.com
SUMMARY:March Trivia & "We go together like..."
DESCRIPTION:
URL:https://eaglepointseniorliving.com/event-calendar/monthly-trivia-word-games-2/
LOCATION:Activity room
CATEGORIES:Memory Care
END:VEVENT
BEGIN:VEVENT
DTSTART;TZID=America/Chicago:20260304T173000
DTEND;TZID=America/Chicago:20260304T180000
DTSTAMP:20260420T234957
CREATED:20260203T030938Z
LAST-MODIFIED:20260304T043923Z
UID:10004517-1772645400-1772647200@eaglepointseniorliving.com
SUMMARY:Current Events-Monthly Gazette Read-a-long
DESCRIPTION:
URL:https://eaglepointseniorliving.com/event-calendar/current-events-monthly-gazette-read-a-long/
LOCATION:Dining Room
CATEGORIES:Memory Care
END:VEVENT
BEGIN:VEVENT
DTSTART;TZID=America/Chicago:20260304T180000
DTEND;TZID=America/Chicago:20260304T183000
DTSTAMP:20260420T234957
CREATED:20260203T030938Z
LAST-MODIFIED:20260304T043923Z
UID:10004518-1772647200-1772649000@eaglepointseniorliving.com
SUMMARY:Tabletop Games-Puzzles-Art Coloring
DESCRIPTION:
URL:https://eaglepointseniorliving.com/event-calendar/tabletop-games-puzzles-art-coloring-4/
LOCATION:Dining Room
CATEGORIES:Memory Care
END:VEVENT
BEGIN:VEVENT
DTSTART;TZID=America/Chicago:20260304T183000
DTEND;TZID=America/Chicago:20260304T190000
DTSTAMP:20260420T234957
CREATED:20260203T030938Z
LAST-MODIFIED:20260304T043923Z
UID:10004519-1772649000-1772650800@eaglepointseniorliving.com
SUMMARY:Comedy Hour
DESCRIPTION:
URL:https://eaglepointseniorliving.com/event-calendar/the-lucy-show/
LOCATION:Dining Room
CATEGORIES:Memory Care
END:VEVENT
BEGIN:VEVENT
DTSTART;TZID=America/Chicago:20260304T190000
DTEND;TZID=America/Chicago:20260304T191500
DTSTAMP:20260420T234957
CREATED:20260203T030938Z
LAST-MODIFIED:20260304T043934Z
UID:10004520-1772650800-1772651700@eaglepointseniorliving.com
SUMMARY:Snack Pass
DESCRIPTION:
URL:https://eaglepointseniorliving.com/event-calendar/snack-pass-193/
LOCATION:Dining Room
CATEGORIES:Memory Care
END:VEVENT
END:VCALENDAR