BEGIN:VCALENDAR
VERSION:2.0
PRODID:-//Eagle Point Senior Living - ECPv6.11.2.1//NONSGML v1.0//EN
CALSCALE:GREGORIAN
METHOD:PUBLISH
X-ORIGINAL-URL:https://eaglepointseniorliving.com
X-WR-CALDESC:Events for Eagle Point Senior Living
REFRESH-INTERVAL;VALUE=DURATION:PT1H
X-Robots-Tag:noindex
X-PUBLISHED-TTL:PT1H
BEGIN:VTIMEZONE
TZID:America/Chicago
BEGIN:DAYLIGHT
TZOFFSETFROM:-0600
TZOFFSETTO:-0500
TZNAME:CDT
DTSTART:20260308T080000
END:DAYLIGHT
BEGIN:STANDARD
TZOFFSETFROM:-0500
TZOFFSETTO:-0600
TZNAME:CST
DTSTART:20261101T070000
END:STANDARD
END:VTIMEZONE
BEGIN:VEVENT
DTSTART;TZID=America/Chicago:20260228T080000
DTEND;TZID=America/Chicago:20260228T090000
DTSTAMP:20260421T013339
CREATED:20260130T025437Z
LAST-MODIFIED:20260228T043924Z
UID:10004437-1772265600-1772269200@eaglepointseniorliving.com
SUMMARY:Morning Melodies
DESCRIPTION:
URL:https://eaglepointseniorliving.com/event-calendar/morning-melodies-306/
CATEGORIES:Memory Care
END:VEVENT
BEGIN:VEVENT
DTSTART;TZID=America/Chicago:20260228T100000
DTEND;TZID=America/Chicago:20260228T103000
DTSTAMP:20260421T013339
CREATED:20260214T043928Z
LAST-MODIFIED:20260228T043924Z
UID:10004699-1772272800-1772274600@eaglepointseniorliving.com
SUMMARY:Morning Doughnuts & Social
DESCRIPTION:
URL:https://eaglepointseniorliving.com/event-calendar/morning-doughnuts-social-12/
LOCATION:Dining Room
CATEGORIES:Memory Care
END:VEVENT
BEGIN:VEVENT
DTSTART;TZID=America/Chicago:20260228T100000
DTEND;TZID=America/Chicago:20260228T110000
DTSTAMP:20260421T013339
CREATED:20260130T025437Z
LAST-MODIFIED:20260228T043924Z
UID:10004438-1772272800-1772276400@eaglepointseniorliving.com
SUMMARY:Special Day SAFARI Saturday
DESCRIPTION:
URL:https://eaglepointseniorliving.com/event-calendar/special-day-recognition-5/
LOCATION:Activity room
CATEGORIES:Memory Care
END:VEVENT
BEGIN:VEVENT
DTSTART;TZID=America/Chicago:20260228T110000
DTEND;TZID=America/Chicago:20260228T113000
DTSTAMP:20260421T013339
CREATED:20260130T025438Z
LAST-MODIFIED:20260228T043924Z
UID:10004439-1772276400-1772278200@eaglepointseniorliving.com
SUMMARY:Saturday Morning Glorious Giraffes
DESCRIPTION:
URL:https://eaglepointseniorliving.com/event-calendar/saturday-morning-funnies-and-songs-2/
LOCATION:Dining Room
CATEGORIES:Memory Care
END:VEVENT
BEGIN:VEVENT
DTSTART;TZID=America/Chicago:20260228T140000
DTEND;TZID=America/Chicago:20260228T150000
DTSTAMP:20260421T013339
CREATED:20260130T025438Z
LAST-MODIFIED:20260228T043924Z
UID:10004440-1772287200-1772290800@eaglepointseniorliving.com
SUMMARY:Reminisce
DESCRIPTION:
URL:https://eaglepointseniorliving.com/event-calendar/reminisce-84/
CATEGORIES:Memory Care
END:VEVENT
BEGIN:VEVENT
DTSTART;TZID=America/Chicago:20260228T180000
DTEND;TZID=America/Chicago:20260228T190000
DTSTAMP:20260421T013339
CREATED:20260130T025438Z
LAST-MODIFIED:20260228T043924Z
UID:10004441-1772301600-1772305200@eaglepointseniorliving.com
SUMMARY:Movie & A Snack
DESCRIPTION:
URL:https://eaglepointseniorliving.com/event-calendar/movie-a-snack-42/
CATEGORIES:Memory Care
END:VEVENT
BEGIN:VEVENT
DTSTART;TZID=America/Chicago:20260228T190000
DTEND;TZID=America/Chicago:20260228T191500
DTSTAMP:20260421T013339
CREATED:20260130T025438Z
LAST-MODIFIED:20260228T043924Z
UID:10004442-1772305200-1772306100@eaglepointseniorliving.com
SUMMARY:Snack Pass
DESCRIPTION:
URL:https://eaglepointseniorliving.com/event-calendar/snack-pass-189/
LOCATION:Dining Room
CATEGORIES:Memory Care
END:VEVENT
END:VCALENDAR