BEGIN:VCALENDAR
VERSION:2.0
PRODID:-//Eagle Point Senior Living - ECPv6.11.2.1//NONSGML v1.0//EN
CALSCALE:GREGORIAN
METHOD:PUBLISH
X-WR-CALNAME:Eagle Point Senior Living
X-ORIGINAL-URL:https://eaglepointseniorliving.com
X-WR-CALDESC:Events for Eagle Point Senior Living
REFRESH-INTERVAL;VALUE=DURATION:PT1H
X-Robots-Tag:noindex
X-PUBLISHED-TTL:PT1H
BEGIN:VTIMEZONE
TZID:America/Chicago
BEGIN:DAYLIGHT
TZOFFSETFROM:-0600
TZOFFSETTO:-0500
TZNAME:CDT
DTSTART:20260308T080000
END:DAYLIGHT
BEGIN:STANDARD
TZOFFSETFROM:-0500
TZOFFSETTO:-0600
TZNAME:CST
DTSTART:20261101T070000
END:STANDARD
END:VTIMEZONE
BEGIN:VEVENT
DTSTART;TZID=America/Chicago:20260227T080000
DTEND;TZID=America/Chicago:20260227T090000
DTSTAMP:20260421T013155
CREATED:20260129T025432Z
LAST-MODIFIED:20260227T043926Z
UID:10004422-1772179200-1772182800@eaglepointseniorliving.com
SUMMARY:Morning Melodies
DESCRIPTION:
URL:https://eaglepointseniorliving.com/event-calendar/morning-melodies-305/
CATEGORIES:Memory Care
END:VEVENT
BEGIN:VEVENT
DTSTART;TZID=America/Chicago:20260227T093000
DTEND;TZID=America/Chicago:20260227T100000
DTSTAMP:20260421T013155
CREATED:20260129T025432Z
LAST-MODIFIED:20260227T043926Z
UID:10004423-1772184600-1772186400@eaglepointseniorliving.com
SUMMARY:Fit While You Sit- Chair Exercise
DESCRIPTION:
URL:https://eaglepointseniorliving.com/event-calendar/fit-while-you-sit-chair-exercise-33/
CATEGORIES:Memory Care
END:VEVENT
BEGIN:VEVENT
DTSTART;TZID=America/Chicago:20260227T110000
DTEND;TZID=America/Chicago:20260227T114500
DTSTAMP:20260421T013155
CREATED:20260129T025432Z
LAST-MODIFIED:20260227T043926Z
UID:10004424-1772190000-1772192700@eaglepointseniorliving.com
SUMMARY:Puzzle Palooza
DESCRIPTION:
URL:https://eaglepointseniorliving.com/event-calendar/puzzle-palooza-8/
CATEGORIES:Memory Care
END:VEVENT
BEGIN:VEVENT
DTSTART;TZID=America/Chicago:20260227T120000
DTEND;TZID=America/Chicago:20260227T123000
DTSTAMP:20260421T013155
CREATED:20260129T025432Z
LAST-MODIFIED:20260227T043926Z
UID:10004425-1772193600-1772195400@eaglepointseniorliving.com
SUMMARY:Oshibori
DESCRIPTION:
URL:https://eaglepointseniorliving.com/event-calendar/oshibori-299/
CATEGORIES:Memory Care
END:VEVENT
BEGIN:VEVENT
DTSTART;TZID=America/Chicago:20260227T140000
DTEND;TZID=America/Chicago:20260227T143000
DTSTAMP:20260421T013155
CREATED:20260131T025431Z
LAST-MODIFIED:20260227T043926Z
UID:10004472-1772200800-1772202600@eaglepointseniorliving.com
SUMMARY:Jeopardy
DESCRIPTION:
URL:https://eaglepointseniorliving.com/event-calendar/jeopardy-28/
LOCATION:Activity room
CATEGORIES:Memory Care
END:VEVENT
BEGIN:VEVENT
DTSTART;TZID=America/Chicago:20260227T143000
DTEND;TZID=America/Chicago:20260227T153000
DTSTAMP:20260421T013155
CREATED:20260129T025432Z
LAST-MODIFIED:20260227T043926Z
UID:10004426-1772202600-1772206200@eaglepointseniorliving.com
SUMMARY:Friday Fun Day-Wallace and Gromit Afternoon
DESCRIPTION:
URL:https://eaglepointseniorliving.com/event-calendar/friday-fun-day-21/
LOCATION:Activity room
CATEGORIES:Memory Care
END:VEVENT
BEGIN:VEVENT
DTSTART;TZID=America/Chicago:20260227T150000
DTEND;TZID=America/Chicago:20260227T163000
DTSTAMP:20260421T013155
CREATED:20260212T043927Z
LAST-MODIFIED:20260227T043926Z
UID:10004675-1772204400-1772209800@eaglepointseniorliving.com
SUMMARY:Friday Afternoon Sing A Long
DESCRIPTION:
URL:https://eaglepointseniorliving.com/event-calendar/friday-afternoon-sing-a-long-3/
LOCATION:Activity room
CATEGORIES:Memory Care
END:VEVENT
BEGIN:VEVENT
DTSTART;TZID=America/Chicago:20260227T190000
DTEND;TZID=America/Chicago:20260227T191500
DTSTAMP:20260421T013155
CREATED:20260129T025432Z
LAST-MODIFIED:20260227T043926Z
UID:10004427-1772218800-1772219700@eaglepointseniorliving.com
SUMMARY:Snack Pass
DESCRIPTION:
URL:https://eaglepointseniorliving.com/event-calendar/snack-pass-188/
LOCATION:Dining Room
CATEGORIES:Memory Care
END:VEVENT
END:VCALENDAR