BEGIN:VCALENDAR
VERSION:2.0
PRODID:-//Eagle Point Senior Living - ECPv6.11.2.1//NONSGML v1.0//EN
CALSCALE:GREGORIAN
METHOD:PUBLISH
X-ORIGINAL-URL:https://eaglepointseniorliving.com
X-WR-CALDESC:Events for Eagle Point Senior Living
REFRESH-INTERVAL;VALUE=DURATION:PT1H
X-Robots-Tag:noindex
X-PUBLISHED-TTL:PT1H
BEGIN:VTIMEZONE
TZID:America/Chicago
BEGIN:DAYLIGHT
TZOFFSETFROM:-0600
TZOFFSETTO:-0500
TZNAME:CDT
DTSTART:20260308T080000
END:DAYLIGHT
BEGIN:STANDARD
TZOFFSETFROM:-0500
TZOFFSETTO:-0600
TZNAME:CST
DTSTART:20261101T070000
END:STANDARD
END:VTIMEZONE
BEGIN:VEVENT
DTSTART;TZID=America/Chicago:20260226T080000
DTEND;TZID=America/Chicago:20260226T090000
DTSTAMP:20260421T013456
CREATED:20260128T025505Z
LAST-MODIFIED:20260226T043924Z
UID:10004404-1772092800-1772096400@eaglepointseniorliving.com
SUMMARY:Morning Melodies
DESCRIPTION:
URL:https://eaglepointseniorliving.com/event-calendar/morning-melodies-304/
CATEGORIES:Memory Care
END:VEVENT
BEGIN:VEVENT
DTSTART;TZID=America/Chicago:20260226T093000
DTEND;TZID=America/Chicago:20260226T100000
DTSTAMP:20260421T013456
CREATED:20260128T025505Z
LAST-MODIFIED:20260226T043924Z
UID:10004405-1772098200-1772100000@eaglepointseniorliving.com
SUMMARY:News Currents-Rare Albatross Spotted Far From Home
DESCRIPTION:
URL:https://eaglepointseniorliving.com/event-calendar/news-currents-31/
LOCATION:Activity room
CATEGORIES:Memory Care
END:VEVENT
BEGIN:VEVENT
DTSTART;TZID=America/Chicago:20260226T100000
DTEND;TZID=America/Chicago:20260226T110000
DTSTAMP:20260421T013456
CREATED:20260128T025505Z
LAST-MODIFIED:20260226T043924Z
UID:10004406-1772100000-1772103600@eaglepointseniorliving.com
SUMMARY:Daily Spirit Spark
DESCRIPTION:Various spiritual topics and activities with Chaplain Peter.
URL:https://eaglepointseniorliving.com/event-calendar/daily-spirit-spark-112/
CATEGORIES:Memory Care
END:VEVENT
BEGIN:VEVENT
DTSTART;TZID=America/Chicago:20260226T110000
DTEND;TZID=America/Chicago:20260226T113000
DTSTAMP:20260421T013456
CREATED:20260128T025505Z
LAST-MODIFIED:20260226T043924Z
UID:10004407-1772103600-1772105400@eaglepointseniorliving.com
SUMMARY:Today's Special-World Pistachio Day
DESCRIPTION:
URL:https://eaglepointseniorliving.com/event-calendar/todays-special-19/
LOCATION:Activity room
CATEGORIES:Memory Care
END:VEVENT
BEGIN:VEVENT
DTSTART;TZID=America/Chicago:20260226T120000
DTEND;TZID=America/Chicago:20260226T123000
DTSTAMP:20260421T013456
CREATED:20260128T025505Z
LAST-MODIFIED:20260226T043924Z
UID:10004408-1772107200-1772109000@eaglepointseniorliving.com
SUMMARY:Oshibori
DESCRIPTION:
URL:https://eaglepointseniorliving.com/event-calendar/oshibori-298/
CATEGORIES:Memory Care
END:VEVENT
BEGIN:VEVENT
DTSTART;TZID=America/Chicago:20260226T143000
DTEND;TZID=America/Chicago:20260226T153000
DTSTAMP:20260421T013456
CREATED:20260128T025506Z
LAST-MODIFIED:20260226T043924Z
UID:10004409-1772116200-1772119800@eaglepointseniorliving.com
SUMMARY:Spin the Wheel and Solve
DESCRIPTION:
URL:https://eaglepointseniorliving.com/event-calendar/spin-the-wheel-and-solve/
LOCATION:Activity room
CATEGORIES:Memory Care
END:VEVENT
BEGIN:VEVENT
DTSTART;TZID=America/Chicago:20260226T153000
DTEND;TZID=America/Chicago:20260226T163000
DTSTAMP:20260421T013456
CREATED:20260128T025506Z
LAST-MODIFIED:20260226T043924Z
UID:10004410-1772119800-1772123400@eaglepointseniorliving.com
SUMMARY:Read A Long-"Remembering a Day at the Hairdresser"
DESCRIPTION:
URL:https://eaglepointseniorliving.com/event-calendar/sing-a-long-18/
LOCATION:Activity room
CATEGORIES:Memory Care
END:VEVENT
BEGIN:VEVENT
DTSTART;TZID=America/Chicago:20260226T173000
DTEND;TZID=America/Chicago:20260226T183000
DTSTAMP:20260421T013456
CREATED:20260131T025430Z
LAST-MODIFIED:20260226T043925Z
UID:10004470-1772127000-1772130600@eaglepointseniorliving.com
SUMMARY:Bingo with B!
DESCRIPTION:
URL:https://eaglepointseniorliving.com/event-calendar/bingo-with-b-4/
LOCATION:Activity room
CATEGORIES:Memory Care
END:VEVENT
BEGIN:VEVENT
DTSTART;TZID=America/Chicago:20260226T183000
DTEND;TZID=America/Chicago:20260226T191500
DTSTAMP:20260421T013456
CREATED:20260131T025430Z
LAST-MODIFIED:20260226T043925Z
UID:10004471-1772130600-1772133300@eaglepointseniorliving.com
SUMMARY:Creative Coloring
DESCRIPTION:
URL:https://eaglepointseniorliving.com/event-calendar/creative-coloring-11/
CATEGORIES:Memory Care
END:VEVENT
BEGIN:VEVENT
DTSTART;TZID=America/Chicago:20260226T190000
DTEND;TZID=America/Chicago:20260226T191500
DTSTAMP:20260421T013456
CREATED:20260128T025506Z
LAST-MODIFIED:20260226T043925Z
UID:10004411-1772132400-1772133300@eaglepointseniorliving.com
SUMMARY:Snack Pass
DESCRIPTION:
URL:https://eaglepointseniorliving.com/event-calendar/snack-pass-187/
LOCATION:Dining Room
CATEGORIES:Memory Care
END:VEVENT
END:VCALENDAR