BEGIN:VCALENDAR
VERSION:2.0
PRODID:-//Eagle Point Senior Living - ECPv6.11.2.1//NONSGML v1.0//EN
CALSCALE:GREGORIAN
METHOD:PUBLISH
X-ORIGINAL-URL:https://eaglepointseniorliving.com
X-WR-CALDESC:Events for Eagle Point Senior Living
REFRESH-INTERVAL;VALUE=DURATION:PT1H
X-Robots-Tag:noindex
X-PUBLISHED-TTL:PT1H
BEGIN:VTIMEZONE
TZID:America/Chicago
BEGIN:DAYLIGHT
TZOFFSETFROM:-0600
TZOFFSETTO:-0500
TZNAME:CDT
DTSTART:20260308T080000
END:DAYLIGHT
BEGIN:STANDARD
TZOFFSETFROM:-0500
TZOFFSETTO:-0600
TZNAME:CST
DTSTART:20261101T070000
END:STANDARD
END:VTIMEZONE
BEGIN:VEVENT
DTSTART;TZID=America/Chicago:20260216T080000
DTEND;TZID=America/Chicago:20260216T090000
DTSTAMP:20260421T013351
CREATED:20260118T023929Z
LAST-MODIFIED:20260216T043923Z
UID:10004248-1771228800-1771232400@eaglepointseniorliving.com
SUMMARY:Morning Melodies
DESCRIPTION:
URL:https://eaglepointseniorliving.com/event-calendar/morning-melodies-294/
CATEGORIES:Memory Care
END:VEVENT
BEGIN:VEVENT
DTSTART;TZID=America/Chicago:20260216T093000
DTEND;TZID=America/Chicago:20260216T100000
DTSTAMP:20260421T013351
CREATED:20260118T023929Z
LAST-MODIFIED:20260216T043923Z
UID:10004249-1771234200-1771236000@eaglepointseniorliving.com
SUMMARY:Fit While You Sit- Chair Exercise
DESCRIPTION:
URL:https://eaglepointseniorliving.com/event-calendar/fit-while-you-sit-chair-exercise-26/
CATEGORIES:Memory Care
END:VEVENT
BEGIN:VEVENT
DTSTART;TZID=America/Chicago:20260216T110000
DTEND;TZID=America/Chicago:20260216T114500
DTSTAMP:20260421T013351
CREATED:20260118T023930Z
LAST-MODIFIED:20260216T043923Z
UID:10004250-1771239600-1771242300@eaglepointseniorliving.com
SUMMARY:Wheel Of Fortune
DESCRIPTION:
URL:https://eaglepointseniorliving.com/event-calendar/wheel-of-fortune-36/
CATEGORIES:Memory Care
END:VEVENT
BEGIN:VEVENT
DTSTART;TZID=America/Chicago:20260216T120000
DTEND;TZID=America/Chicago:20260216T123000
DTSTAMP:20260421T013351
CREATED:20260118T023930Z
LAST-MODIFIED:20260216T043923Z
UID:10004251-1771243200-1771245000@eaglepointseniorliving.com
SUMMARY:Oshibori
DESCRIPTION:
URL:https://eaglepointseniorliving.com/event-calendar/oshibori-290/
CATEGORIES:Memory Care
END:VEVENT
BEGIN:VEVENT
DTSTART;TZID=America/Chicago:20260216T133000
DTEND;TZID=America/Chicago:20260216T143000
DTSTAMP:20260421T013351
CREATED:20260118T023930Z
LAST-MODIFIED:20260216T043923Z
UID:10004252-1771248600-1771252200@eaglepointseniorliving.com
SUMMARY:Movie Matinee
DESCRIPTION:
URL:https://eaglepointseniorliving.com/event-calendar/movie-matinee-17/
CATEGORIES:Memory Care
END:VEVENT
BEGIN:VEVENT
DTSTART;TZID=America/Chicago:20260216T140000
DTEND;TZID=America/Chicago:20260216T143000
DTSTAMP:20260421T013351
CREATED:20260118T023930Z
LAST-MODIFIED:20260216T043924Z
UID:10004253-1771250400-1771252200@eaglepointseniorliving.com
SUMMARY:Sip & Snacks
DESCRIPTION:
URL:https://eaglepointseniorliving.com/event-calendar/sip-snacks-3/
CATEGORIES:Memory Care
END:VEVENT
BEGIN:VEVENT
DTSTART;TZID=America/Chicago:20260216T153000
DTEND;TZID=America/Chicago:20260216T163000
DTSTAMP:20260421T013351
CREATED:20260118T023930Z
LAST-MODIFIED:20260216T043924Z
UID:10004254-1771255800-1771259400@eaglepointseniorliving.com
SUMMARY:Reminisce
DESCRIPTION:
URL:https://eaglepointseniorliving.com/event-calendar/reminisce-80/
CATEGORIES:Memory Care
END:VEVENT
BEGIN:VEVENT
DTSTART;TZID=America/Chicago:20260216T173000
DTEND;TZID=America/Chicago:20260216T183000
DTSTAMP:20260421T013351
CREATED:20260205T034057Z
LAST-MODIFIED:20260216T043924Z
UID:10004566-1771263000-1771266600@eaglepointseniorliving.com
SUMMARY:Game Night
DESCRIPTION:
URL:https://eaglepointseniorliving.com/event-calendar/game-night-2/
LOCATION:Activity room
CATEGORIES:Memory Care
END:VEVENT
BEGIN:VEVENT
DTSTART;TZID=America/Chicago:20260216T190000
DTEND;TZID=America/Chicago:20260216T191500
DTSTAMP:20260421T013351
CREATED:20260118T023930Z
LAST-MODIFIED:20260216T043924Z
UID:10004255-1771268400-1771269300@eaglepointseniorliving.com
SUMMARY:Snack Pass
DESCRIPTION:
URL:https://eaglepointseniorliving.com/event-calendar/snack-pass-177/
LOCATION:Dining Room
CATEGORIES:Memory Care
END:VEVENT
END:VCALENDAR