BEGIN:VCALENDAR
VERSION:2.0
PRODID:-//Eagle Point Senior Living - ECPv6.11.2.1//NONSGML v1.0//EN
CALSCALE:GREGORIAN
METHOD:PUBLISH
X-WR-CALNAME:Eagle Point Senior Living
X-ORIGINAL-URL:https://eaglepointseniorliving.com
X-WR-CALDESC:Events for Eagle Point Senior Living
REFRESH-INTERVAL;VALUE=DURATION:PT1H
X-Robots-Tag:noindex
X-PUBLISHED-TTL:PT1H
BEGIN:VTIMEZONE
TZID:America/Chicago
BEGIN:DAYLIGHT
TZOFFSETFROM:-0600
TZOFFSETTO:-0500
TZNAME:CDT
DTSTART:20260308T080000
END:DAYLIGHT
BEGIN:STANDARD
TZOFFSETFROM:-0500
TZOFFSETTO:-0600
TZNAME:CST
DTSTART:20261101T070000
END:STANDARD
END:VTIMEZONE
BEGIN:VEVENT
DTSTART;TZID=America/Chicago:20260213T080000
DTEND;TZID=America/Chicago:20260213T090000
DTSTAMP:20260421T013155
CREATED:20260115T022446Z
LAST-MODIFIED:20260213T043924Z
UID:10004219-1770969600-1770973200@eaglepointseniorliving.com
SUMMARY:Morning Melodies
DESCRIPTION:
URL:https://eaglepointseniorliving.com/event-calendar/morning-melodies-291/
CATEGORIES:Memory Care
END:VEVENT
BEGIN:VEVENT
DTSTART;TZID=America/Chicago:20260213T093000
DTEND;TZID=America/Chicago:20260213T100000
DTSTAMP:20260421T013155
CREATED:20260115T022446Z
LAST-MODIFIED:20260213T043924Z
UID:10004220-1770975000-1770976800@eaglepointseniorliving.com
SUMMARY:Fit While You Sit- Chair Exercise
DESCRIPTION:
URL:https://eaglepointseniorliving.com/event-calendar/fit-while-you-sit-chair-exercise-25/
CATEGORIES:Memory Care
END:VEVENT
BEGIN:VEVENT
DTSTART;TZID=America/Chicago:20260213T110000
DTEND;TZID=America/Chicago:20260213T114500
DTSTAMP:20260421T013155
CREATED:20260115T022446Z
LAST-MODIFIED:20260213T043924Z
UID:10004221-1770980400-1770983100@eaglepointseniorliving.com
SUMMARY:Valentines Day Cup Cake Decorating
DESCRIPTION:
URL:https://eaglepointseniorliving.com/event-calendar/valentines-day-cup-cake-decorating/
CATEGORIES:Memory Care
END:VEVENT
BEGIN:VEVENT
DTSTART;TZID=America/Chicago:20260213T110000
DTEND;TZID=America/Chicago:20260213T114500
DTSTAMP:20260421T013155
CREATED:20260204T032635Z
LAST-MODIFIED:20260213T043924Z
UID:10004541-1770980400-1770983100@eaglepointseniorliving.com
SUMMARY:Coffee & Chats
DESCRIPTION:
URL:https://eaglepointseniorliving.com/event-calendar/social-coffee-chats-2/
CATEGORIES:Memory Care
END:VEVENT
BEGIN:VEVENT
DTSTART;TZID=America/Chicago:20260213T120000
DTEND;TZID=America/Chicago:20260213T123000
DTSTAMP:20260421T013155
CREATED:20260115T022446Z
LAST-MODIFIED:20260213T043924Z
UID:10004222-1770984000-1770985800@eaglepointseniorliving.com
SUMMARY:Oshibori
DESCRIPTION:
URL:https://eaglepointseniorliving.com/event-calendar/oshibori-289/
CATEGORIES:Memory Care
END:VEVENT
BEGIN:VEVENT
DTSTART;TZID=America/Chicago:20260213T133000
DTEND;TZID=America/Chicago:20260213T143000
DTSTAMP:20260421T013155
CREATED:20260206T035425Z
LAST-MODIFIED:20260213T043924Z
UID:10004587-1770989400-1770993000@eaglepointseniorliving.com
SUMMARY:Valentine's Day Coloring and sharing
DESCRIPTION:Valentines Day Remembering
URL:https://eaglepointseniorliving.com/event-calendar/valentines-day-coloring-and-sharing/
LOCATION:Activity room
CATEGORIES:Memory Care
END:VEVENT
BEGIN:VEVENT
DTSTART;TZID=America/Chicago:20260213T143000
DTEND;TZID=America/Chicago:20260213T153000
DTSTAMP:20260421T013155
CREATED:20260131T025426Z
LAST-MODIFIED:20260213T043924Z
UID:10004460-1770993000-1770996600@eaglepointseniorliving.com
SUMMARY:Jeopardy
DESCRIPTION:
URL:https://eaglepointseniorliving.com/event-calendar/jeopardy-25/
LOCATION:Activity room
CATEGORIES:Memory Care
END:VEVENT
BEGIN:VEVENT
DTSTART;TZID=America/Chicago:20260213T153000
DTEND;TZID=America/Chicago:20260213T160000
DTSTAMP:20260421T013155
CREATED:20260210T042458Z
LAST-MODIFIED:20260213T043924Z
UID:10004638-1770996600-1770998400@eaglepointseniorliving.com
SUMMARY:Remembering Catherine O'Hara
DESCRIPTION:News Currents time capsule Speciality Design /Youtube top 10
URL:https://eaglepointseniorliving.com/event-calendar/remembering-catherine-ohara/
LOCATION:Activity room
CATEGORIES:Memory Care
END:VEVENT
BEGIN:VEVENT
DTSTART;TZID=America/Chicago:20260213T160000
DTEND;TZID=America/Chicago:20260213T163000
DTSTAMP:20260421T013155
CREATED:20260212T043922Z
LAST-MODIFIED:20260213T043924Z
UID:10004673-1770998400-1771000200@eaglepointseniorliving.com
SUMMARY:Friday Afternoon Sing A Long
DESCRIPTION:
URL:https://eaglepointseniorliving.com/event-calendar/friday-afternoon-sing-a-long/
LOCATION:Activity room
CATEGORIES:Memory Care
END:VEVENT
BEGIN:VEVENT
DTSTART;TZID=America/Chicago:20260213T190000
DTEND;TZID=America/Chicago:20260213T191500
DTSTAMP:20260421T013155
CREATED:20260115T022446Z
LAST-MODIFIED:20260213T043924Z
UID:10004224-1771009200-1771010100@eaglepointseniorliving.com
SUMMARY:Snack Pass
DESCRIPTION:
URL:https://eaglepointseniorliving.com/event-calendar/snack-pass-174/
LOCATION:Dining Room
CATEGORIES:Memory Care
END:VEVENT
END:VCALENDAR