BEGIN:VCALENDAR
VERSION:2.0
PRODID:-//Eagle Point Senior Living - ECPv6.11.2.1//NONSGML v1.0//EN
CALSCALE:GREGORIAN
METHOD:PUBLISH
X-ORIGINAL-URL:https://eaglepointseniorliving.com
X-WR-CALDESC:Events for Eagle Point Senior Living
REFRESH-INTERVAL;VALUE=DURATION:PT1H
X-Robots-Tag:noindex
X-PUBLISHED-TTL:PT1H
BEGIN:VTIMEZONE
TZID:America/Chicago
BEGIN:DAYLIGHT
TZOFFSETFROM:-0600
TZOFFSETTO:-0500
TZNAME:CDT
DTSTART:20260308T080000
END:DAYLIGHT
BEGIN:STANDARD
TZOFFSETFROM:-0500
TZOFFSETTO:-0600
TZNAME:CST
DTSTART:20261101T070000
END:STANDARD
END:VTIMEZONE
BEGIN:VEVENT
DTSTART;TZID=America/Chicago:20260211T080000
DTEND;TZID=America/Chicago:20260211T090000
DTSTAMP:20260421T013456
CREATED:20260113T021326Z
LAST-MODIFIED:20260211T043924Z
UID:10004171-1770796800-1770800400@eaglepointseniorliving.com
SUMMARY:Morning Melodies
DESCRIPTION:
URL:https://eaglepointseniorliving.com/event-calendar/morning-melodies-289/
CATEGORIES:Memory Care
END:VEVENT
BEGIN:VEVENT
DTSTART;TZID=America/Chicago:20260211T093000
DTEND;TZID=America/Chicago:20260211T100000
DTSTAMP:20260421T013456
CREATED:20260113T021326Z
LAST-MODIFIED:20260211T043924Z
UID:10004172-1770802200-1770804000@eaglepointseniorliving.com
SUMMARY:Fit While You Sit- Chair Exercise
DESCRIPTION:
URL:https://eaglepointseniorliving.com/event-calendar/fit-while-you-sit-chair-exercise-24/
CATEGORIES:Memory Care
END:VEVENT
BEGIN:VEVENT
DTSTART;TZID=America/Chicago:20260211T100000
DTEND;TZID=America/Chicago:20260211T103000
DTSTAMP:20260421T013456
CREATED:20260113T021326Z
LAST-MODIFIED:20260211T043924Z
UID:10004173-1770804000-1770805800@eaglepointseniorliving.com
SUMMARY:Weekly Worship
DESCRIPTION:Christian worship service with communion led by Chaplain Peter.
URL:https://eaglepointseniorliving.com/event-calendar/weekly-worship-35/
CATEGORIES:Memory Care
END:VEVENT
BEGIN:VEVENT
DTSTART;TZID=America/Chicago:20260211T120000
DTEND;TZID=America/Chicago:20260211T123000
DTSTAMP:20260421T013456
CREATED:20260113T021326Z
LAST-MODIFIED:20260211T043924Z
UID:10004175-1770811200-1770813000@eaglepointseniorliving.com
SUMMARY:Oshibori
DESCRIPTION:
URL:https://eaglepointseniorliving.com/event-calendar/oshibori-287/
CATEGORIES:Memory Care
END:VEVENT
BEGIN:VEVENT
DTSTART;TZID=America/Chicago:20260211T133000
DTEND;TZID=America/Chicago:20260211T141500
DTSTAMP:20260421T013456
CREATED:20260113T021326Z
LAST-MODIFIED:20260211T043924Z
UID:10004177-1770816600-1770819300@eaglepointseniorliving.com
SUMMARY:Active Games & Phyical Movement Activity
DESCRIPTION:
URL:https://eaglepointseniorliving.com/event-calendar/active-games-phyical-movement-activity-20/
LOCATION:Activity room
CATEGORIES:Memory Care
END:VEVENT
BEGIN:VEVENT
DTSTART;TZID=America/Chicago:20260211T143000
DTEND;TZID=America/Chicago:20260211T150000
DTSTAMP:20260421T013456
CREATED:20260113T021326Z
LAST-MODIFIED:20260211T043924Z
UID:10004176-1770820200-1770822000@eaglepointseniorliving.com
SUMMARY:Short Stories-Valentine's Day Edition
DESCRIPTION:
URL:https://eaglepointseniorliving.com/event-calendar/fireside-stories-chicken-soup-for-the-soul-6/
LOCATION:Fireplace Room
CATEGORIES:Memory Care
END:VEVENT
BEGIN:VEVENT
DTSTART;TZID=America/Chicago:20260211T150000
DTEND;TZID=America/Chicago:20260211T160000
DTSTAMP:20260421T013456
CREATED:20260131T025426Z
LAST-MODIFIED:20260211T043924Z
UID:10004455-1770822000-1770825600@eaglepointseniorliving.com
SUMMARY:Valentine's Tea Time
DESCRIPTION:
URL:https://eaglepointseniorliving.com/event-calendar/tea-time-daily-delights-newspaper-reading/
LOCATION:Dining Room
CATEGORIES:Memory Care
END:VEVENT
BEGIN:VEVENT
DTSTART;TZID=America/Chicago:20260211T180000
DTEND;TZID=America/Chicago:20260211T183000
DTSTAMP:20260421T013456
CREATED:20260131T025426Z
LAST-MODIFIED:20260211T043924Z
UID:10004456-1770832800-1770834600@eaglepointseniorliving.com
SUMMARY:Yoga with the Traveling Yogi
DESCRIPTION:
URL:https://eaglepointseniorliving.com/event-calendar/yoga-with-the-traveling-yogi-6/
LOCATION:Activity room
CATEGORIES:Memory Care
END:VEVENT
BEGIN:VEVENT
DTSTART;TZID=America/Chicago:20260211T183000
DTEND;TZID=America/Chicago:20260211T190000
DTSTAMP:20260421T013456
CREATED:20260131T025426Z
LAST-MODIFIED:20260211T043924Z
UID:10004457-1770834600-1770836400@eaglepointseniorliving.com
SUMMARY:The Lucy Show!
DESCRIPTION:
URL:https://eaglepointseniorliving.com/event-calendar/i-love-lucy-2/
LOCATION:Dining Room
CATEGORIES:Memory Care
END:VEVENT
BEGIN:VEVENT
DTSTART;TZID=America/Chicago:20260211T190000
DTEND;TZID=America/Chicago:20260211T191500
DTSTAMP:20260421T013456
CREATED:20260113T021337Z
LAST-MODIFIED:20260211T043924Z
UID:10004179-1770836400-1770837300@eaglepointseniorliving.com
SUMMARY:Snack Pass
DESCRIPTION:
URL:https://eaglepointseniorliving.com/event-calendar/snack-pass-172/
LOCATION:Dining Room
CATEGORIES:Memory Care
END:VEVENT
END:VCALENDAR