BEGIN:VCALENDAR
VERSION:2.0
PRODID:-//Eagle Point Senior Living - ECPv6.11.2.1//NONSGML v1.0//EN
CALSCALE:GREGORIAN
METHOD:PUBLISH
X-ORIGINAL-URL:https://eaglepointseniorliving.com
X-WR-CALDESC:Events for Eagle Point Senior Living
REFRESH-INTERVAL;VALUE=DURATION:PT1H
X-Robots-Tag:noindex
X-PUBLISHED-TTL:PT1H
BEGIN:VTIMEZONE
TZID:America/Chicago
BEGIN:DAYLIGHT
TZOFFSETFROM:-0600
TZOFFSETTO:-0500
TZNAME:CDT
DTSTART:20260308T080000
END:DAYLIGHT
BEGIN:STANDARD
TZOFFSETFROM:-0500
TZOFFSETTO:-0600
TZNAME:CST
DTSTART:20261101T070000
END:STANDARD
END:VTIMEZONE
BEGIN:VEVENT
DTSTART;TZID=America/Chicago:20260119T080000
DTEND;TZID=America/Chicago:20260119T090000
DTSTAMP:20260421T043555
CREATED:20251224T013934Z
LAST-MODIFIED:20260119T024100Z
UID:10003806-1768809600-1768813200@eaglepointseniorliving.com
SUMMARY:Morning Melodies
DESCRIPTION:
URL:https://eaglepointseniorliving.com/event-calendar/morning-melodies-266/
CATEGORIES:Memory Care
END:VEVENT
BEGIN:VEVENT
DTSTART;TZID=America/Chicago:20260119T093000
DTEND;TZID=America/Chicago:20260119T100000
DTSTAMP:20260421T043555
CREATED:20251224T013934Z
LAST-MODIFIED:20260119T024100Z
UID:10003807-1768815000-1768816800@eaglepointseniorliving.com
SUMMARY:Fit While You Sit- Chair Exercise
DESCRIPTION:
URL:https://eaglepointseniorliving.com/event-calendar/fit-while-you-sit-chair-exercise-10/
CATEGORIES:Memory Care
END:VEVENT
BEGIN:VEVENT
DTSTART;TZID=America/Chicago:20260119T110000
DTEND;TZID=America/Chicago:20260119T114500
DTSTAMP:20260421T043555
CREATED:20251231T015443Z
LAST-MODIFIED:20260119T024100Z
UID:10003934-1768820400-1768823100@eaglepointseniorliving.com
SUMMARY:Wheel Of Fortune
DESCRIPTION:
URL:https://eaglepointseniorliving.com/event-calendar/wheel-of-fortune-26/
CATEGORIES:Memory Care
END:VEVENT
BEGIN:VEVENT
DTSTART;TZID=America/Chicago:20260119T120000
DTEND;TZID=America/Chicago:20260119T123000
DTSTAMP:20260421T043555
CREATED:20251231T015443Z
LAST-MODIFIED:20260119T024100Z
UID:10003935-1768824000-1768825800@eaglepointseniorliving.com
SUMMARY:Oshibori
DESCRIPTION:
URL:https://eaglepointseniorliving.com/event-calendar/oshibori-270/
CATEGORIES:Memory Care
END:VEVENT
BEGIN:VEVENT
DTSTART;TZID=America/Chicago:20260119T133000
DTEND;TZID=America/Chicago:20260119T143000
DTSTAMP:20260421T043555
CREATED:20251231T015443Z
LAST-MODIFIED:20260119T024100Z
UID:10003936-1768829400-1768833000@eaglepointseniorliving.com
SUMMARY:Movie Matinee
DESCRIPTION:
URL:https://eaglepointseniorliving.com/event-calendar/movie-matinee-13/
CATEGORIES:Memory Care
END:VEVENT
BEGIN:VEVENT
DTSTART;TZID=America/Chicago:20260119T153000
DTEND;TZID=America/Chicago:20260119T163000
DTSTAMP:20260421T043555
CREATED:20260110T020928Z
LAST-MODIFIED:20260119T024100Z
UID:10004117-1768836600-1768840200@eaglepointseniorliving.com
SUMMARY:Reminisce
DESCRIPTION:
URL:https://eaglepointseniorliving.com/event-calendar/reminisce-75/
CATEGORIES:Memory Care
END:VEVENT
BEGIN:VEVENT
DTSTART;TZID=America/Chicago:20260119T190000
DTEND;TZID=America/Chicago:20260119T191500
DTSTAMP:20260421T043555
CREATED:20251224T013934Z
LAST-MODIFIED:20260119T024100Z
UID:10003808-1768849200-1768850100@eaglepointseniorliving.com
SUMMARY:Snack Pass
DESCRIPTION:
URL:https://eaglepointseniorliving.com/event-calendar/snack-pass-148/
LOCATION:Dining Room
CATEGORIES:Memory Care
END:VEVENT
END:VCALENDAR