BEGIN:VCALENDAR
VERSION:2.0
PRODID:-//Eagle Point Senior Living - ECPv6.11.2.1//NONSGML v1.0//EN
CALSCALE:GREGORIAN
METHOD:PUBLISH
X-ORIGINAL-URL:https://eaglepointseniorliving.com
X-WR-CALDESC:Events for Eagle Point Senior Living
REFRESH-INTERVAL;VALUE=DURATION:PT1H
X-Robots-Tag:noindex
X-PUBLISHED-TTL:PT1H
BEGIN:VTIMEZONE
TZID:America/Chicago
BEGIN:DAYLIGHT
TZOFFSETFROM:-0600
TZOFFSETTO:-0500
TZNAME:CDT
DTSTART:20260308T080000
END:DAYLIGHT
BEGIN:STANDARD
TZOFFSETFROM:-0500
TZOFFSETTO:-0600
TZNAME:CST
DTSTART:20261101T070000
END:STANDARD
END:VTIMEZONE
BEGIN:VEVENT
DTSTART;TZID=America/Chicago:20260117T080000
DTEND;TZID=America/Chicago:20260117T090000
DTSTAMP:20260421T043446
CREATED:20251224T013933Z
LAST-MODIFIED:20260117T023923Z
UID:10003800-1768636800-1768640400@eaglepointseniorliving.com
SUMMARY:Morning Melodies
DESCRIPTION:
URL:https://eaglepointseniorliving.com/event-calendar/morning-melodies-264/
CATEGORIES:Memory Care
END:VEVENT
BEGIN:VEVENT
DTSTART;TZID=America/Chicago:20260117T100000
DTEND;TZID=America/Chicago:20260117T103000
DTSTAMP:20260421T043446
CREATED:20251219T010927Z
LAST-MODIFIED:20260117T023923Z
UID:10003698-1768644000-1768645800@eaglepointseniorliving.com
SUMMARY:Morning Doughnuts & Social
DESCRIPTION:
URL:https://eaglepointseniorliving.com/event-calendar/morning-doughnuts-social-7/
CATEGORIES:Memory Care
END:VEVENT
BEGIN:VEVENT
DTSTART;TZID=America/Chicago:20260117T100000
DTEND;TZID=America/Chicago:20260117T110000
DTSTAMP:20260421T043446
CREATED:20251219T010927Z
LAST-MODIFIED:20260117T023923Z
UID:10003699-1768644000-1768647600@eaglepointseniorliving.com
SUMMARY:Special Day Recognition-Betty White Day
DESCRIPTION:
URL:https://eaglepointseniorliving.com/event-calendar/special-day-recognition-3/
LOCATION:Dining Room
CATEGORIES:Memory Care
END:VEVENT
BEGIN:VEVENT
DTSTART;TZID=America/Chicago:20260117T110000
DTEND;TZID=America/Chicago:20260117T113000
DTSTAMP:20260421T043446
CREATED:20251219T010927Z
LAST-MODIFIED:20260117T023923Z
UID:10003700-1768647600-1768649400@eaglepointseniorliving.com
SUMMARY:TV Classics with Betty White
DESCRIPTION:
URL:https://eaglepointseniorliving.com/event-calendar/midmorning-with-brenda-4/
LOCATION:Dining Room
CATEGORIES:Memory Care
END:VEVENT
BEGIN:VEVENT
DTSTART;TZID=America/Chicago:20260117T140000
DTEND;TZID=America/Chicago:20260117T150000
DTSTAMP:20260421T043446
CREATED:20251219T010927Z
LAST-MODIFIED:20260117T023923Z
UID:10003701-1768658400-1768662000@eaglepointseniorliving.com
SUMMARY:Reminisce
DESCRIPTION:
URL:https://eaglepointseniorliving.com/event-calendar/reminisce-70/
CATEGORIES:Memory Care
END:VEVENT
BEGIN:VEVENT
DTSTART;TZID=America/Chicago:20260117T180000
DTEND;TZID=America/Chicago:20260117T190000
DTSTAMP:20260421T043446
CREATED:20251219T010927Z
LAST-MODIFIED:20260117T023923Z
UID:10003702-1768672800-1768676400@eaglepointseniorliving.com
SUMMARY:Movie & A Snack
DESCRIPTION:
URL:https://eaglepointseniorliving.com/event-calendar/movie-a-snack-36/
CATEGORIES:Memory Care
END:VEVENT
BEGIN:VEVENT
DTSTART;TZID=America/Chicago:20260117T190000
DTEND;TZID=America/Chicago:20260117T191500
DTSTAMP:20260421T043446
CREATED:20251224T013933Z
LAST-MODIFIED:20260117T023923Z
UID:10003801-1768676400-1768677300@eaglepointseniorliving.com
SUMMARY:Snack Pass
DESCRIPTION:
URL:https://eaglepointseniorliving.com/event-calendar/snack-pass-146/
LOCATION:Dining Room
CATEGORIES:Memory Care
END:VEVENT
END:VCALENDAR