BEGIN:VCALENDAR
VERSION:2.0
PRODID:-//Eagle Point Senior Living - ECPv6.11.2.1//NONSGML v1.0//EN
CALSCALE:GREGORIAN
METHOD:PUBLISH
X-ORIGINAL-URL:https://eaglepointseniorliving.com
X-WR-CALDESC:Events for Eagle Point Senior Living
REFRESH-INTERVAL;VALUE=DURATION:PT1H
X-Robots-Tag:noindex
X-PUBLISHED-TTL:PT1H
BEGIN:VTIMEZONE
TZID:America/Chicago
BEGIN:DAYLIGHT
TZOFFSETFROM:-0600
TZOFFSETTO:-0500
TZNAME:CDT
DTSTART:20260308T080000
END:DAYLIGHT
BEGIN:STANDARD
TZOFFSETFROM:-0500
TZOFFSETTO:-0600
TZNAME:CST
DTSTART:20261101T070000
END:STANDARD
END:VTIMEZONE
BEGIN:VEVENT
DTSTART;TZID=America/Chicago:20260114T080000
DTEND;TZID=America/Chicago:20260114T090000
DTSTAMP:20260421T030954
CREATED:20251224T013931Z
LAST-MODIFIED:20260114T022425Z
UID:10003790-1768377600-1768381200@eaglepointseniorliving.com
SUMMARY:Morning Melodies
DESCRIPTION:
URL:https://eaglepointseniorliving.com/event-calendar/morning-melodies-261/
CATEGORIES:Memory Care
END:VEVENT
BEGIN:VEVENT
DTSTART;TZID=America/Chicago:20260114T093000
DTEND;TZID=America/Chicago:20260114T100000
DTSTAMP:20260421T030954
CREATED:20251224T013931Z
LAST-MODIFIED:20260114T022425Z
UID:10003791-1768383000-1768384800@eaglepointseniorliving.com
SUMMARY:Fit While You Sit- Chair Exercise
DESCRIPTION:
URL:https://eaglepointseniorliving.com/event-calendar/fit-while-you-sit-chair-exercise-8/
CATEGORIES:Memory Care
END:VEVENT
BEGIN:VEVENT
DTSTART;TZID=America/Chicago:20260114T100000
DTEND;TZID=America/Chicago:20260114T103000
DTSTAMP:20260421T030954
CREATED:20251216T011005Z
LAST-MODIFIED:20260114T022425Z
UID:10003654-1768384800-1768386600@eaglepointseniorliving.com
SUMMARY:Weekly Worship
DESCRIPTION:Christian worship service with communion led by Chaplain Peter.
URL:https://eaglepointseniorliving.com/event-calendar/weekly-worship-31/
CATEGORIES:Memory Care
END:VEVENT
BEGIN:VEVENT
DTSTART;TZID=America/Chicago:20260114T110000
DTEND;TZID=America/Chicago:20260114T114500
DTSTAMP:20260421T030954
CREATED:20251224T013931Z
LAST-MODIFIED:20260114T022425Z
UID:10003792-1768388400-1768391100@eaglepointseniorliving.com
SUMMARY:Watercolor Wednesday
DESCRIPTION:
URL:https://eaglepointseniorliving.com/event-calendar/watercolor-wednesday-2/
CATEGORIES:Memory Care
END:VEVENT
BEGIN:VEVENT
DTSTART;TZID=America/Chicago:20260114T120000
DTEND;TZID=America/Chicago:20260114T123000
DTSTAMP:20260421T030954
CREATED:20251231T015441Z
LAST-MODIFIED:20260114T022425Z
UID:10003931-1768392000-1768393800@eaglepointseniorliving.com
SUMMARY:Oshibori
DESCRIPTION:
URL:https://eaglepointseniorliving.com/event-calendar/oshibori-267/
CATEGORIES:Memory Care
END:VEVENT
BEGIN:VEVENT
DTSTART;TZID=America/Chicago:20260114T133000
DTEND;TZID=America/Chicago:20260114T143000
DTSTAMP:20260421T030954
CREATED:20260108T020937Z
LAST-MODIFIED:20260114T022425Z
UID:10004087-1768397400-1768401000@eaglepointseniorliving.com
SUMMARY:Fireside Stories-Chicken Soup for the Soul
DESCRIPTION:
URL:https://eaglepointseniorliving.com/event-calendar/fireside-stories-chicken-soup-for-the-soul-2/
LOCATION:Fireplace Room
CATEGORIES:Memory Care
END:VEVENT
BEGIN:VEVENT
DTSTART;TZID=America/Chicago:20260114T143000
DTEND;TZID=America/Chicago:20260114T151500
DTSTAMP:20260421T030954
CREATED:20251216T011006Z
LAST-MODIFIED:20260114T022425Z
UID:10003656-1768401000-1768403700@eaglepointseniorliving.com
SUMMARY:Active Games & Phyical Movement Activity
DESCRIPTION:
URL:https://eaglepointseniorliving.com/event-calendar/active-games-phyical-movement-activity-16/
LOCATION:Activity room
CATEGORIES:Memory Care
END:VEVENT
BEGIN:VEVENT
DTSTART;TZID=America/Chicago:20260114T173000
DTEND;TZID=America/Chicago:20260114T180000
DTSTAMP:20260421T030954
CREATED:20260108T020937Z
LAST-MODIFIED:20260114T022425Z
UID:10004088-1768411800-1768413600@eaglepointseniorliving.com
SUMMARY:Daily Delights-Current Events
DESCRIPTION:
URL:https://eaglepointseniorliving.com/event-calendar/daily-delights-current-events/
LOCATION:Activity room
CATEGORIES:Memory Care
END:VEVENT
BEGIN:VEVENT
DTSTART;TZID=America/Chicago:20260114T180000
DTEND;TZID=America/Chicago:20260114T183000
DTSTAMP:20260421T030954
CREATED:20251216T011006Z
LAST-MODIFIED:20260114T022425Z
UID:10003657-1768413600-1768415400@eaglepointseniorliving.com
SUMMARY:Yoga with the Traveling Yogi
DESCRIPTION:
URL:https://eaglepointseniorliving.com/event-calendar/yoga-with-the-traveling-yogi-5/
CATEGORIES:Memory Care
END:VEVENT
BEGIN:VEVENT
DTSTART;TZID=America/Chicago:20260114T190000
DTEND;TZID=America/Chicago:20260114T191500
DTSTAMP:20260421T030954
CREATED:20251224T013931Z
LAST-MODIFIED:20260114T022425Z
UID:10003793-1768417200-1768418100@eaglepointseniorliving.com
SUMMARY:Snack Pass
DESCRIPTION:
URL:https://eaglepointseniorliving.com/event-calendar/snack-pass-143/
LOCATION:Dining Room
CATEGORIES:Memory Care
END:VEVENT
END:VCALENDAR