BEGIN:VCALENDAR
VERSION:2.0
PRODID:-//Eagle Point Senior Living - ECPv6.11.2.1//NONSGML v1.0//EN
CALSCALE:GREGORIAN
METHOD:PUBLISH
X-ORIGINAL-URL:https://eaglepointseniorliving.com
X-WR-CALDESC:Events for Eagle Point Senior Living
REFRESH-INTERVAL;VALUE=DURATION:PT1H
X-Robots-Tag:noindex
X-PUBLISHED-TTL:PT1H
BEGIN:VTIMEZONE
TZID:America/Chicago
BEGIN:DAYLIGHT
TZOFFSETFROM:-0600
TZOFFSETTO:-0500
TZNAME:CDT
DTSTART:20260308T080000
END:DAYLIGHT
BEGIN:STANDARD
TZOFFSETFROM:-0500
TZOFFSETTO:-0600
TZNAME:CST
DTSTART:20261101T070000
END:STANDARD
END:VTIMEZONE
BEGIN:VEVENT
DTSTART;TZID=America/Chicago:20260113T080000
DTEND;TZID=America/Chicago:20260113T090000
DTSTAMP:20260421T030952
CREATED:20251224T013930Z
LAST-MODIFIED:20260113T022436Z
UID:10003786-1768291200-1768294800@eaglepointseniorliving.com
SUMMARY:Morning Melodies
DESCRIPTION:
URL:https://eaglepointseniorliving.com/event-calendar/morning-melodies-260/
CATEGORIES:Memory Care
END:VEVENT
BEGIN:VEVENT
DTSTART;TZID=America/Chicago:20260113T093000
DTEND;TZID=America/Chicago:20260113T100000
DTSTAMP:20260421T030952
CREATED:20251224T013931Z
LAST-MODIFIED:20260113T022436Z
UID:10003787-1768296600-1768298400@eaglepointseniorliving.com
SUMMARY:Fit While You Sit- Chair Exercise
DESCRIPTION:
URL:https://eaglepointseniorliving.com/event-calendar/fit-while-you-sit-chair-exercise-7/
CATEGORIES:Memory Care
END:VEVENT
BEGIN:VEVENT
DTSTART;TZID=America/Chicago:20260113T100000
DTEND;TZID=America/Chicago:20260113T110000
DTSTAMP:20260421T030952
CREATED:20251215T010944Z
LAST-MODIFIED:20260113T022436Z
UID:10003642-1768298400-1768302000@eaglepointseniorliving.com
SUMMARY:Daily Spirit Spark
DESCRIPTION:Various spiritual topics and activities with Chaplain Peter.
URL:https://eaglepointseniorliving.com/event-calendar/daily-spirit-spark-96/
CATEGORIES:Memory Care
END:VEVENT
BEGIN:VEVENT
DTSTART;TZID=America/Chicago:20260113T110000
DTEND;TZID=America/Chicago:20260113T114500
DTSTAMP:20260421T030952
CREATED:20251224T013931Z
LAST-MODIFIED:20260113T022436Z
UID:10003788-1768302000-1768304700@eaglepointseniorliving.com
SUMMARY:Family Feud
DESCRIPTION:
URL:https://eaglepointseniorliving.com/event-calendar/team-trivia-tuesday-2/
CATEGORIES:Memory Care
END:VEVENT
BEGIN:VEVENT
DTSTART;TZID=America/Chicago:20260113T120000
DTEND;TZID=America/Chicago:20260113T123000
DTSTAMP:20260421T030952
CREATED:20251231T015441Z
LAST-MODIFIED:20260113T022436Z
UID:10003929-1768305600-1768307400@eaglepointseniorliving.com
SUMMARY:Oshibori
DESCRIPTION:
URL:https://eaglepointseniorliving.com/event-calendar/oshibori-266/
CATEGORIES:Memory Care
END:VEVENT
BEGIN:VEVENT
DTSTART;TZID=America/Chicago:20260113T140000
DTEND;TZID=America/Chicago:20260113T150000
DTSTAMP:20260421T030952
CREATED:20260110T020924Z
LAST-MODIFIED:20260113T022436Z
UID:10004116-1768312800-1768316400@eaglepointseniorliving.com
SUMMARY:Sips & Snack
DESCRIPTION:
URL:https://eaglepointseniorliving.com/event-calendar/sips-snack/
CATEGORIES:Memory Care
END:VEVENT
BEGIN:VEVENT
DTSTART;TZID=America/Chicago:20260113T180000
DTEND;TZID=America/Chicago:20260113T190000
DTSTAMP:20260421T030952
CREATED:20251215T010944Z
LAST-MODIFIED:20260113T022436Z
UID:10003643-1768327200-1768330800@eaglepointseniorliving.com
SUMMARY:Bingo With Dawn
DESCRIPTION:Bingo is a fun\, low-pressure game that supports cognitive skills like memory\, attention\, and pattern recognition while encouraging social interaction and emotional well-being. Its adaptability makes it accessible for various ability levels\, offering joy\, routine\, and community.
URL:https://eaglepointseniorliving.com/event-calendar/bingo-with-dawn-31/
CATEGORIES:Memory Care
END:VEVENT
BEGIN:VEVENT
DTSTART;TZID=America/Chicago:20260113T190000
DTEND;TZID=America/Chicago:20260113T191500
DTSTAMP:20260421T030952
CREATED:20251224T013931Z
LAST-MODIFIED:20260113T022436Z
UID:10003789-1768330800-1768331700@eaglepointseniorliving.com
SUMMARY:Snack Pass
DESCRIPTION:
URL:https://eaglepointseniorliving.com/event-calendar/snack-pass-142/
LOCATION:Dining Room
CATEGORIES:Memory Care
END:VEVENT
END:VCALENDAR