BEGIN:VCALENDAR
VERSION:2.0
PRODID:-//Eagle Point Senior Living - ECPv6.11.2.1//NONSGML v1.0//EN
CALSCALE:GREGORIAN
METHOD:PUBLISH
X-WR-CALNAME:Eagle Point Senior Living
X-ORIGINAL-URL:https://eaglepointseniorliving.com
X-WR-CALDESC:Events for Eagle Point Senior Living
REFRESH-INTERVAL;VALUE=DURATION:PT1H
X-Robots-Tag:noindex
X-PUBLISHED-TTL:PT1H
BEGIN:VTIMEZONE
TZID:America/Chicago
BEGIN:DAYLIGHT
TZOFFSETFROM:-0600
TZOFFSETTO:-0500
TZNAME:CDT
DTSTART:20260308T080000
END:DAYLIGHT
BEGIN:STANDARD
TZOFFSETFROM:-0500
TZOFFSETTO:-0600
TZNAME:CST
DTSTART:20261101T070000
END:STANDARD
END:VTIMEZONE
BEGIN:VEVENT
DTSTART;TZID=America/Chicago:20260112T080000
DTEND;TZID=America/Chicago:20260112T090000
DTSTAMP:20260421T030623
CREATED:20251224T013930Z
LAST-MODIFIED:20260112T020922Z
UID:10003783-1768204800-1768208400@eaglepointseniorliving.com
SUMMARY:Morning Melodies
DESCRIPTION:
URL:https://eaglepointseniorliving.com/event-calendar/morning-melodies-259/
CATEGORIES:Memory Care
END:VEVENT
BEGIN:VEVENT
DTSTART;TZID=America/Chicago:20260112T093000
DTEND;TZID=America/Chicago:20260112T100000
DTSTAMP:20260421T030623
CREATED:20251224T013930Z
LAST-MODIFIED:20260112T020922Z
UID:10003784-1768210200-1768212000@eaglepointseniorliving.com
SUMMARY:Fit While You Sit- Chair Exercise
DESCRIPTION:
URL:https://eaglepointseniorliving.com/event-calendar/fit-while-you-sit-chair-exercise-6/
CATEGORIES:Memory Care
END:VEVENT
BEGIN:VEVENT
DTSTART;TZID=America/Chicago:20260112T110000
DTEND;TZID=America/Chicago:20260112T114500
DTSTAMP:20260421T030623
CREATED:20251231T015440Z
LAST-MODIFIED:20260112T020922Z
UID:10003926-1768215600-1768218300@eaglepointseniorliving.com
SUMMARY:Wheel Of Fortune
DESCRIPTION:
URL:https://eaglepointseniorliving.com/event-calendar/wheel-of-fortune-25/
CATEGORIES:Memory Care
END:VEVENT
BEGIN:VEVENT
DTSTART;TZID=America/Chicago:20260112T120000
DTEND;TZID=America/Chicago:20260112T123000
DTSTAMP:20260421T030623
CREATED:20251231T015440Z
LAST-MODIFIED:20260112T020922Z
UID:10003927-1768219200-1768221000@eaglepointseniorliving.com
SUMMARY:Oshibori
DESCRIPTION:
URL:https://eaglepointseniorliving.com/event-calendar/oshibori-265/
CATEGORIES:Memory Care
END:VEVENT
BEGIN:VEVENT
DTSTART;TZID=America/Chicago:20260112T133000
DTEND;TZID=America/Chicago:20260112T143000
DTSTAMP:20260421T030623
CREATED:20251231T015440Z
LAST-MODIFIED:20260112T020922Z
UID:10003928-1768224600-1768228200@eaglepointseniorliving.com
SUMMARY:Movie Matinee
DESCRIPTION:
URL:https://eaglepointseniorliving.com/event-calendar/movie-matinee-12/
CATEGORIES:Memory Care
END:VEVENT
BEGIN:VEVENT
DTSTART;TZID=America/Chicago:20260112T153000
DTEND;TZID=America/Chicago:20260112T163000
DTSTAMP:20260421T030623
CREATED:20260110T020924Z
LAST-MODIFIED:20260112T020922Z
UID:10004114-1768231800-1768235400@eaglepointseniorliving.com
SUMMARY:Reminisce
DESCRIPTION:
URL:https://eaglepointseniorliving.com/event-calendar/reminisce-74/
CATEGORIES:Memory Care
END:VEVENT
BEGIN:VEVENT
DTSTART;TZID=America/Chicago:20260112T190000
DTEND;TZID=America/Chicago:20260112T191500
DTSTAMP:20260421T030623
CREATED:20251224T013930Z
LAST-MODIFIED:20260112T020922Z
UID:10003785-1768244400-1768245300@eaglepointseniorliving.com
SUMMARY:Snack Pass
DESCRIPTION:
URL:https://eaglepointseniorliving.com/event-calendar/snack-pass-141/
LOCATION:Dining Room
CATEGORIES:Memory Care
END:VEVENT
END:VCALENDAR