BEGIN:VCALENDAR
VERSION:2.0
PRODID:-//Eagle Point Senior Living - ECPv6.11.2.1//NONSGML v1.0//EN
CALSCALE:GREGORIAN
METHOD:PUBLISH
X-WR-CALNAME:Eagle Point Senior Living
X-ORIGINAL-URL:https://eaglepointseniorliving.com
X-WR-CALDESC:Events for Eagle Point Senior Living
REFRESH-INTERVAL;VALUE=DURATION:PT1H
X-Robots-Tag:noindex
X-PUBLISHED-TTL:PT1H
BEGIN:VTIMEZONE
TZID:America/Chicago
BEGIN:DAYLIGHT
TZOFFSETFROM:-0600
TZOFFSETTO:-0500
TZNAME:CDT
DTSTART:20260308T080000
END:DAYLIGHT
BEGIN:STANDARD
TZOFFSETFROM:-0500
TZOFFSETTO:-0600
TZNAME:CST
DTSTART:20261101T070000
END:STANDARD
END:VTIMEZONE
BEGIN:VEVENT
DTSTART;TZID=America/Chicago:20260111T080000
DTEND;TZID=America/Chicago:20260111T090000
DTSTAMP:20260421T030637
CREATED:20251224T013930Z
LAST-MODIFIED:20260111T020951Z
UID:10003779-1768118400-1768122000@eaglepointseniorliving.com
SUMMARY:Morning Melodies
DESCRIPTION:
URL:https://eaglepointseniorliving.com/event-calendar/morning-melodies-258/
CATEGORIES:Memory Care
END:VEVENT
BEGIN:VEVENT
DTSTART;TZID=America/Chicago:20260111T093000
DTEND;TZID=America/Chicago:20260111T103000
DTSTAMP:20260421T030637
CREATED:20251224T013930Z
LAST-MODIFIED:20260111T020951Z
UID:10003780-1768123800-1768127400@eaglepointseniorliving.com
SUMMARY:Daliy Delights
DESCRIPTION:
URL:https://eaglepointseniorliving.com/event-calendar/daliy-delights-3/
CATEGORIES:Memory Care
END:VEVENT
BEGIN:VEVENT
DTSTART;TZID=America/Chicago:20260111T110000
DTEND;TZID=America/Chicago:20260111T114500
DTSTAMP:20260421T030637
CREATED:20251224T013930Z
LAST-MODIFIED:20260111T020951Z
UID:10003781-1768129200-1768131900@eaglepointseniorliving.com
SUMMARY:Creative Calm Coloring
DESCRIPTION:
URL:https://eaglepointseniorliving.com/event-calendar/creative-calm-coloring-3/
CATEGORIES:Memory Care
END:VEVENT
BEGIN:VEVENT
DTSTART;TZID=America/Chicago:20260111T190000
DTEND;TZID=America/Chicago:20260111T191500
DTSTAMP:20260421T030637
CREATED:20251224T013930Z
LAST-MODIFIED:20260111T020951Z
UID:10003782-1768158000-1768158900@eaglepointseniorliving.com
SUMMARY:Snack Pass
DESCRIPTION:
URL:https://eaglepointseniorliving.com/event-calendar/snack-pass-140/
LOCATION:Dining Room
CATEGORIES:Memory Care
END:VEVENT
END:VCALENDAR