BEGIN:VCALENDAR
VERSION:2.0
PRODID:-//Eagle Point Senior Living - ECPv6.11.2.1//NONSGML v1.0//EN
CALSCALE:GREGORIAN
METHOD:PUBLISH
X-ORIGINAL-URL:https://eaglepointseniorliving.com
X-WR-CALDESC:Events for Eagle Point Senior Living
REFRESH-INTERVAL;VALUE=DURATION:PT1H
X-Robots-Tag:noindex
X-PUBLISHED-TTL:PT1H
BEGIN:VTIMEZONE
TZID:America/Chicago
BEGIN:DAYLIGHT
TZOFFSETFROM:-0600
TZOFFSETTO:-0500
TZNAME:CDT
DTSTART:20260308T080000
END:DAYLIGHT
BEGIN:STANDARD
TZOFFSETFROM:-0500
TZOFFSETTO:-0600
TZNAME:CST
DTSTART:20261101T070000
END:STANDARD
END:VTIMEZONE
BEGIN:VEVENT
DTSTART;TZID=America/Chicago:20260108T080000
DTEND;TZID=America/Chicago:20260108T090000
DTSTAMP:20260421T030832
CREATED:20251224T013928Z
LAST-MODIFIED:20260108T020936Z
UID:10003771-1767859200-1767862800@eaglepointseniorliving.com
SUMMARY:Morning Melodies
DESCRIPTION:
URL:https://eaglepointseniorliving.com/event-calendar/morning-melodies-255/
CATEGORIES:Memory Care
END:VEVENT
BEGIN:VEVENT
DTSTART;TZID=America/Chicago:20260108T093000
DTEND;TZID=America/Chicago:20260108T103000
DTSTAMP:20260421T030832
CREATED:20251213T010928Z
LAST-MODIFIED:20260108T020936Z
UID:10003618-1767864600-1767868200@eaglepointseniorliving.com
SUMMARY:News Currents-George Washington Carver
DESCRIPTION:
URL:https://eaglepointseniorliving.com/event-calendar/news-currents-24/
LOCATION:Activity room
CATEGORIES:Memory Care
END:VEVENT
BEGIN:VEVENT
DTSTART;TZID=America/Chicago:20260108T100000
DTEND;TZID=America/Chicago:20260108T110000
DTSTAMP:20260421T030832
CREATED:20251210T005432Z
LAST-MODIFIED:20260108T020936Z
UID:10003572-1767866400-1767870000@eaglepointseniorliving.com
SUMMARY:Daily Spirit Spark
DESCRIPTION:Various spiritual topics and activities with Chaplain Peter.
URL:https://eaglepointseniorliving.com/event-calendar/daily-spirit-spark-94/
CATEGORIES:Memory Care
END:VEVENT
BEGIN:VEVENT
DTSTART;TZID=America/Chicago:20260108T110000
DTEND;TZID=America/Chicago:20260108T113000
DTSTAMP:20260421T030832
CREATED:20251213T010928Z
LAST-MODIFIED:20260108T020936Z
UID:10003619-1767870000-1767871800@eaglepointseniorliving.com
SUMMARY:Today's Special-Canada Bluenose Day
DESCRIPTION:
URL:https://eaglepointseniorliving.com/event-calendar/todays-special-11/
LOCATION:Activity room
CATEGORIES:Memory Care
END:VEVENT
BEGIN:VEVENT
DTSTART;TZID=America/Chicago:20260108T120000
DTEND;TZID=America/Chicago:20260108T123000
DTSTAMP:20260421T030832
CREATED:20251231T015439Z
LAST-MODIFIED:20260108T020936Z
UID:10003924-1767873600-1767875400@eaglepointseniorliving.com
SUMMARY:Oshibori
DESCRIPTION:
URL:https://eaglepointseniorliving.com/event-calendar/oshibori-263/
CATEGORIES:Memory Care
END:VEVENT
BEGIN:VEVENT
DTSTART;TZID=America/Chicago:20260108T130000
DTEND;TZID=America/Chicago:20260108T133000
DTSTAMP:20260421T030832
CREATED:20251213T010928Z
LAST-MODIFIED:20260108T020936Z
UID:10003620-1767877200-1767879000@eaglepointseniorliving.com
SUMMARY:Jeopardy
DESCRIPTION:
URL:https://eaglepointseniorliving.com/event-calendar/jeopardy-20/
LOCATION:Activity room
CATEGORIES:Memory Care
END:VEVENT
BEGIN:VEVENT
DTSTART;TZID=America/Chicago:20260108T133000
DTEND;TZID=America/Chicago:20260108T143000
DTSTAMP:20260421T030832
CREATED:20251210T005432Z
LAST-MODIFIED:20260108T020936Z
UID:10003573-1767879000-1767882600@eaglepointseniorliving.com
SUMMARY:Reading Together-"Tales of the Last Frontier"
DESCRIPTION:
URL:https://eaglepointseniorliving.com/event-calendar/reading-together-9/
LOCATION:Activity room
CATEGORIES:Memory Care
END:VEVENT
BEGIN:VEVENT
DTSTART;TZID=America/Chicago:20260108T143000
DTEND;TZID=America/Chicago:20260108T153000
DTSTAMP:20260421T030832
CREATED:20251210T005432Z
LAST-MODIFIED:20260108T020936Z
UID:10003574-1767882600-1767886200@eaglepointseniorliving.com
SUMMARY:Location of the Week-Alaska
DESCRIPTION:
URL:https://eaglepointseniorliving.com/event-calendar/location-of-the-week-5/
LOCATION:Activity room
CATEGORIES:Memory Care
END:VEVENT
BEGIN:VEVENT
DTSTART;TZID=America/Chicago:20260108T153000
DTEND;TZID=America/Chicago:20260108T163000
DTSTAMP:20260421T030832
CREATED:20251210T005432Z
LAST-MODIFIED:20260108T020936Z
UID:10003575-1767886200-1767889800@eaglepointseniorliving.com
SUMMARY:Sing A Long
DESCRIPTION:
URL:https://eaglepointseniorliving.com/event-calendar/sing-a-long-11/
LOCATION:Activity room
CATEGORIES:Memory Care
END:VEVENT
BEGIN:VEVENT
DTSTART;TZID=America/Chicago:20260108T190000
DTEND;TZID=America/Chicago:20260108T191500
DTSTAMP:20260421T030832
CREATED:20251224T013929Z
LAST-MODIFIED:20260108T020936Z
UID:10003772-1767898800-1767899700@eaglepointseniorliving.com
SUMMARY:Snack Pass
DESCRIPTION:
URL:https://eaglepointseniorliving.com/event-calendar/snack-pass-137/
LOCATION:Dining Room
CATEGORIES:Memory Care
END:VEVENT
END:VCALENDAR